BEGIN:VCALENDAR
VERSION:2.0
PRODID:-//Minnesota South Area Al-Anon - ECPv6.15.20//NONSGML v1.0//EN
CALSCALE:GREGORIAN
METHOD:PUBLISH
X-ORIGINAL-URL:https://mnsa-afg.org
X-WR-CALDESC:Events for Minnesota South Area Al-Anon
REFRESH-INTERVAL;VALUE=DURATION:PT1H
X-Robots-Tag:noindex
X-PUBLISHED-TTL:PT1H
BEGIN:VTIMEZONE
TZID:America/Chicago
BEGIN:DAYLIGHT
TZOFFSETFROM:-0600
TZOFFSETTO:-0500
TZNAME:CDT
DTSTART:20250309T080000
END:DAYLIGHT
BEGIN:STANDARD
TZOFFSETFROM:-0500
TZOFFSETTO:-0600
TZNAME:CST
DTSTART:20251102T070000
END:STANDARD
BEGIN:DAYLIGHT
TZOFFSETFROM:-0600
TZOFFSETTO:-0500
TZNAME:CDT
DTSTART:20260308T080000
END:DAYLIGHT
BEGIN:STANDARD
TZOFFSETFROM:-0500
TZOFFSETTO:-0600
TZNAME:CST
DTSTART:20261101T070000
END:STANDARD
BEGIN:DAYLIGHT
TZOFFSETFROM:-0600
TZOFFSETTO:-0500
TZNAME:CDT
DTSTART:20270314T080000
END:DAYLIGHT
BEGIN:STANDARD
TZOFFSETFROM:-0500
TZOFFSETTO:-0600
TZNAME:CST
DTSTART:20271107T070000
END:STANDARD
END:VTIMEZONE
BEGIN:VEVENT
DTSTART;TZID=America/Chicago:20260424T180000
DTEND;TZID=America/Chicago:20260426T120000
DTSTAMP:20260421T064744
CREATED:20260112T174651Z
LAST-MODIFIED:20260411T210156Z
UID:8422-1777053600-1777204800@mnsa-afg.org
SUMMARY:International Native American Al-Anon Conference (NAAC)
DESCRIPTION:NAAC is an Al Anon Conference with AA participation.  Everyone (native and non-native) is invited to attend including all Al-Anon\, Alateen\, and AA members! \nEvent is 4-24-26 6pm through 4-26-26 12pm (noon).  Childcare is available \nFor more information please see the attached flyer or email nativealanonconference@gmail.com \n\n\n\n    \n        \n            \n            \n                NAAC April 2026 Flyer\n                 1 file(s)  5.91 MB\n            \n            \n                Download
URL:https://mnsa-afg.org/event/native-american-al-anon-conference/
LOCATION:DoubleTree at Hilton Park Place\, 1500 Park Place\, St Louis Park\, MN\, 55416\, United States
CATEGORIES:Al-Anon,Special Event
ORGANIZER;CN="Native Al-Anon Conference (NAAC)":MAILTO:nativealanonconference@gmail.com
END:VEVENT
BEGIN:VEVENT
DTSTART;VALUE=DATE:20260425
DTEND;VALUE=DATE:20260426
DTSTAMP:20260421T064744
CREATED:20260118T022130Z
LAST-MODIFIED:20260314T151745Z
UID:8467-1777075200-1777161599@mnsa-afg.org
SUMMARY:World Service Office (WSO) 75th Anniversary Gala Banquet & Open House
DESCRIPTION:From its early beginnings as the Clearing House\, founded by Lois W. and Anne B. in 1951\, to its formal incorporation as a nonprofit under the name Al‑Anon Family Group Headquarters\, Inc. in 1954\, the World Service Office (WSO) has been the heart of Al‑Anon service for over 75 years! \nJoin us in commemorating this remarkable milestone with a special day of celebration\, beginning with a heartfelt welcome at our World Service Office! \n\n\n\n\n\n\n\n\n\n\n\n\n\nStart with a Special Open House!\n\n\n\n\n\n\n\n\n\nWSO Open House\nWHEN:\nSaturday\, April 25\, 2026\n12:00 – 3:00 PM Eastern Time \nWHERE:\n1600 Corporate Landing Parkway\nVirginia Beach\, Virginia\, USA \n\n\n\n\n\n\n\nArrive before 2:00 p.m. to enjoy a free guided tour and learn more about our office and the dedicated Staff behind the scenes. \nThis exclusive experience offers a unique opportunity to explore the WSO Archives and view our extensive collection of archival materials that showcase Al‑Anon’s rich history. \nYou’ll also learn more about our mission and see firsthand how our team supports the worldwide Al‑Anon fellowship. \n\n\n\n\n\n\n\n\n\n\n\n\n\n75th Anniversary Gala Banquet\n\n\n\n\n\n\n\n\n\nEvent Details\nWHEN:\nSaturday\, April 25\, 2026\n6:00 – 10:00 PM Eastern Time \nWHERE:\nNewport News Marriott at City Center\nNewport News\, Virginia\, USA\n(In-person only) \nTICKETS:\nAvailable starting Wednesday\, November 12\, 2025\nat 2:00 p.m. Eastern Time \n$75 per person\, first-come\, first-served\nSeating is limited for this once-in-a-lifetime event \n\n\n\n\n\n\nEvent Highlights\n• An elegant evening celebrating 75 years of recovery through fellowship \n• The gala banquet culminating with long-time members sharing their experience\, strength\, and hope \n• Interpretation avail \n\n\n\n\n\n  \nhttps://al-anon.org/world-service-office-events/
URL:https://mnsa-afg.org/event/world-service-office-wso-75th-anniversary-gala-banquet-open-house/
LOCATION:World Service Organization (WSO)\, 1600 Corporate Landing Parkway\, Virginia Beach\, VA\, United States
CATEGORIES:Special Event
END:VEVENT
END:VCALENDAR