BEGIN:VCALENDAR
VERSION:2.0
PRODID:-//Minnesota South Area Al-Anon - ECPv6.15.20//NONSGML v1.0//EN
CALSCALE:GREGORIAN
METHOD:PUBLISH
X-ORIGINAL-URL:https://mnsa-afg.org
X-WR-CALDESC:Events for Minnesota South Area Al-Anon
REFRESH-INTERVAL;VALUE=DURATION:PT1H
X-Robots-Tag:noindex
X-PUBLISHED-TTL:PT1H
BEGIN:VTIMEZONE
TZID:America/Chicago
BEGIN:DAYLIGHT
TZOFFSETFROM:-0600
TZOFFSETTO:-0500
TZNAME:CDT
DTSTART:20250309T080000
END:DAYLIGHT
BEGIN:STANDARD
TZOFFSETFROM:-0500
TZOFFSETTO:-0600
TZNAME:CST
DTSTART:20251102T070000
END:STANDARD
BEGIN:DAYLIGHT
TZOFFSETFROM:-0600
TZOFFSETTO:-0500
TZNAME:CDT
DTSTART:20260308T080000
END:DAYLIGHT
BEGIN:STANDARD
TZOFFSETFROM:-0500
TZOFFSETTO:-0600
TZNAME:CST
DTSTART:20261101T070000
END:STANDARD
BEGIN:DAYLIGHT
TZOFFSETFROM:-0600
TZOFFSETTO:-0500
TZNAME:CDT
DTSTART:20270314T080000
END:DAYLIGHT
BEGIN:STANDARD
TZOFFSETFROM:-0500
TZOFFSETTO:-0600
TZNAME:CST
DTSTART:20271107T070000
END:STANDARD
END:VTIMEZONE
BEGIN:VEVENT
DTSTART;TZID=America/Chicago:20260912T093000
DTEND;TZID=America/Chicago:20260912T103000
DTSTAMP:20260422T033741
CREATED:20260112T174245Z
LAST-MODIFIED:20260112T174245Z
UID:8415-1789205400-1789209000@mnsa-afg.org
SUMMARY:District 10 Meeting
DESCRIPTION:District 10 meets in person the 2nd Saturday in the 6 odd months of the year: January\, March\, May\, July\, September\, November from 9:30-10:30.  Please come find out what is happening in our area and how we can support each other!  Meeting is held in the Tulip Room.
URL:https://mnsa-afg.org/event/district-10-meeting-9/
LOCATION:St Joan of Arc Church-Tulip Room\, 4537 3rd Ave S\, Minneapolis\, MN\, 55419\, United States
CATEGORIES:District Meeting
ORGANIZER;CN="Al -Anon District 10":MAILTO:mnsouthdistrict10@gmail.com
END:VEVENT
BEGIN:VEVENT
DTSTART;TZID=America/Chicago:20260912T093000
DTEND;TZID=America/Chicago:20260912T113000
DTSTAMP:20260422T033741
CREATED:20251124T221135Z
LAST-MODIFIED:20260121T211752Z
UID:8371-1789205400-1789212600@mnsa-afg.org
SUMMARY:District 13 Hybrid Meetings (2026)
DESCRIPTION:All are welcome to this every other month hybrid meeting with locations varying.  If you would like to know the in-person location\, please email mnsadistrict13@gmail.com \n  \nZoom information is \n811 9699 0331 \nPasscode is 070002 \n 
URL:https://mnsa-afg.org/event/district-13-hybrid-meetings-2026-5/
LOCATION:Zoom Meeting
CATEGORIES:District Meeting
END:VEVENT
BEGIN:VEVENT
DTSTART;TZID=America/Chicago:20260912T110000
DTEND;TZID=America/Chicago:20260912T120000
DTSTAMP:20260422T033741
CREATED:20250724T123313Z
LAST-MODIFIED:20260206T195125Z
UID:7982-1789210800-1789214400@mnsa-afg.org
SUMMARY:Saturday Morning Al-Anon Book Study (zoom only)
DESCRIPTION:Join us on the 2nd and 4th Saturday of each month for Al-Anon Book Study (open to all) from 11:00 am to 12:00 pm on Zoom. \nWe’re excited to announce that on Saturday\, September 13 we’ll be starting a new book: Discovering Choices: Our Recovery in Relationships. \nPlease contact d11afc@icloud.com for Zoom login info. \nNo need to have read the book before you attend. We just start reading and discussing wherever we’ve last left off\, focusing on a small selection of the book each meeting. \n\n\n\n    \n        \n            \n            \n                Saturday Morning Al-Anon Book Club\n                 1 file(s)  262.02 KB\n            \n            \n                Download\n            \n        \n    \n\n\n\n 
URL:https://mnsa-afg.org/event/saturday-morning-al-anon-book-study-zoom-only-25/
LOCATION:Zoom Meeting
CATEGORIES:Al-Anon
END:VEVENT
BEGIN:VEVENT
DTSTART;TZID=America/Chicago:20260917T183000
DTEND;TZID=America/Chicago:20260917T200000
DTSTAMP:20260422T033741
CREATED:20260112T175616Z
LAST-MODIFIED:20260112T175616Z
UID:8430-1789669800-1789675200@mnsa-afg.org
SUMMARY:District 8 Monthly Meeting
DESCRIPTION:District 8 Meetings held on the 3rd Thursday of Every Month from 6:30-8pm \n  \nGo to Zoom and put the information below to find our meeting.  For anonymity purposes this is not a link. \nMeeting ID : 843 3320 3473 \nPasscode: 3%8LAv \n 
URL:https://mnsa-afg.org/event/district-8-monthly-meeting-19/
LOCATION:Zoom Meeting
CATEGORIES:District Meeting
END:VEVENT
BEGIN:VEVENT
DTSTART;TZID=America/Chicago:20260917T183000
DTEND;TZID=America/Chicago:20260917T200000
DTSTAMP:20260422T033741
CREATED:20260126T231650Z
LAST-MODIFIED:20260126T231650Z
UID:8509-1789669800-1789675200@mnsa-afg.org
SUMMARY:District 9 Monthly Meeting (2026)
DESCRIPTION:The District 9 Monthly Meeting is the 3rd Thursday of Every Month.  It is a hybrid meeting held at Plymouth II Alano or via zoom. \n  \nZoom Information: \nJoin Zoom Meeting\nhttps://us02web.zoom.us/j/83404679734?pwd=OWRIRGlZSzI0MHZYMVhvUkpsNTF2UT09 \nMeeting ID: 834 0467 9734\nPasscode: 080284
URL:https://mnsa-afg.org/event/district-9-monthly-meeting-2026-8/
LOCATION:Plymouth II Alano Knoll Lutheran Church\, 610 Hopkins Crossroad\, Plymouth\, MN\, 55305\, United States
CATEGORIES:District Meeting
ORGANIZER;CN="Al-Anon District 9":MAILTO:mnsad9afg@gmail.com
END:VEVENT
BEGIN:VEVENT
DTSTART;VALUE=DATE:20260919
DTEND;VALUE=DATE:20260920
DTSTAMP:20260422T033741
CREATED:20260112T171925Z
LAST-MODIFIED:20260112T171925Z
UID:8397-1789776000-1789862399@mnsa-afg.org
SUMMARY:MNSA Officer Meeting
DESCRIPTION:Placeholder only.  Please contact Mark A. at chair@mnsa-afg.org for details.
URL:https://mnsa-afg.org/event/mnsa-officer-meeting-2/
LOCATION:MN
END:VEVENT
BEGIN:VEVENT
DTSTART;TZID=America/Chicago:20260919T074500
DTEND;TZID=America/Chicago:20260919T084500
DTSTAMP:20260422T033741
CREATED:20251018T134258Z
LAST-MODIFIED:20251018T134305Z
UID:8222-1789803900-1789807500@mnsa-afg.org
SUMMARY:District 4 Meeting (2026)
DESCRIPTION:For Group Reps and District Leaders in District 4. \nZoom Only \n813 4478 6715 \n\n\nPasscode: Grateful1\n\n\nNOTE-NO MEETING IN JUNE\, JULY\, AUGUST\, OR DECEMBER 2026
URL:https://mnsa-afg.org/event/district-4-meeting-202/
LOCATION:Zoom Meeting
CATEGORIES:Al-Anon
END:VEVENT
BEGIN:VEVENT
DTSTART;TZID=America/Chicago:20260919T100000
DTEND;TZID=America/Chicago:20260919T110000
DTSTAMP:20260422T033741
CREATED:20251118T032650Z
LAST-MODIFIED:20251121T023516Z
UID:8304-1789812000-1789815600@mnsa-afg.org
SUMMARY:District 16 Meeting
DESCRIPTION:Held the 3rd Saturday of January\, February\, April\, May\, September\, October\, and November \nIn person option at the Friends Building. \nZoom Information: \nMeeting ID: 93710961060 \nPassword: D16AFG \n 
URL:https://mnsa-afg.org/event/district-16-meeting-5/
LOCATION:Friends Building\, 201 S. 3rd Street\, St. Peter\, MN\, 56082\, United States
CATEGORIES:District Meeting
END:VEVENT
BEGIN:VEVENT
DTSTART;TZID=America/Chicago:20260923T190000
DTEND;TZID=America/Chicago:20260923T200000
DTSTAMP:20260422T033741
CREATED:20250206T145824Z
LAST-MODIFIED:20250206T145824Z
UID:7663-1790190000-1790193600@mnsa-afg.org
SUMMARY:District 11 Monthly Meeting (2026)
DESCRIPTION:Zoom only \nhttps://us02web.zoom.us/j/87396840190?pwd=cFBuakxQa0J1dk1uVXlYS3Y0aWF3UT09\n\nMeeting ID 873 9684 0190 \nPasscode: 961 287
URL:https://mnsa-afg.org/event/district-11-monthly-meeting-2026-7/
LOCATION:Zoom Meeting
CATEGORIES:District Meeting
END:VEVENT
BEGIN:VEVENT
DTSTART;TZID=America/Chicago:20260924T190000
DTEND;TZID=America/Chicago:20260924T210000
DTSTAMP:20260422T033741
CREATED:20251124T163058Z
LAST-MODIFIED:20251124T163716Z
UID:8348-1790276400-1790283600@mnsa-afg.org
SUMMARY:NYA STEP AFG Open Meeting
DESCRIPTION:Please join this monthly open meeting–all are welcome!  Thanks for understanding that speakers will be present as available.  Meetings will be held even if there isn’t a designated speaker. \nZoom only:827 1811 6071 \ncode: 556907
URL:https://mnsa-afg.org/event/nya-step-afg-open-meeting-9/
LOCATION:Zoom Meeting
CATEGORIES:Friends & Family,Speaker Meeting
END:VEVENT
BEGIN:VEVENT
DTSTART;TZID=America/Chicago:20260926T110000
DTEND;TZID=America/Chicago:20260926T120000
DTSTAMP:20260422T033741
CREATED:20250724T123336Z
LAST-MODIFIED:20260206T195118Z
UID:7983-1790420400-1790424000@mnsa-afg.org
SUMMARY:Saturday Morning Al-Anon Book Study (zoom only)
DESCRIPTION:Join us on the 2nd and 4th Saturday of each month for Al-Anon Book Study (open to all) from 11:00 am to 12:00 pm on Zoom. \nWe’re excited to announce that on Saturday\, September 13 we’ll be starting a new book: Discovering Choices: Our Recovery in Relationships. \nPlease contact d11afc@icloud.com for Zoom login info. \nNo need to have read the book before you attend. We just start reading and discussing wherever we’ve last left off\, focusing on a small selection of the book each meeting. \n\n\n\n    \n        \n            \n            \n                Saturday Morning Al-Anon Book Club\n                 1 file(s)  262.02 KB\n            \n            \n                Download\n            \n        \n    \n\n\n\n 
URL:https://mnsa-afg.org/event/saturday-morning-al-anon-book-study-zoom-only-26/
LOCATION:Zoom Meeting
CATEGORIES:Al-Anon
END:VEVENT
BEGIN:VEVENT
DTSTART;VALUE=DATE:20260927
DTEND;VALUE=DATE:20260928
DTSTAMP:20260422T033741
CREATED:20251118T033535Z
LAST-MODIFIED:20251118T033535Z
UID:8320-1790467200-1790553599@mnsa-afg.org
SUMMARY:Folderol Planning Committee Meeting
DESCRIPTION:placeholder only
URL:https://mnsa-afg.org/event/folderol-planning-committee-meeting-9/
LOCATION:MN
END:VEVENT
END:VCALENDAR