BEGIN:VCALENDAR
VERSION:2.0
PRODID:-//Minnesota South Area Al-Anon - ECPv6.15.20//NONSGML v1.0//EN
CALSCALE:GREGORIAN
METHOD:PUBLISH
X-WR-CALNAME:Minnesota South Area Al-Anon
X-ORIGINAL-URL:https://mnsa-afg.org
X-WR-CALDESC:Events for Minnesota South Area Al-Anon
REFRESH-INTERVAL;VALUE=DURATION:PT1H
X-Robots-Tag:noindex
X-PUBLISHED-TTL:PT1H
BEGIN:VTIMEZONE
TZID:America/Chicago
BEGIN:DAYLIGHT
TZOFFSETFROM:-0600
TZOFFSETTO:-0500
TZNAME:CDT
DTSTART:20240310T080000
END:DAYLIGHT
BEGIN:STANDARD
TZOFFSETFROM:-0500
TZOFFSETTO:-0600
TZNAME:CST
DTSTART:20241103T070000
END:STANDARD
BEGIN:DAYLIGHT
TZOFFSETFROM:-0600
TZOFFSETTO:-0500
TZNAME:CDT
DTSTART:20250309T080000
END:DAYLIGHT
BEGIN:STANDARD
TZOFFSETFROM:-0500
TZOFFSETTO:-0600
TZNAME:CST
DTSTART:20251102T070000
END:STANDARD
BEGIN:DAYLIGHT
TZOFFSETFROM:-0600
TZOFFSETTO:-0500
TZNAME:CDT
DTSTART:20260308T080000
END:DAYLIGHT
BEGIN:STANDARD
TZOFFSETFROM:-0500
TZOFFSETTO:-0600
TZNAME:CST
DTSTART:20261101T070000
END:STANDARD
END:VTIMEZONE
BEGIN:VEVENT
DTSTART;TZID=America/Chicago:20250405T080000
DTEND;TZID=America/Chicago:20250405T160000
DTSTAMP:20260419T185830
CREATED:20241111T132751Z
LAST-MODIFIED:20250401T141351Z
UID:7344-1743840000-1743868800@mnsa-afg.org
SUMMARY:Spring Assembly (2025)
DESCRIPTION:The Minnesota South Area 2025 Assembly is ZOOM ONLY this time!  It is free to all participants. \nRegister by March 30th using: https://form.jotform.com/250325457095155   Alternate registration methods can be found on the downloadable flyer. \nNew GR Orientation is from 8:15-9am.  The Main agenda will begin at 9am with the following items: Secretary Report\, Treasurer Report\, A Word from our Delegate\, DR reports\, Coordinator Reports and more. \nVisit the Resources and Downloads page to view all related documents for this event. \n\n\n\n    \n        \n            \n            \n                Spring Assembly 2025 Agenda\n                 1 file(s)  126.56 KB\n            \n            \n                Download\n            \n        \n    \n\n\n\n\n\n\n    \n        \n            \n            \n                2025 Spring Assembly\n                 1 file(s)  246.91 KB\n            \n            \n                Download\n            \n        \n    \n\n\n\n  \n 
URL:https://mnsa-afg.org/event/spring-assembly-2025/
LOCATION:Zoom Meeting
CATEGORIES:Assembly
ORGANIZER;CN="Minnesota South Area":MAILTO:mnsa.afg.info@gmail.com
END:VEVENT
BEGIN:VEVENT
DTSTART;TZID=America/Chicago:20250417T183000
DTEND;TZID=America/Chicago:20250417T200000
DTSTAMP:20260419T185830
CREATED:20241117T182241Z
LAST-MODIFIED:20241117T182241Z
UID:7453-1744914600-1744920000@mnsa-afg.org
SUMMARY:District 9 Meeting (Zoom only)
DESCRIPTION:District Meetings happen the 3rd Thursday of every month\, same time & location with a zoom option.  Come learn more about your district\, gain support\, get resources and outreach to bring back to your home groups.  Feel connected to our world wide organization.  Topics change monthly. \nZoom only until May 2025 \nZoom Information Below \nJoin Zoom Meeting\nhttps://us02web.zoom.us/j/83404679734?pwd=OWRIRGlZSzI0MHZYMVhvUkpsNTF2UT09 \nMeeting ID: 834 0467 9734\nPasscode: 080284
URL:https://mnsa-afg.org/event/district-9-meeting-zoom-only-2/
LOCATION:Zoom Meeting
CATEGORIES:Al-Anon
ORGANIZER;CN="Al-Anon District 9":MAILTO:mnsad9afg@gmail.com
END:VEVENT
BEGIN:VEVENT
DTSTART;TZID=America/Chicago:20250417T183000
DTEND;TZID=America/Chicago:20250417T200000
DTSTAMP:20260419T185830
CREATED:20250205T220432Z
LAST-MODIFIED:20250205T220432Z
UID:7609-1744914600-1744920000@mnsa-afg.org
SUMMARY:District 8 Monthly Meeting
DESCRIPTION:District 8 monthly meeting for all Groups in District 8 (St. Paul.)\nZoom only\n-Meeting ID; 875 0790 4082\n– password; 2q%gNM\nFor anonymity purposes\, this is not a link. \n  \nIf questions please email  District 8 Representative\, Sarah HJ at smhoule.johns@icloud.com
URL:https://mnsa-afg.org/event/district-8-monthly-meeting-3/
LOCATION:Zoom Meeting
CATEGORIES:District Meeting
END:VEVENT
BEGIN:VEVENT
DTSTART;TZID=America/Chicago:20250419T074500
DTEND;TZID=America/Chicago:20250419T084500
DTSTAMP:20260419T185830
CREATED:20241117T183517Z
LAST-MODIFIED:20241117T184733Z
UID:7473-1745048700-1745052300@mnsa-afg.org
SUMMARY:District 4 Meeting (2025)
DESCRIPTION:For Group Reps and District Leaders in District 4. \nZoom Only \n813 4478 6715 \n\n\nPasscode: Grateful1
URL:https://mnsa-afg.org/event/district-4-meeting-2025-4/
LOCATION:Zoom Meeting
CATEGORIES:Al-Anon
END:VEVENT
BEGIN:VEVENT
DTSTART;TZID=America/Chicago:20250419T104500
DTEND;TZID=America/Chicago:20250419T123000
DTSTAMP:20260419T185830
CREATED:20241111T130727Z
LAST-MODIFIED:20241111T160128Z
UID:7321-1745059500-1745065800@mnsa-afg.org
SUMMARY:District 2 Quarterly Meeting (Q2 2025)
DESCRIPTION:Join us to learn more about upcoming District and Area events\, available and upcoming resources for your groups and members\, and tips from other G.R.’s that have worked well or not.
URL:https://mnsa-afg.org/event/district-2-quarterly-meeting-q2-2025/
LOCATION:Messiah Lutheran Church\, 16725 Highview Avenue\, Lakeville\, MN\, 55044\, United States
CATEGORIES:Al-Anon,District Meeting
END:VEVENT
BEGIN:VEVENT
DTSTART;VALUE=DATE:20250423
DTEND;VALUE=DATE:20250429
DTSTAMP:20260419T185830
CREATED:20241111T154852Z
LAST-MODIFIED:20241111T160118Z
UID:7352-1745366400-1745884799@mnsa-afg.org
SUMMARY:World Service Conference (2025)
DESCRIPTION:The 2025 World Service Conference will be held in Windsor\, Connecticut.
URL:https://mnsa-afg.org/event/world-service-conference-2025/
LOCATION:MN
CATEGORIES:WSC
END:VEVENT
BEGIN:VEVENT
DTSTART;TZID=America/Chicago:20250423T190000
DTEND;TZID=America/Chicago:20250423T200000
DTSTAMP:20260419T185830
CREATED:20250206T144742Z
LAST-MODIFIED:20250206T144742Z
UID:7633-1745434800-1745438400@mnsa-afg.org
SUMMARY:District 11 Monthly Meeting
DESCRIPTION:Zoom only \nhttps://us02web.zoom.us/j/87396840190?pwd=cFBuakxQa0J1dk1uVXlYS3Y0aWF3UT09\n\nMeeting ID 873 9684 0190 \nPasscode: 961 287
URL:https://mnsa-afg.org/event/district-11-monthly-meeting-3/
LOCATION:Zoom Meeting
CATEGORIES:District Meeting
END:VEVENT
BEGIN:VEVENT
DTSTART;TZID=America/Chicago:20250424T193000
DTEND;TZID=America/Chicago:20250424T213000
DTSTAMP:20260419T185830
CREATED:20241111T161617Z
LAST-MODIFIED:20241111T171317Z
UID:7382-1745523000-1745530200@mnsa-afg.org
SUMMARY:Open Speaker Meeting -NYA STEP AFG (2025)
DESCRIPTION:Join the NYA STEP AFG\, the hosts of a monthly open speaker meeting\, the 4th Thursday of each month. \nThis event is open to all participants.  The meeting is held exclusively on Zoom. \nSpeaker begins at 8pm and ends at 9pm.  The zoom room will be open 7:30pm-9:30pm to allow for setup prior to the speaker meeting\, and Q&A after the speaker concludes. \nZoom Meeting ID: 827 1811 6071 \nPasscode: 556907
URL:https://mnsa-afg.org/event/open-speaker-meeting-nya-step-afg-2025-2/
LOCATION:Zoom Meeting
CATEGORIES:Speaker Meeting
END:VEVENT
BEGIN:VEVENT
DTSTART;VALUE=DATE:20250425
DTEND;VALUE=DATE:20250428
DTSTAMP:20260419T185830
CREATED:20241115T145513Z
LAST-MODIFIED:20241115T145513Z
UID:7433-1745539200-1745798399@mnsa-afg.org
SUMMARY:31st Annual Sunlight of the Spirit Weekend
DESCRIPTION:Becoming a part of the Common Solution \nWe\, of the Sunlight of the Spirit Weekend\, hope to carry the message that recovery\, unity\, and service are life essential elements of any spiritual program.  It is our goal that as our guests leave the weekend’s events\, each will better understand the potential for applying the principles found in both the AA and Al-Anon/Alateen programs\, in their home\, community\, and the world around them. \n  \n\n\n\n    \n        \n            \n            \n                Sunlight of the Spirit 2025\n                 1 file(s)  3.76 MB\n            \n            \n                Download
URL:https://mnsa-afg.org/event/31st-annual-sunlight-of-the-spirit-weekend/
LOCATION:Best Western Fairmont\, 1201 Torgerson Drive\, Fairmont\, MN\, United States
CATEGORIES:Special Event
END:VEVENT
BEGIN:VEVENT
DTSTART;TZID=America/Chicago:20250426T100000
DTEND;TZID=America/Chicago:20250426T120000
DTSTAMP:20260419T185830
CREATED:20250312T152956Z
LAST-MODIFIED:20250327T151133Z
UID:7696-1745661600-1745668800@mnsa-afg.org
SUMMARY:Step 1 Seminar
DESCRIPTION:Step One Seminar for Families and Friends of Alcoholics \n  \nAlcoholism does not just affect the person with this condition\, it also affects those around them as well\, such as friends and family members.  If you have struggled with a friend or relative who misuses alcohol\, Al-Anon is intended for you. \n\nSpeakers from Al-Anon\, Alateen and AA share their stories\nBooks\, Pamphlets and other information of interest\nEnjoy fellowship with others in recovery\nUnderstand that you are not alone\nBreakfast snacks\, coffee\, juice\, and water provided.\n\n\n\n\n    \n        \n            \n            \n                4.26.25 Step 1 Seminar\n                 1 file(s)  191.23 KB\n            \n            \n                Download
URL:https://mnsa-afg.org/event/step-1-seminar-2/
LOCATION:Christus Victor Church\, 7510 Palomino Drive\, Apple Valley\, MN\, 55124\, United States
CATEGORIES:Al-Anon,Alateen,Friends & Family,Meeting Details,Special Event
END:VEVENT
END:VCALENDAR