BEGIN:VCALENDAR
VERSION:2.0
PRODID:-//Minnesota South Area Al-Anon - ECPv6.15.20//NONSGML v1.0//EN
CALSCALE:GREGORIAN
METHOD:PUBLISH
X-WR-CALNAME:Minnesota South Area Al-Anon
X-ORIGINAL-URL:https://mnsa-afg.org
X-WR-CALDESC:Events for Minnesota South Area Al-Anon
REFRESH-INTERVAL;VALUE=DURATION:PT1H
X-Robots-Tag:noindex
X-PUBLISHED-TTL:PT1H
BEGIN:VTIMEZONE
TZID:America/Chicago
BEGIN:DAYLIGHT
TZOFFSETFROM:-0600
TZOFFSETTO:-0500
TZNAME:CDT
DTSTART:20240310T080000
END:DAYLIGHT
BEGIN:STANDARD
TZOFFSETFROM:-0500
TZOFFSETTO:-0600
TZNAME:CST
DTSTART:20241103T070000
END:STANDARD
BEGIN:DAYLIGHT
TZOFFSETFROM:-0600
TZOFFSETTO:-0500
TZNAME:CDT
DTSTART:20250309T080000
END:DAYLIGHT
BEGIN:STANDARD
TZOFFSETFROM:-0500
TZOFFSETTO:-0600
TZNAME:CST
DTSTART:20251102T070000
END:STANDARD
BEGIN:DAYLIGHT
TZOFFSETFROM:-0600
TZOFFSETTO:-0500
TZNAME:CDT
DTSTART:20260308T080000
END:DAYLIGHT
BEGIN:STANDARD
TZOFFSETFROM:-0500
TZOFFSETTO:-0600
TZNAME:CST
DTSTART:20261101T070000
END:STANDARD
END:VTIMEZONE
BEGIN:VEVENT
DTSTART;TZID=America/Chicago:20250111T093000
DTEND;TZID=America/Chicago:20250111T113000
DTSTAMP:20260420T003144
CREATED:20241111T155456Z
LAST-MODIFIED:20241111T160738Z
UID:7363-1736587800-1736595000@mnsa-afg.org
SUMMARY:District 13 Meeting (2025)
DESCRIPTION:All meetings are held by zoom only \nMeeting ID: 811 9699 0331 \nPasscode: 070002 \n 
URL:https://mnsa-afg.org/event/district-13-meeting-2025/
LOCATION:Zoom Meeting
CATEGORIES:Al-Anon,District Meeting
END:VEVENT
BEGIN:VEVENT
DTSTART;TZID=America/Chicago:20250116T183000
DTEND;TZID=America/Chicago:20250116T200000
DTSTAMP:20260420T003144
CREATED:20241117T181438Z
LAST-MODIFIED:20241117T182637Z
UID:7454-1737052200-1737057600@mnsa-afg.org
SUMMARY:District 9 Meeting (Zoom Only)
DESCRIPTION:District Meetings happen the 3rd Thursday of every month\, same time & location with a zoom option.  Come learn more about your district\, gain support\, get resources and outreach to bring back to your home groups.  Feel connected to our world wide organization.  Topics change monthly. \nZoom only until May 2025 \nZoom Information Below \nJoin Zoom Meeting\nhttps://us02web.zoom.us/j/83404679734?pwd=OWRIRGlZSzI0MHZYMVhvUkpsNTF2UT09 \nMeeting ID: 834 0467 9734\nPasscode: 080284
URL:https://mnsa-afg.org/event/district-9-meeting-7/
LOCATION:Zoom Meeting
CATEGORIES:Al-Anon
END:VEVENT
BEGIN:VEVENT
DTSTART;TZID=America/Chicago:20250118T074500
DTEND;TZID=America/Chicago:20250118T084500
DTSTAMP:20260420T003144
CREATED:20241117T183223Z
LAST-MODIFIED:20241117T184750Z
UID:7470-1737186300-1737189900@mnsa-afg.org
SUMMARY:District 4 Meeting (2025)
DESCRIPTION:For Group Reps and District Leaders in District 4. \nZoom Only \n813 4478 6715 \n\n\nPasscode: Grateful1
URL:https://mnsa-afg.org/event/district-4-meeting-2025/
LOCATION:Zoom Meeting
CATEGORIES:Al-Anon
END:VEVENT
BEGIN:VEVENT
DTSTART;TZID=America/Chicago:20250118T104500
DTEND;TZID=America/Chicago:20250118T121500
DTSTAMP:20260420T003144
CREATED:20241111T130550Z
LAST-MODIFIED:20241111T160227Z
UID:7319-1737197100-1737202500@mnsa-afg.org
SUMMARY:District 2 Quarterly Meeting (Q1 2025)
DESCRIPTION:Join us to learn more about upcoming District and Area events\, available and upcoming resources for your groups and members\, and tips from other G.R.’s that have worked well or not.
URL:https://mnsa-afg.org/event/district-2-quarterly-meeting-q1-2025/
LOCATION:Messiah Lutheran Church\, 16725 Highview Avenue\, Lakeville\, MN\, 55044\, United States
CATEGORIES:Al-Anon,District Meeting
END:VEVENT
BEGIN:VEVENT
DTSTART;TZID=America/Chicago:20250123T193000
DTEND;TZID=America/Chicago:20250123T213000
DTSTAMP:20260420T003144
CREATED:20241111T171521Z
LAST-MODIFIED:20241111T171521Z
UID:7421-1737660600-1737667800@mnsa-afg.org
SUMMARY:Open Speaker Meeting -NYA STEP AFG (2025)
DESCRIPTION:Join the NYA STEP AFG\, the hosts of a monthly open speaker meeting\, the 4th Thursday of each month. \nThis event is open to all participants.  The meeting is held exclusively on Zoom. \nSpeaker begins at 8pm and ends at 9pm.  The zoom room will be open 7:30pm-9:30pm to allow for setup prior to the speaker meeting\, and Q&A after the speaker concludes. \nZoom Meeting ID: 827 1811 6071 \nPasscode: 556907
URL:https://mnsa-afg.org/event/open-speaker-meeting-nya-step-afg-2025-13/
LOCATION:Zoom Meeting
CATEGORIES:Speaker Meeting
END:VEVENT
END:VCALENDAR