BEGIN:VCALENDAR
VERSION:2.0
PRODID:-//Minnesota South Area Al-Anon - ECPv6.15.20//NONSGML v1.0//EN
CALSCALE:GREGORIAN
METHOD:PUBLISH
X-ORIGINAL-URL:https://mnsa-afg.org
X-WR-CALDESC:Events for Minnesota South Area Al-Anon
REFRESH-INTERVAL;VALUE=DURATION:PT1H
X-Robots-Tag:noindex
X-PUBLISHED-TTL:PT1H
BEGIN:VTIMEZONE
TZID:America/Chicago
BEGIN:DAYLIGHT
TZOFFSETFROM:-0600
TZOFFSETTO:-0500
TZNAME:CDT
DTSTART:20230312T080000
END:DAYLIGHT
BEGIN:STANDARD
TZOFFSETFROM:-0500
TZOFFSETTO:-0600
TZNAME:CST
DTSTART:20231105T070000
END:STANDARD
BEGIN:DAYLIGHT
TZOFFSETFROM:-0600
TZOFFSETTO:-0500
TZNAME:CDT
DTSTART:20240310T080000
END:DAYLIGHT
BEGIN:STANDARD
TZOFFSETFROM:-0500
TZOFFSETTO:-0600
TZNAME:CST
DTSTART:20241103T070000
END:STANDARD
BEGIN:DAYLIGHT
TZOFFSETFROM:-0600
TZOFFSETTO:-0500
TZNAME:CDT
DTSTART:20250309T080000
END:DAYLIGHT
BEGIN:STANDARD
TZOFFSETFROM:-0500
TZOFFSETTO:-0600
TZNAME:CST
DTSTART:20251102T070000
END:STANDARD
END:VTIMEZONE
BEGIN:VEVENT
DTSTART;TZID=America/Chicago:20241109T110000
DTEND;TZID=America/Chicago:20241109T120000
DTSTAMP:20260420T040705
CREATED:20240815T024136Z
LAST-MODIFIED:20240815T024136Z
UID:7128-1731150000-1731153600@mnsa-afg.org
SUMMARY:Saturday Morning Al-Anon Book Study (Zoom)
DESCRIPTION:You’re invited to a reading and discussion of Al-Anon literature via zoom at 11:00am on the 2nd and 4th Saturday of every month. \nJoin any time.  Email d11afc@icloud.com  for more information or to sign up and receive the zoom information.. \nCurrent Book: “How Al-Anon Works” \nDistrict-11_Al-Anon-Book-Club_2024.pdf \n 
URL:https://mnsa-afg.org/event/saturday-morning-al-anon-book-study-zoom-6/
LOCATION:Zoom Meeting
CATEGORIES:Al-Anon
END:VEVENT
BEGIN:VEVENT
DTSTART;TZID=America/Chicago:20241116T100000
DTEND;TZID=America/Chicago:20241116T110000
DTSTAMP:20260420T040705
CREATED:20240812T142618Z
LAST-MODIFIED:20240814T024607Z
UID:7102-1731751200-1731754800@mnsa-afg.org
SUMMARY:Al-Anon Information Services Representative (ISR) Meeting-November 2024
DESCRIPTION:Monthly meeting for representatives of groups to find out the latest events at AIS and to provide vital feedback and knowledge to AIS. \nInformation Service Representatives (ISR) are members selected by a group to represent it at AIS Representative meetings.  They do not need to be a Group Rep (GR) and dual members are welcome. \nAll members are welcome at ISR meetings\, but only ISRs have voice and vote. \nFor more information email: info@aismpls.org
URL:https://mnsa-afg.org/event/al-anon-information-services-representative-isr-meeting-august-2024-3/
LOCATION:Al-Anon/Alateen Information Services\, 7204 W 27th Street Suite 101\, Saint Louis Park\, MN\, 55426\, United States
CATEGORIES:AIS
END:VEVENT
BEGIN:VEVENT
DTSTART;TZID=America/Chicago:20241121T183000
DTEND;TZID=America/Chicago:20241121T200000
DTSTAMP:20260420T040705
CREATED:20240805T202754Z
LAST-MODIFIED:20241117T184924Z
UID:7077-1732213800-1732219200@mnsa-afg.org
SUMMARY:District 9 Meeting (Zoom only)
DESCRIPTION:District Meetings happen the 3rd Thursday of every month\,  with a zoom option only through April.  Come learn more about your district\, gain support\, get resources and outreach to bring back to your home groups.  Feel connected to our world wide organization.  Topics change monthly. \n  \nZoom Information Below \nJoin Zoom Meeting\nhttps://us02web.zoom.us/j/83404679734?pwd=OWRIRGlZSzI0MHZYMVhvUkpsNTF2UT09 \nMeeting ID: 834 0467 9734\nPasscode: 080284
URL:https://mnsa-afg.org/event/district-9-meeting-4/
LOCATION:Zoom Meeting
CATEGORIES:Al-Anon,District Meeting
ORGANIZER;CN="Al-Anon District 9":MAILTO:mnsad9afg@gmail.com
END:VEVENT
BEGIN:VEVENT
DTSTART;TZID=America/Chicago:20241123T110000
DTEND;TZID=America/Chicago:20241123T120000
DTSTAMP:20260420T040705
CREATED:20240815T024255Z
LAST-MODIFIED:20240815T024255Z
UID:7130-1732359600-1732363200@mnsa-afg.org
SUMMARY:Saturday Morning Al-Anon Book Study (Zoom)
DESCRIPTION:You’re invited to a reading and discussion of Al-Anon literature via zoom at 11:00am on the 2nd and 4th Saturday of every month. \nJoin any time.  Email d11afc@icloud.com  for more information or to sign up and receive the zoom information.. \nCurrent Book: “How Al-Anon Works” \nDistrict-11_Al-Anon-Book-Club_2024.pdf \n 
URL:https://mnsa-afg.org/event/saturday-morning-al-anon-book-study-zoom-7/
LOCATION:Zoom Meeting
CATEGORIES:Al-Anon
END:VEVENT
BEGIN:VEVENT
DTSTART;TZID=America/Chicago:20241130T083000
DTEND;TZID=America/Chicago:20241130T235900
DTSTAMP:20260420T040705
CREATED:20240811T215112Z
LAST-MODIFIED:20240814T024515Z
UID:7087-1732955400-1733011140@mnsa-afg.org
SUMMARY:Founder's Day MN 2024
DESCRIPTION:Join us for Founder’s Day MN at the Bloomington Double Tree hotel on Saturday\, November 30th!  \nFounder’s Day MN is a fun\, all-day AA conference with Al-Anon participation and literature\, along with Alateen information available. \nPre-register and/or learn more at: https://foundersdaymn.org/ \n  \n\n\n\n    \n        \n            \n            \n                Founder's Day 2024\n                 1 file(s)  418.28 KB\n            \n            \n                Download
URL:https://mnsa-afg.org/event/founders-day-mn-2024/
LOCATION:Bloomington Doubletree Hotel\, 7800 Normandale Bldv\, Minneapolis\, MN\, 55439\, United States
CATEGORIES:Al-Anon,Alateen,Friends & Family,Special Event
ORGANIZER;CN="AIS Minneapolis":MAILTO:info@aismpls.org
END:VEVENT
BEGIN:VEVENT
DTSTART;TZID=America/Chicago:20241130T170000
DTEND;TZID=America/Chicago:20241130T200000
DTSTAMP:20260420T040705
CREATED:20241119T144937Z
LAST-MODIFIED:20241119T144937Z
UID:7499-1732986000-1732996800@mnsa-afg.org
SUMMARY:Friends-giving Al-Anon-AA Joint Meeting & Fellowship Mixer
DESCRIPTION:Meeting and Fellowship Event:  This is a Family Disease! \n5pm: Fellowship: Turkey Day Leftovers (bring a leftover Thanksgiving dish/dessert to share; some refreshments provided) \n6pm: Al-Anon Speaker \n7pm: Fellowship:  Bill and Lois Meet and Greet (Bring Family and Friends as Al-Anon and AA members discover recovery together) \n\n\n\n    \n        \n            \n            \n                Friendsgiving Joint Meeting 11.30.24\n                 1 file(s)  344.05 KB\n            \n            \n                Download
URL:https://mnsa-afg.org/event/friends-giving-al-anon-aa-joint-meeting-fellowship-mixer/
LOCATION:The Garage\, 1765 Restoration Road SW\, Rochester\, MN\, United States
CATEGORIES:Al-Anon,Friends & Family,Speaker Meeting,Special Event
END:VEVENT
END:VCALENDAR