BEGIN:VCALENDAR
VERSION:2.0
PRODID:-//Minnesota South Area Al-Anon - ECPv6.15.20//NONSGML v1.0//EN
CALSCALE:GREGORIAN
METHOD:PUBLISH
X-WR-CALNAME:Minnesota South Area Al-Anon
X-ORIGINAL-URL:https://mnsa-afg.org
X-WR-CALDESC:Events for Minnesota South Area Al-Anon
REFRESH-INTERVAL;VALUE=DURATION:PT1H
X-Robots-Tag:noindex
X-PUBLISHED-TTL:PT1H
BEGIN:VTIMEZONE
TZID:America/Chicago
BEGIN:DAYLIGHT
TZOFFSETFROM:-0600
TZOFFSETTO:-0500
TZNAME:CDT
DTSTART:20230312T080000
END:DAYLIGHT
BEGIN:STANDARD
TZOFFSETFROM:-0500
TZOFFSETTO:-0600
TZNAME:CST
DTSTART:20231105T070000
END:STANDARD
BEGIN:DAYLIGHT
TZOFFSETFROM:-0600
TZOFFSETTO:-0500
TZNAME:CDT
DTSTART:20240310T080000
END:DAYLIGHT
BEGIN:STANDARD
TZOFFSETFROM:-0500
TZOFFSETTO:-0600
TZNAME:CST
DTSTART:20241103T070000
END:STANDARD
BEGIN:DAYLIGHT
TZOFFSETFROM:-0600
TZOFFSETTO:-0500
TZNAME:CDT
DTSTART:20250309T080000
END:DAYLIGHT
BEGIN:STANDARD
TZOFFSETFROM:-0500
TZOFFSETTO:-0600
TZNAME:CST
DTSTART:20251102T070000
END:STANDARD
END:VTIMEZONE
BEGIN:VEVENT
DTSTART;TZID=America/Chicago:20240608T130000
DTEND;TZID=America/Chicago:20240608T160000
DTSTAMP:20260421T112316
CREATED:20240507T141812Z
LAST-MODIFIED:20240518T145359Z
UID:6881-1717851600-1717862400@mnsa-afg.org
SUMMARY:2024 WSC Delegates Report
DESCRIPTION:Join MNSA Panel 64 Delegate Colleen for the 2024 WSC Delegates Report. \n\nPlease plan to join Colleen as she summarizes 4 days of meetings into 3 hours!\nHer goal is to help you prepare for your reports to your groups.\nSnacks and beverages will be provided.\nRegistration is required to plan for snacks/beverages and to provide login and passwords for those who plan to attend virtually (which will be sent out via e-mail the day before).\nClick on the download button to access the registration form which can be mailed\, to get a link to the e-form\, or to register with a QR code.\nFor questions please email Colleen at mnsadel64@gmail.com\n\n  \nClick Here to register \n  \n\n\n\n    \n        \n            \n            \n                WSC Delegate Workshop 6.8.24\n                 1 file(s)  255.25 KB\n            \n            \n                Download\n            \n        \n    \n\n\n\n\n\n\n    \n        \n            \n            \n                2024 WSC Delegate Report\n                 1 file(s)  255.25 KB\n            \n            \n                Download\n            \n        \n    \n\n\n\n 
URL:https://mnsa-afg.org/event/2024-wsc-delegates-report/
LOCATION:Chanhassen Library-Wilder Room\, 7711 Kerber Boulevard\, Chanhassen\, MN\, 55371\, United States
CATEGORIES:Al-Anon,Alateen,WSC
ORGANIZER;CN="Minnesota South Area":MAILTO:mnsa.afg.info@gmail.com
END:VEVENT
BEGIN:VEVENT
DTSTART;TZID=America/Chicago:20240611T183000
DTEND;TZID=America/Chicago:20240611T203000
DTSTAMP:20260421T112317
CREATED:20240522T142542Z
LAST-MODIFIED:20240522T183422Z
UID:6935-1718130600-1718137800@mnsa-afg.org
SUMMARY:Pathfinders AFG 18th Anniversary Celebration
DESCRIPTION:To celebrate their 18th year as an AFG group\, Pathfinders is hosting a celebration with GREAT SPEAKERS (NA\, Al-Anon\, and Alateen)\, cake\, coffee\, and water! \n\n\n\n    \n        \n            \n            \n                6.11.24 Pathfinders 18th Anniversary\n                 1 file(s)  94.50 KB\n            \n            \n                Download
URL:https://mnsa-afg.org/event/pathfinders-afg-18th-anniversary-celebration/
LOCATION:The Retreat\, 1221 Wayzata Blvd E\, Wayzata\, MN\, 55391\, United States
CATEGORIES:Al-Anon,Alateen,Friends & Family,Special Event
END:VEVENT
BEGIN:VEVENT
DTSTART;TZID=America/Chicago:20240622T090000
DTEND;TZID=America/Chicago:20240622T140000
DTSTAMP:20260421T112317
CREATED:20240512T002959Z
LAST-MODIFIED:20240513T205819Z
UID:6888-1719046800-1719064800@mnsa-afg.org
SUMMARY:5th Step Workshop
DESCRIPTION:Are you getting ready to do a Fifth Step or just interested in learning more? \nCome enjoy a morning retreat focused on the Fifth Step hosted by District 10.  There will be speakers\, time to work individually\, and then experienced Fifth Step listeners available until 2 p.m. \nWe will provide handouts taken from the Blueprint for Progress. The full book will also be available for purchase. \nTo register\, please email mnsouthdistrict10@gmail.com  and then you will receive a reply with a registration form.  Please check your spam folder if you don’t see a response right away. \n\n\n\n    \n        \n            \n            \n                Step 5 Workshop 06.22.24\n                 1 file(s)  90.08 KB\n            \n            \n                Download
URL:https://mnsa-afg.org/event/5th-step-workshop/
LOCATION:St. Albert the Great Church\, 2836 33rd Ave S.\, Minneapolis\, MN\, 55406\, United States
CATEGORIES:Al-Anon,Alateen,Step Workshop
ORGANIZER;CN="Al -Anon District 10":MAILTO:mnsouthdistrict10@gmail.com
END:VEVENT
END:VCALENDAR