BEGIN:VCALENDAR
VERSION:2.0
PRODID:-//Minnesota South Area Al-Anon - ECPv6.15.20//NONSGML v1.0//EN
CALSCALE:GREGORIAN
METHOD:PUBLISH
X-WR-CALNAME:Minnesota South Area Al-Anon
X-ORIGINAL-URL:https://mnsa-afg.org
X-WR-CALDESC:Events for Minnesota South Area Al-Anon
REFRESH-INTERVAL;VALUE=DURATION:PT1H
X-Robots-Tag:noindex
X-PUBLISHED-TTL:PT1H
BEGIN:VTIMEZONE
TZID:America/Chicago
BEGIN:DAYLIGHT
TZOFFSETFROM:-0600
TZOFFSETTO:-0500
TZNAME:CDT
DTSTART:20230312T080000
END:DAYLIGHT
BEGIN:STANDARD
TZOFFSETFROM:-0500
TZOFFSETTO:-0600
TZNAME:CST
DTSTART:20231105T070000
END:STANDARD
BEGIN:DAYLIGHT
TZOFFSETFROM:-0600
TZOFFSETTO:-0500
TZNAME:CDT
DTSTART:20240310T080000
END:DAYLIGHT
BEGIN:STANDARD
TZOFFSETFROM:-0500
TZOFFSETTO:-0600
TZNAME:CST
DTSTART:20241103T070000
END:STANDARD
BEGIN:DAYLIGHT
TZOFFSETFROM:-0600
TZOFFSETTO:-0500
TZNAME:CDT
DTSTART:20250309T080000
END:DAYLIGHT
BEGIN:STANDARD
TZOFFSETFROM:-0500
TZOFFSETTO:-0600
TZNAME:CST
DTSTART:20251102T070000
END:STANDARD
END:VTIMEZONE
BEGIN:VEVENT
DTSTART;TZID=America/Chicago:20240406T090000
DTEND;TZID=America/Chicago:20240406T160000
DTSTAMP:20260421T081338
CREATED:20231104T232456Z
LAST-MODIFIED:20240405T171912Z
UID:2625-1712394000-1712419200@mnsa-afg.org
SUMMARY:Spring Assembly 2024
DESCRIPTION:SPRINGing Forward to “Do More in ’24”\nIn-Person & Zoom Pre-Registration Deadline: March 29th\, 2024\nPre-registration is required for those attending on Zoom and preferred for those attending in person.\nZoom login information will be emailed to pre-registered Zoom attendees.\n \nAl-Anon: $10\nAlateen: $0 \nSchedule:\n8 AM: Registration Opens\n8:15 AM: New GR Orientation\n9 AM – 4 PM Meeting \n(Event is offered on Zoom and in person)\nIn person members: bring bag lunch and water bottle. Coffee\, water\, and snacks are donated by District 11 for the in-person event. \nVisit the Resources and Downloads page for the latest documents and agenda. \nRegistration:\nPay With Zelle: Send payment to Minnesota South Area Afg Inc\nLearn more about Zelle and how to use it: https://www.zellepay.com/how-it-works \nPay With Check: Include check with printed registration form and mail to:\nMNSA District 11\n7701 Golden Valley Road #270631\nGolden Valley\, MN 55427.\nMake Checks Out To: “District 11 -Spring Assembly” \nQuestions\, email: mtkaserenes@gmail.com \n﻿  \n\n\n\n    \n        \n            \n            \n                Spring Assembly 2024 Printed Registration Form\n                 1 file(s)  94.50 KB\n            \n            \n                Download\n            \n        \n    \n\n\n\n\n\n\n    \n        \n            \n            \n                Spring Assembly 2024 Flyer\n                 1 file(s)  280.14 KB\n            \n            \n                Download
URL:https://mnsa-afg.org/event/spring-assembly-2024/
LOCATION:Shorewood Community Center\, 5735 Country Club Road\, Shorewood\, MN\, 55331\, United States
CATEGORIES:Assembly
END:VEVENT
BEGIN:VEVENT
DTSTART;TZID=America/Chicago:20240427T100000
DTEND;TZID=America/Chicago:20240427T120000
DTSTAMP:20260421T081338
CREATED:20240304T003731Z
LAST-MODIFIED:20240419T211708Z
UID:5263-1714212000-1714219200@mnsa-afg.org
SUMMARY:District 2 Step One Seminar
DESCRIPTION:Are you troubled by someone’s drinking?\nDistrict 2\, MNSA\, will be sponsoring a Step One Seminar for Families and Friends of Alcoholics \n\nSpeakers from Al-Anon\, Alateen and AA share their stories\nBooks\, Pamphlets and other information of interest\nEnjoy fellowship with others in recovery\nBreakfast snacks\, coffee\, juice and water provided\n\n\n\n\n    \n        \n            \n            \n                District 2 Step One Seminar\n                 1 file(s)  127.55 KB\n            \n            \n                Download
URL:https://mnsa-afg.org/event/district-2-step-one-seminar/
LOCATION:Christus Victor Lutheran Church\, 7610 Palomino Drive\, Apple Valley\, MN\, 55124\, United States
CATEGORIES:Step Workshop
END:VEVENT
END:VCALENDAR