BEGIN:VCALENDAR
VERSION:2.0
PRODID:-//Minnesota South Area Al-Anon - ECPv6.15.20//NONSGML v1.0//EN
CALSCALE:GREGORIAN
METHOD:PUBLISH
X-ORIGINAL-URL:https://mnsa-afg.org
X-WR-CALDESC:Events for Minnesota South Area Al-Anon
REFRESH-INTERVAL;VALUE=DURATION:PT1H
X-Robots-Tag:noindex
X-PUBLISHED-TTL:PT1H
BEGIN:VTIMEZONE
TZID:America/Chicago
BEGIN:DAYLIGHT
TZOFFSETFROM:-0600
TZOFFSETTO:-0500
TZNAME:CDT
DTSTART:20230312T080000
END:DAYLIGHT
BEGIN:STANDARD
TZOFFSETFROM:-0500
TZOFFSETTO:-0600
TZNAME:CST
DTSTART:20231105T070000
END:STANDARD
BEGIN:DAYLIGHT
TZOFFSETFROM:-0600
TZOFFSETTO:-0500
TZNAME:CDT
DTSTART:20240310T080000
END:DAYLIGHT
BEGIN:STANDARD
TZOFFSETFROM:-0500
TZOFFSETTO:-0600
TZNAME:CST
DTSTART:20241103T070000
END:STANDARD
BEGIN:DAYLIGHT
TZOFFSETFROM:-0600
TZOFFSETTO:-0500
TZNAME:CDT
DTSTART:20250309T080000
END:DAYLIGHT
BEGIN:STANDARD
TZOFFSETFROM:-0500
TZOFFSETTO:-0600
TZNAME:CST
DTSTART:20251102T070000
END:STANDARD
END:VTIMEZONE
BEGIN:VEVENT
DTSTART;TZID=America/Chicago:20240316T100000
DTEND;TZID=America/Chicago:20240316T140000
DTSTAMP:20260421T064523
CREATED:20240304T003438Z
LAST-MODIFIED:20240304T003438Z
UID:5260-1710583200-1710597600@mnsa-afg.org
SUMMARY:Minneapolis AIS Information and training session
DESCRIPTION:Minneapolis Al-Anon Information Services needs your help!\nBecause of medical issues\, the current full-time employee is not currently able to staff the AIS office. In their absence\, we need Al-Anon members to serve as office volunteers to sell literature\, answer the telephone and process email. \nMinneapolis AIS is holding an information and training session at the office (Suite 101\, 7204 West 27th Street\, St. Louis Park) from 10AM to 2PM on Saturday\, March 16. If you have some office experience and are able to commit to one day per week\, please attend this session. \nPlease bring a lunch for yourself. \nIf you have questions\, thoughts\, or comments\, email Mark A. at dakotafoundhope@aol.com.\nPlease RSVP your attendance to dakotafoundhope@aol.com
URL:https://mnsa-afg.org/event/minneapolis-ais-information-and-training-session/
LOCATION:Minneapolis AIS Office\, 7204 West 27th Street\, Suite 101\, Saint Louis Park\, MN\, 55426\, United States
CATEGORIES:AIS
END:VEVENT
END:VCALENDAR