BEGIN:VCALENDAR
VERSION:2.0
PRODID:-//Minnesota South Area Al-Anon - ECPv6.15.20//NONSGML v1.0//EN
CALSCALE:GREGORIAN
METHOD:PUBLISH
X-WR-CALNAME:Minnesota South Area Al-Anon
X-ORIGINAL-URL:https://mnsa-afg.org
X-WR-CALDESC:Events for Minnesota South Area Al-Anon
REFRESH-INTERVAL;VALUE=DURATION:PT1H
X-Robots-Tag:noindex
X-PUBLISHED-TTL:PT1H
BEGIN:VTIMEZONE
TZID:America/Chicago
BEGIN:DAYLIGHT
TZOFFSETFROM:-0600
TZOFFSETTO:-0500
TZNAME:CDT
DTSTART:20220313T080000
END:DAYLIGHT
BEGIN:STANDARD
TZOFFSETFROM:-0500
TZOFFSETTO:-0600
TZNAME:CST
DTSTART:20221106T070000
END:STANDARD
BEGIN:DAYLIGHT
TZOFFSETFROM:-0600
TZOFFSETTO:-0500
TZNAME:CDT
DTSTART:20230312T080000
END:DAYLIGHT
BEGIN:STANDARD
TZOFFSETFROM:-0500
TZOFFSETTO:-0600
TZNAME:CST
DTSTART:20231105T070000
END:STANDARD
BEGIN:DAYLIGHT
TZOFFSETFROM:-0600
TZOFFSETTO:-0500
TZNAME:CDT
DTSTART:20240310T080000
END:DAYLIGHT
BEGIN:STANDARD
TZOFFSETFROM:-0500
TZOFFSETTO:-0600
TZNAME:CST
DTSTART:20241103T070000
END:STANDARD
END:VTIMEZONE
BEGIN:VEVENT
DTSTART;TZID=America/Chicago:20230526T000000
DTEND;TZID=America/Chicago:20230528T235900
DTSTAMP:20260422T060943
CREATED:20230428T130109Z
LAST-MODIFIED:20230428T130222Z
UID:818-1685059200-1685318340@mnsa-afg.org
SUMMARY:Gopher State Roundup XLVIII
DESCRIPTION:The Gopher State Roundup XLVIII is set to take place from May 26-28\, 2023\, in Bloomington\, MN. This annual event brings together members of the recovery community to celebrate sobriety and share their experience\, strength\, and hope with each other. With a range of speakers\, workshops\, and activities\, the Gopher State Roundup is an opportunity for attendees to deepen their understanding of recovery and connect with others on a similar journey. More information about the event\, including registration details and a full schedule of activities\, can be found at gopherstateroundup.org.
URL:https://mnsa-afg.org/event/gopher-state-roundup-xlviii/
LOCATION:MN
END:VEVENT
END:VCALENDAR