BEGIN:VCALENDAR
VERSION:2.0
PRODID:-//Minnesota South Area Al-Anon - ECPv6.15.20//NONSGML v1.0//EN
CALSCALE:GREGORIAN
METHOD:PUBLISH
X-ORIGINAL-URL:https://mnsa-afg.org
X-WR-CALDESC:Events for Minnesota South Area Al-Anon
REFRESH-INTERVAL;VALUE=DURATION:PT1H
X-Robots-Tag:noindex
X-PUBLISHED-TTL:PT1H
BEGIN:VTIMEZONE
TZID:America/Chicago
BEGIN:DAYLIGHT
TZOFFSETFROM:-0600
TZOFFSETTO:-0500
TZNAME:CDT
DTSTART:20220313T080000
END:DAYLIGHT
BEGIN:STANDARD
TZOFFSETFROM:-0500
TZOFFSETTO:-0600
TZNAME:CST
DTSTART:20221106T070000
END:STANDARD
BEGIN:DAYLIGHT
TZOFFSETFROM:-0600
TZOFFSETTO:-0500
TZNAME:CDT
DTSTART:20230312T080000
END:DAYLIGHT
BEGIN:STANDARD
TZOFFSETFROM:-0500
TZOFFSETTO:-0600
TZNAME:CST
DTSTART:20231105T070000
END:STANDARD
BEGIN:DAYLIGHT
TZOFFSETFROM:-0600
TZOFFSETTO:-0500
TZNAME:CDT
DTSTART:20240310T080000
END:DAYLIGHT
BEGIN:STANDARD
TZOFFSETFROM:-0500
TZOFFSETTO:-0600
TZNAME:CST
DTSTART:20241103T070000
END:STANDARD
END:VTIMEZONE
BEGIN:VEVENT
DTSTART;TZID=America/Chicago:20230421T080000
DTEND;TZID=America/Chicago:20230423T170000
DTSTAMP:20260422T075428
CREATED:20230428T130421Z
LAST-MODIFIED:20241115T150151Z
UID:821-1682064000-1682269200@mnsa-afg.org
SUMMARY:Sunlight of the Spirit Weekend
DESCRIPTION:The Sunlight of the Spirit Weekend will be held from April 21-23\, 2023\, in Fairmont\, MN. This weekend event is designed to provide attendees with an opportunity to deepen their spiritual connection and enhance their recovery journey. With a range of workshops\, guest speakers\, and fellowship activities\, the Sunlight of the Spirit Weekend is a chance for participants to learn from each other and share their experience\, strength\, and hope. More information about the event\, including registration details and a full schedule of activities\, can be found at sotsweekend.org.
URL:https://mnsa-afg.org/event/sunlight-of-the-spirit-weekend/
LOCATION:MN
CATEGORIES:Special Event
END:VEVENT
BEGIN:VEVENT
DTSTART;TZID=America/Chicago:20230424T110000
DTEND;TZID=America/Chicago:20230424T120000
DTSTAMP:20260422T075428
CREATED:20230428T124251Z
LAST-MODIFIED:20230428T124251Z
UID:815-1682334000-1682337600@mnsa-afg.org
SUMMARY:Saturday Morning Al-Anon Book Club
DESCRIPTION:Al-Anon District 11 hosts a recurring Saturday Morning Book Club on Zoom\, which takes place on the 2nd and 4th Saturdays of every month at 11:00 AM. This event provides an opportunity for Al-Anon members to come together and discuss literature related to the program. Participants are encouraged to read the assigned material before the meeting and come prepared to share their thoughts and insights with the group. This book club is a great way to connect with other Al-Anon members and gain a deeper understanding of the program through literature.
URL:https://mnsa-afg.org/event/saturday-morning-al-anon-book-club/
LOCATION:Zoom Meeting
END:VEVENT
END:VCALENDAR