BEGIN:VCALENDAR
VERSION:2.0
PRODID:-//Minnesota South Area Al-Anon - ECPv6.15.20//NONSGML v1.0//EN
CALSCALE:GREGORIAN
METHOD:PUBLISH
X-ORIGINAL-URL:https://mnsa-afg.org
X-WR-CALDESC:Events for Minnesota South Area Al-Anon
REFRESH-INTERVAL;VALUE=DURATION:PT1H
X-Robots-Tag:noindex
X-PUBLISHED-TTL:PT1H
BEGIN:VTIMEZONE
TZID:UTC
BEGIN:STANDARD
TZOFFSETFROM:+0000
TZOFFSETTO:+0000
TZNAME:UTC
DTSTART:20220101T000000
END:STANDARD
END:VTIMEZONE
BEGIN:VEVENT
DTSTART;TZID=UTC:20230216T093000
DTEND;TZID=UTC:20230216T103000
DTSTAMP:20260422T105541
CREATED:20230217T035638Z
LAST-MODIFIED:20230217T035638Z
UID:723-1676539800-1676543400@mnsa-afg.org
SUMMARY:Way To Serenity AFG
DESCRIPTION:Text for the description of the event
URL:https://mnsa-afg.org/event/way-to-serenity-afg/
LOCATION:Day By Day Bldg\, 1414 W Main St\, Albert Lea\, MN\, 56007\, United States
CATEGORIES:Al-Anon,Meeting Details
END:VEVENT
END:VCALENDAR