BEGIN:VCALENDAR
VERSION:2.0
PRODID:-//Minnesota South Area Al-Anon - ECPv6.15.20//NONSGML v1.0//EN
CALSCALE:GREGORIAN
METHOD:PUBLISH
X-ORIGINAL-URL:https://mnsa-afg.org
X-WR-CALDESC:Events for Minnesota South Area Al-Anon
REFRESH-INTERVAL;VALUE=DURATION:PT1H
X-Robots-Tag:noindex
X-PUBLISHED-TTL:PT1H
BEGIN:VTIMEZONE
TZID:America/Chicago
BEGIN:DAYLIGHT
TZOFFSETFROM:-0600
TZOFFSETTO:-0500
TZNAME:CDT
DTSTART:20240310T080000
END:DAYLIGHT
BEGIN:STANDARD
TZOFFSETFROM:-0500
TZOFFSETTO:-0600
TZNAME:CST
DTSTART:20241103T070000
END:STANDARD
BEGIN:DAYLIGHT
TZOFFSETFROM:-0600
TZOFFSETTO:-0500
TZNAME:CDT
DTSTART:20250309T080000
END:DAYLIGHT
BEGIN:STANDARD
TZOFFSETFROM:-0500
TZOFFSETTO:-0600
TZNAME:CST
DTSTART:20251102T070000
END:STANDARD
BEGIN:DAYLIGHT
TZOFFSETFROM:-0600
TZOFFSETTO:-0500
TZNAME:CDT
DTSTART:20260308T080000
END:DAYLIGHT
BEGIN:STANDARD
TZOFFSETFROM:-0500
TZOFFSETTO:-0600
TZNAME:CST
DTSTART:20261101T070000
END:STANDARD
END:VTIMEZONE
BEGIN:VEVENT
DTSTART;TZID=America/Chicago:20251004T090000
DTEND;TZID=America/Chicago:20251004T103000
DTSTAMP:20260423T151148
CREATED:20250915T124549Z
LAST-MODIFIED:20250915T125214Z
UID:8154-1759568400-1759573800@mnsa-afg.org
SUMMARY:Nuts & Bolts Service Service Series-Al Anon Service
DESCRIPTION:Do you have questions about being of service in your Al-Anon Family Group?  Join us for one of our free Nuts and Bolts Service Meetups this Fall for a light breakfast and facilitated discussion with others who have served\, currently serve\, or hope to serve in that role. \nParticipation is limited to TWELVE participants so pre-registration is required by emailing d11afc@icloud.com \n\n\n\n    \n        \n            \n            \n                Nuts and Bolts Fall 2025\n                 1 file(s)  427.74 KB\n            \n            \n                Download
URL:https://mnsa-afg.org/event/nuts-bolts-service-service-series/
LOCATION:Al-Anon/Alateen Information Services\, 7204 W 27th Street Suite 101\, Saint Louis Park\, MN\, 55426\, United States
CATEGORIES:AIS,Special Event
END:VEVENT
BEGIN:VEVENT
DTSTART;TZID=America/Chicago:20251011T090000
DTEND;TZID=America/Chicago:20251011T103000
DTSTAMP:20260423T151148
CREATED:20250915T124928Z
LAST-MODIFIED:20250915T125142Z
UID:8159-1760173200-1760178600@mnsa-afg.org
SUMMARY:Nuts & Bolts Service Service Series-Group Literature
DESCRIPTION:Do you have questions about being of service in your Al-Anon Family Group?  Join us for one of our free Nuts and Bolts Service Meetups this Fall for a light breakfast and facilitated discussion with others who have served\, currently serve\, or hope to serve in that role. \nParticipation is limited to TWELVE participants so pre-registration is required by emailing d11afc@icloud.com \n\n\n\n    \n        \n            \n            \n                Nuts and Bolts Fall 2025\n                 1 file(s)  427.74 KB\n            \n            \n                Download
URL:https://mnsa-afg.org/event/nuts-bolts-service-service-series-2/
LOCATION:Al-Anon/Alateen Information Services\, 7204 W 27th Street Suite 101\, Saint Louis Park\, MN\, 55426\, United States
CATEGORIES:AIS,Special Event
END:VEVENT
BEGIN:VEVENT
DTSTART;TZID=America/Chicago:20251011T110000
DTEND;TZID=America/Chicago:20251011T120000
DTSTAMP:20260423T151148
CREATED:20250721T220316Z
LAST-MODIFIED:20250724T124010Z
UID:7946-1760180400-1760184000@mnsa-afg.org
SUMMARY:Saturday Morning Al-Anon Book Study (zoom only)
DESCRIPTION:Join us on the 2nd and 4th Saturday of each month for Al-Anon Book Study (open to all) from 11:00 am to 12:00 pm on Zoom. \nWe’re excited to announce that on Saturday\, September 13 we’ll be starting a new book: Discovering Choices: Our Recovery in Relationships. \nPlease contact d11afc@icloud.com for Zoom login info. \nNo need to have read the book before you attend. We just start reading and discussing wherever we’ve last left off\, focusing on a small selection of the book each meeting. \n\n\n\n    \n        \n            \n            \n                Saturday Morning Al-Anon Book Club\n                 1 file(s)  262.02 KB\n            \n            \n                Download\n            \n        \n    \n\n\n\n 
URL:https://mnsa-afg.org/event/saturday-morning-al-anon-book-study-zoom-only-3/
LOCATION:Zoom Meeting
CATEGORIES:Al-Anon,Special Event
END:VEVENT
BEGIN:VEVENT
DTSTART;TZID=America/Chicago:20251025T090000
DTEND;TZID=America/Chicago:20251025T103000
DTSTAMP:20260423T151148
CREATED:20250915T124953Z
LAST-MODIFIED:20250915T125129Z
UID:8160-1761382800-1761388200@mnsa-afg.org
SUMMARY:Nuts & Bolts Service Service Series-Group Inventory
DESCRIPTION:Do you have questions about being of service in your Al-Anon Family Group?  Join us for one of our free Nuts and Bolts Service Meetups this Fall for a light breakfast and facilitated discussion with others who have served\, currently serve\, or hope to serve in that role. \nParticipation is limited to TWELVE participants so pre-registration is required by emailing d11afc@icloud.com \n\n\n\n    \n        \n            \n            \n                Nuts and Bolts Fall 2025\n                 1 file(s)  427.74 KB\n            \n            \n                Download
URL:https://mnsa-afg.org/event/nuts-bolts-service-service-series-3/
LOCATION:Al-Anon/Alateen Information Services\, 7204 W 27th Street Suite 101\, Saint Louis Park\, MN\, 55426\, United States
CATEGORIES:AIS,Special Event
END:VEVENT
BEGIN:VEVENT
DTSTART;TZID=America/Chicago:20251025T090000
DTEND;TZID=America/Chicago:20251025T120000
DTSTAMP:20260423T151148
CREATED:20250922T130908Z
LAST-MODIFIED:20250922T131051Z
UID:8177-1761382800-1761393600@mnsa-afg.org
SUMMARY:Al-Anon Slogans Workshop
DESCRIPTION:“The Al-Anon slogans are easy to learn and remember. You may have heard some of these slogans hundreds of times before without ever taking them seriously or trying to put them to work. After all\, they are clichés\, and easy to disregard. But it is their very simplicity that makes them so powerful.” \nJoin us in mining the wisdom of our slogans. This will be an opportunity to share your stories and learn from others as we endeavor to apply the slogans in our lives. \nFree parking / Accessible / Sponsored by Al-Anon District 8 \nPlease RSVP D8service@protonmail.com so that we may plan space\, materials and food. Can’t commit ‘til the last minute? It’s fine! Please join us! \n  \n\n\n\n    \n        \n            \n            \n                Al Anon Slogans 10.25.25\n                 1 file(s)  1.53 MB\n            \n            \n                Download
URL:https://mnsa-afg.org/event/al-anon-slogans-workshop/
LOCATION:The Recovery Church\, 253 State Street S.\, St. Paul\, MN\, 55107\, United States
CATEGORIES:Special Event
END:VEVENT
BEGIN:VEVENT
DTSTART;TZID=America/Chicago:20251025T110000
DTEND;TZID=America/Chicago:20251025T120000
DTSTAMP:20260423T151148
CREATED:20250721T220356Z
LAST-MODIFIED:20250724T124040Z
UID:7948-1761390000-1761393600@mnsa-afg.org
SUMMARY:Saturday Morning Al-Anon Book Study (zoom only)
DESCRIPTION:Join us on the 2nd and 4th Saturday of each month for Al-Anon Book Study (open to all) from 11:00 am to 12:00 pm on Zoom. \nWe’re excited to announce that on Saturday\, September 13 we’ll be starting a new book: Discovering Choices: Our Recovery in Relationships. \nPlease contact d11afc@icloud.com for Zoom login info. \nNo need to have read the book before you attend. We just start reading and discussing wherever we’ve last left off\, focusing on a small selection of the book each meeting. \n\n\n\n    \n        \n            \n            \n                Saturday Morning Al-Anon Book Club\n                 1 file(s)  262.02 KB\n            \n            \n                Download\n            \n        \n    \n\n\n\n 
URL:https://mnsa-afg.org/event/saturday-morning-al-anon-book-study-zoom-only-4/
LOCATION:Zoom Meeting
CATEGORIES:Al-Anon,Special Event
END:VEVENT
END:VCALENDAR