BEGIN:VCALENDAR
VERSION:2.0
PRODID:-//Minnesota South Area Al-Anon - ECPv6.15.20//NONSGML v1.0//EN
CALSCALE:GREGORIAN
METHOD:PUBLISH
X-ORIGINAL-URL:https://mnsa-afg.org
X-WR-CALDESC:Events for Minnesota South Area Al-Anon
REFRESH-INTERVAL;VALUE=DURATION:PT1H
X-Robots-Tag:noindex
X-PUBLISHED-TTL:PT1H
BEGIN:VTIMEZONE
TZID:America/Chicago
BEGIN:DAYLIGHT
TZOFFSETFROM:-0600
TZOFFSETTO:-0500
TZNAME:CDT
DTSTART:20240310T080000
END:DAYLIGHT
BEGIN:STANDARD
TZOFFSETFROM:-0500
TZOFFSETTO:-0600
TZNAME:CST
DTSTART:20241103T070000
END:STANDARD
BEGIN:DAYLIGHT
TZOFFSETFROM:-0600
TZOFFSETTO:-0500
TZNAME:CDT
DTSTART:20250309T080000
END:DAYLIGHT
BEGIN:STANDARD
TZOFFSETFROM:-0500
TZOFFSETTO:-0600
TZNAME:CST
DTSTART:20251102T070000
END:STANDARD
BEGIN:DAYLIGHT
TZOFFSETFROM:-0600
TZOFFSETTO:-0500
TZNAME:CDT
DTSTART:20260308T080000
END:DAYLIGHT
BEGIN:STANDARD
TZOFFSETFROM:-0500
TZOFFSETTO:-0600
TZNAME:CST
DTSTART:20261101T070000
END:STANDARD
END:VTIMEZONE
BEGIN:VEVENT
DTSTART;TZID=America/Chicago:20250724T180000
DTEND;TZID=America/Chicago:20250724T200000
DTSTAMP:20260423T193324
CREATED:20241014T162952Z
LAST-MODIFIED:20241014T162952Z
UID:7253-1753380000-1753387200@mnsa-afg.org
SUMMARY:26th Anniversary Party: Keep Coming Back Al-Anon Group
DESCRIPTION:Please join the group\, Keep Coming Back Al-Anon as they celebrate their 26th Anniversary with a party! \nThere will be a potluck dinner and speakers. \nFor more information\, please email mnsacalendar@gmail.com to be put in touch with the Group Rep.
URL:https://mnsa-afg.org/event/26th-anniversary-party-keep-coming-back-al-anon-group/
LOCATION:West Suburban Alano\, 5235 Woodhill Road\, Minnetonka\, MN\, 55345\, United States
CATEGORIES:Al-Anon,Special Event
END:VEVENT
END:VCALENDAR