BEGIN:VCALENDAR
VERSION:2.0
PRODID:-//Minnesota South Area Al-Anon - ECPv6.15.20//NONSGML v1.0//EN
CALSCALE:GREGORIAN
METHOD:PUBLISH
X-WR-CALNAME:Minnesota South Area Al-Anon
X-ORIGINAL-URL:https://mnsa-afg.org
X-WR-CALDESC:Events for Minnesota South Area Al-Anon
REFRESH-INTERVAL;VALUE=DURATION:PT1H
X-Robots-Tag:noindex
X-PUBLISHED-TTL:PT1H
BEGIN:VTIMEZONE
TZID:America/Chicago
BEGIN:DAYLIGHT
TZOFFSETFROM:-0600
TZOFFSETTO:-0500
TZNAME:CDT
DTSTART:20230312T080000
END:DAYLIGHT
BEGIN:STANDARD
TZOFFSETFROM:-0500
TZOFFSETTO:-0600
TZNAME:CST
DTSTART:20231105T070000
END:STANDARD
BEGIN:DAYLIGHT
TZOFFSETFROM:-0600
TZOFFSETTO:-0500
TZNAME:CDT
DTSTART:20240310T080000
END:DAYLIGHT
BEGIN:STANDARD
TZOFFSETFROM:-0500
TZOFFSETTO:-0600
TZNAME:CST
DTSTART:20241103T070000
END:STANDARD
BEGIN:DAYLIGHT
TZOFFSETFROM:-0600
TZOFFSETTO:-0500
TZNAME:CDT
DTSTART:20250309T080000
END:DAYLIGHT
BEGIN:STANDARD
TZOFFSETFROM:-0500
TZOFFSETTO:-0600
TZNAME:CST
DTSTART:20251102T070000
END:STANDARD
BEGIN:DAYLIGHT
TZOFFSETFROM:-0600
TZOFFSETTO:-0500
TZNAME:CDT
DTSTART:20260308T080000
END:DAYLIGHT
BEGIN:STANDARD
TZOFFSETFROM:-0500
TZOFFSETTO:-0600
TZNAME:CST
DTSTART:20261101T070000
END:STANDARD
END:VTIMEZONE
BEGIN:VEVENT
DTSTART;TZID=America/Chicago:20250626T193000
DTEND;TZID=America/Chicago:20250626T193000
DTSTAMP:20260421T151105
CREATED:20241111T161838Z
LAST-MODIFIED:20241111T171157Z
UID:7385-1750966200-1750966200@mnsa-afg.org
SUMMARY:Open Speaker Meeting -NYA STEP AFG (2025)
DESCRIPTION:Join the NYA STEP AFG\, the hosts of a monthly open speaker meeting\, the 4th Thursday of each month. \nThis event is open to all participants.  The meeting is held exclusively on Zoom. \nSpeaker begins at 8pm and ends at 9pm.  The zoom room will be open 7:30pm-9:30pm to allow for setup prior to the speaker meeting\, and Q&A after the speaker concludes. \nZoom Meeting ID: 827 1811 6071 \nPasscode: 556907
URL:https://mnsa-afg.org/event/open-speaker-meeting-nya-step-afg-2025-4/
LOCATION:Zoom Meeting
CATEGORIES:Speaker Meeting
END:VEVENT
BEGIN:VEVENT
DTSTART;TZID=America/Chicago:20250522T193000
DTEND;TZID=America/Chicago:20250522T213000
DTSTAMP:20260421T151105
CREATED:20241111T161714Z
LAST-MODIFIED:20241111T171229Z
UID:7384-1747942200-1747949400@mnsa-afg.org
SUMMARY:Open Speaker Meeting -NYA STEP AFG (2025)
DESCRIPTION:Join the NYA STEP AFG\, the hosts of a monthly open speaker meeting\, the 4th Thursday of each month. \nThis event is open to all participants.  The meeting is held exclusively on Zoom. \nSpeaker begins at 8pm and ends at 9pm.  The zoom room will be open 7:30pm-9:30pm to allow for setup prior to the speaker meeting\, and Q&A after the speaker concludes. \nZoom Meeting ID: 827 1811 6071 \nPasscode: 556907
URL:https://mnsa-afg.org/event/open-speaker-meeting-nya-step-afg-2025-3/
LOCATION:Zoom Meeting
CATEGORIES:Speaker Meeting
END:VEVENT
BEGIN:VEVENT
DTSTART;TZID=America/Chicago:20250515T174500
DTEND;TZID=America/Chicago:20250515T200000
DTSTAMP:20260421T151105
CREATED:20250406T224755Z
LAST-MODIFIED:20250406T225234Z
UID:7806-1747331100-1747339200@mnsa-afg.org
SUMMARY:Quiet Moments Al-Anon 45th Anniversary Celebration
DESCRIPTION:Speaker Meeting and Potluck! \nThe annual Anniversary Celebration is open to everyone ~please feel free to bring your Family and Friends to find out more about the HOPE available to anyone affected by someone else’s drinking \nIn Person: \n5:45 pm Potluck Dinner Set-Up \n6:15 pm Potluck Dinner \n6:45pm Speakers (Kevin S.-AA\, Kirsten S.-Al-Anon) \nAND \nOn-Line: \nSpeakers only 6:45pm  by logging into www.myrecovery.org \n\n\n\n    \n        \n            \n            \n                Quiet Moments 45th Anniversary\n                 1 file(s)  232.64 KB\n            \n            \n                Download
URL:https://mnsa-afg.org/event/quiet-moments-al-anon-45th-anniversary-celebration/
CATEGORIES:Al-Anon,Alateen,Friends & Family,Speaker Meeting,Special Event
ORGANIZER;CN="Quiet Moments AFG":MAILTO:quietmomentsgroup@gmail.com
END:VEVENT
BEGIN:VEVENT
DTSTART;TZID=America/Chicago:20250424T193000
DTEND;TZID=America/Chicago:20250424T213000
DTSTAMP:20260421T151105
CREATED:20241111T161617Z
LAST-MODIFIED:20241111T171317Z
UID:7382-1745523000-1745530200@mnsa-afg.org
SUMMARY:Open Speaker Meeting -NYA STEP AFG (2025)
DESCRIPTION:Join the NYA STEP AFG\, the hosts of a monthly open speaker meeting\, the 4th Thursday of each month. \nThis event is open to all participants.  The meeting is held exclusively on Zoom. \nSpeaker begins at 8pm and ends at 9pm.  The zoom room will be open 7:30pm-9:30pm to allow for setup prior to the speaker meeting\, and Q&A after the speaker concludes. \nZoom Meeting ID: 827 1811 6071 \nPasscode: 556907
URL:https://mnsa-afg.org/event/open-speaker-meeting-nya-step-afg-2025-2/
LOCATION:Zoom Meeting
CATEGORIES:Speaker Meeting
END:VEVENT
BEGIN:VEVENT
DTSTART;TZID=America/Chicago:20250327T193000
DTEND;TZID=America/Chicago:20250327T213000
DTSTAMP:20260421T151105
CREATED:20241111T161505Z
LAST-MODIFIED:20241111T171357Z
UID:7380-1743103800-1743111000@mnsa-afg.org
SUMMARY:Open Speaker Meeting -NYA STEP AFG (2025)
DESCRIPTION:Join the NYA STEP AFG\, the hosts of a monthly open speaker meeting\, the 4th Thursday of each month. \nThis event is open to all participants.  The meeting is held exclusively on Zoom. \nSpeaker begins at 8pm and ends at 9pm.  The zoom room will be open 7:30pm-9:30pm to allow for setup prior to the speaker meeting\, and Q&A after the speaker concludes. \nZoom Meeting ID: 827 1811 6071 \nPasscode: 556907
URL:https://mnsa-afg.org/event/open-speaker-meeting-nya-step-afg-2025/
LOCATION:Zoom Meeting
CATEGORIES:Speaker Meeting
END:VEVENT
BEGIN:VEVENT
DTSTART;TZID=America/Chicago:20250227T193000
DTEND;TZID=America/Chicago:20250227T213000
DTSTAMP:20260421T151105
CREATED:20241111T171448Z
LAST-MODIFIED:20241111T171448Z
UID:7419-1740684600-1740691800@mnsa-afg.org
SUMMARY:Open Speaker Meeting -NYA STEP AFG (2025)
DESCRIPTION:Join the NYA STEP AFG\, the hosts of a monthly open speaker meeting\, the 4th Thursday of each month. \nThis event is open to all participants.  The meeting is held exclusively on Zoom. \nSpeaker begins at 8pm and ends at 9pm.  The zoom room will be open 7:30pm-9:30pm to allow for setup prior to the speaker meeting\, and Q&A after the speaker concludes. \nZoom Meeting ID: 827 1811 6071 \nPasscode: 556907
URL:https://mnsa-afg.org/event/open-speaker-meeting-nya-step-afg-2025-12/
LOCATION:Zoom Meeting
CATEGORIES:Speaker Meeting
END:VEVENT
BEGIN:VEVENT
DTSTART;TZID=America/Chicago:20250123T193000
DTEND;TZID=America/Chicago:20250123T213000
DTSTAMP:20260421T151105
CREATED:20241111T171521Z
LAST-MODIFIED:20241111T171521Z
UID:7421-1737660600-1737667800@mnsa-afg.org
SUMMARY:Open Speaker Meeting -NYA STEP AFG (2025)
DESCRIPTION:Join the NYA STEP AFG\, the hosts of a monthly open speaker meeting\, the 4th Thursday of each month. \nThis event is open to all participants.  The meeting is held exclusively on Zoom. \nSpeaker begins at 8pm and ends at 9pm.  The zoom room will be open 7:30pm-9:30pm to allow for setup prior to the speaker meeting\, and Q&A after the speaker concludes. \nZoom Meeting ID: 827 1811 6071 \nPasscode: 556907
URL:https://mnsa-afg.org/event/open-speaker-meeting-nya-step-afg-2025-13/
LOCATION:Zoom Meeting
CATEGORIES:Speaker Meeting
END:VEVENT
BEGIN:VEVENT
DTSTART;TZID=America/Chicago:20241226T193000
DTEND;TZID=America/Chicago:20241226T213000
DTSTAMP:20260421T151105
CREATED:20241111T162033Z
LAST-MODIFIED:20241226T153045Z
UID:7392-1735241400-1735248600@mnsa-afg.org
SUMMARY:Open Speaker Meeting -NYA STEP AFG (2025)
DESCRIPTION:Join the NYA STEP AFG\, the hosts of a monthly open speaker meeting\, the 4th Tuesday of each month. \nThis event is open to all participants.  The meeting is held exclusively on Zoom. \nSpeaker begins at 8pm and ends at 9pm.  The zoom room will be open 7:30pm-9:30pm to allow for setup prior to the speaker meeting\, and Q&A after the speaker concludes. \nZoom Meeting ID: 827 1811 6071 \nPasscode: 556907
URL:https://mnsa-afg.org/event/open-speaker-meeting-nya-step-afg-2025-6/
LOCATION:Zoom Meeting
CATEGORIES:Speaker Meeting
END:VEVENT
BEGIN:VEVENT
DTSTART;TZID=America/Chicago:20241130T170000
DTEND;TZID=America/Chicago:20241130T200000
DTSTAMP:20260421T151105
CREATED:20241119T144937Z
LAST-MODIFIED:20241119T144937Z
UID:7499-1732986000-1732996800@mnsa-afg.org
SUMMARY:Friends-giving Al-Anon-AA Joint Meeting & Fellowship Mixer
DESCRIPTION:Meeting and Fellowship Event:  This is a Family Disease! \n5pm: Fellowship: Turkey Day Leftovers (bring a leftover Thanksgiving dish/dessert to share; some refreshments provided) \n6pm: Al-Anon Speaker \n7pm: Fellowship:  Bill and Lois Meet and Greet (Bring Family and Friends as Al-Anon and AA members discover recovery together) \n\n\n\n    \n        \n            \n            \n                Friendsgiving Joint Meeting 11.30.24\n                 1 file(s)  344.05 KB\n            \n            \n                Download
URL:https://mnsa-afg.org/event/friends-giving-al-anon-aa-joint-meeting-fellowship-mixer/
LOCATION:The Garage\, 1765 Restoration Road SW\, Rochester\, MN\, United States
CATEGORIES:Al-Anon,Friends & Family,Speaker Meeting,Special Event
END:VEVENT
END:VCALENDAR