BEGIN:VCALENDAR
VERSION:2.0
PRODID:-//Minnesota South Area Al-Anon - ECPv6.15.20//NONSGML v1.0//EN
CALSCALE:GREGORIAN
METHOD:PUBLISH
X-WR-CALNAME:Minnesota South Area Al-Anon
X-ORIGINAL-URL:https://mnsa-afg.org
X-WR-CALDESC:Events for Minnesota South Area Al-Anon
REFRESH-INTERVAL;VALUE=DURATION:PT1H
X-Robots-Tag:noindex
X-PUBLISHED-TTL:PT1H
BEGIN:VTIMEZONE
TZID:America/Chicago
BEGIN:DAYLIGHT
TZOFFSETFROM:-0600
TZOFFSETTO:-0500
TZNAME:CDT
DTSTART:20250309T080000
END:DAYLIGHT
BEGIN:STANDARD
TZOFFSETFROM:-0500
TZOFFSETTO:-0600
TZNAME:CST
DTSTART:20251102T070000
END:STANDARD
BEGIN:DAYLIGHT
TZOFFSETFROM:-0600
TZOFFSETTO:-0500
TZNAME:CDT
DTSTART:20260308T080000
END:DAYLIGHT
BEGIN:STANDARD
TZOFFSETFROM:-0500
TZOFFSETTO:-0600
TZNAME:CST
DTSTART:20261101T070000
END:STANDARD
BEGIN:DAYLIGHT
TZOFFSETFROM:-0600
TZOFFSETTO:-0500
TZNAME:CDT
DTSTART:20270314T080000
END:DAYLIGHT
BEGIN:STANDARD
TZOFFSETFROM:-0500
TZOFFSETTO:-0600
TZNAME:CST
DTSTART:20271107T070000
END:STANDARD
END:VTIMEZONE
BEGIN:VEVENT
DTSTART;TZID=America/Chicago:20260423T190000
DTEND;TZID=America/Chicago:20260423T210000
DTSTAMP:20260421T114925
CREATED:20251124T162809Z
LAST-MODIFIED:20251124T164041Z
UID:8353-1776970800-1776978000@mnsa-afg.org
SUMMARY:NYA STEP AFG Open Meeting
DESCRIPTION:Please join this monthly open meeting–all are welcome!  Thanks for understanding that speakers will be present as available.  Meetings will be held even if there isn’t a designated speaker. \nZoom only:827 1811 6071 \ncode: 556907
URL:https://mnsa-afg.org/event/nya-step-afg-open-meeting-4/
LOCATION:Zoom Meeting
CATEGORIES:Friends & Family,Speaker Meeting
END:VEVENT
BEGIN:VEVENT
DTSTART;TZID=America/Chicago:20260430T183000
DTEND;TZID=America/Chicago:20260430T203000
DTSTAMP:20260421T114925
CREATED:20260118T023438Z
LAST-MODIFIED:20260118T023438Z
UID:8475-1777573800-1777581000@mnsa-afg.org
SUMMARY:Al-Anon and Alcoholics Anonymous (AA) Joint Speaker Meeting
DESCRIPTION:Al-Anon and Alcoholics Anonymous (AA) Joint Speaker Meeting\nOccurs on the 5th Thursday of the month\n\nAll are welcome to join this open speaker meeting.\n\nSnacks: 6:30 PM \nMeeting: 7:00 PM  
URL:https://mnsa-afg.org/event/al-anon-and-alcoholics-anonymous-aa-joint-speaker-meeting-3/
LOCATION:Mount Olive Lutheran Church\, 2830 18th Ave NW\, Rochester\, MN\, 55901\, United States
CATEGORIES:Speaker Meeting
END:VEVENT
BEGIN:VEVENT
DTSTART;TZID=America/Chicago:20260514T174500
DTEND;TZID=America/Chicago:20260514T200000
DTSTAMP:20260421T114925
CREATED:20260411T144124Z
LAST-MODIFIED:20260411T145109Z
UID:8693-1778780700-1778788800@mnsa-afg.org
SUMMARY:Quiet Moments Al-Anon 46th Anniversary Celebration
DESCRIPTION:Speaker Meeting and Potluck \nOur annual anniversary celebration is open to everyone.  Please feel free to bring your family and friends to find out more about the HOPE available to anyone affected by someone else’s drinking. \n5:45pm-Potluck Dinner Set-Up \n6:15pm-Potluck Dinner \n6:45pm-Speakers: AA-Jeff F.\,  Al-Anon-Mary W.\, Alateen Speakers \nOnline begins at 6:45pm log in to www.myrecovery.org \n  \n\n\n\n    \n        \n            \n            \n                Quiet Moments Anniversary Potluck 2026\n                 1 file(s)  112.14 KB\n            \n            \n                Download
URL:https://mnsa-afg.org/event/quiet-moments-al-anon-46th-anniversary-celebration/
LOCATION:St Luke’s Lutheran Church\, 1701 West Old Shakopee Road\, Bloomington\, 55431\, United States
CATEGORIES:Al-Anon,Alateen,Friends & Family,Speaker Meeting,Special Event
END:VEVENT
BEGIN:VEVENT
DTSTART;TZID=America/Chicago:20260528T190000
DTEND;TZID=America/Chicago:20260528T210000
DTSTAMP:20260421T114925
CREATED:20251124T162841Z
LAST-MODIFIED:20251124T164008Z
UID:8352-1779994800-1780002000@mnsa-afg.org
SUMMARY:NYA STEP AFG Open Meeting
DESCRIPTION:Please join this monthly open meeting–all are welcome!  Thanks for understanding that speakers will be present as available.  Meetings will be held even if there isn’t a designated speaker. \nZoom only:827 1811 6071 \ncode: 556907
URL:https://mnsa-afg.org/event/nya-step-afg-open-meeting-5/
LOCATION:Zoom Meeting
CATEGORIES:Friends & Family,Speaker Meeting
END:VEVENT
BEGIN:VEVENT
DTSTART;TZID=America/Chicago:20260620T174500
DTEND;TZID=America/Chicago:20260620T200000
DTSTAMP:20260421T114925
CREATED:20260414T120809Z
LAST-MODIFIED:20260414T121355Z
UID:8706-1781977500-1781985600@mnsa-afg.org
SUMMARY:Al-Anon/Alateen 75th Birthday Party
DESCRIPTION:Come celebrate the 75th Birthday Party of Al-Anon/Alateen with a Potluck.  Please bring appetizers\, meal\, or desserts.  Beverages will be provided.  Doors open after 5:45pm. \nSpeakers from Al-Anon\, A.A.\, and Alateen from 7-8pm. \nThe Al-Anon Bookstore will be open! \n  \n\n\n\n    \n        \n            \n            \n                Al-Anon/Alateen 75th Birthday Party 2026\n                 1 file(s)  1.07 MB\n            \n            \n                Download
URL:https://mnsa-afg.org/event/al-anon-alateen-75th-birthday-party/
LOCATION:The Recovery Church\, 253 State Street S.\, St. Paul\, MN\, 55107\, United States
CATEGORIES:Al-Anon,Alateen,Speaker Meeting,Special Event
END:VEVENT
BEGIN:VEVENT
DTSTART;TZID=America/Chicago:20260625T190000
DTEND;TZID=America/Chicago:20260625T210000
DTSTAMP:20260421T114925
CREATED:20251124T162919Z
LAST-MODIFIED:20251124T163918Z
UID:8351-1782414000-1782421200@mnsa-afg.org
SUMMARY:NYA STEP AFG Open Meeting
DESCRIPTION:Please join this monthly open meeting–all are welcome!  Thanks for understanding that speakers will be present as available.  Meetings will be held even if there isn’t a designated speaker. \nZoom only:827 1811 6071 \ncode: 556907
URL:https://mnsa-afg.org/event/nya-step-afg-open-meeting-6/
LOCATION:Zoom Meeting
CATEGORIES:Friends & Family,Speaker Meeting
END:VEVENT
BEGIN:VEVENT
DTSTART;TZID=America/Chicago:20260723T190000
DTEND;TZID=America/Chicago:20260723T210000
DTSTAMP:20260421T114925
CREATED:20251124T162953Z
LAST-MODIFIED:20251124T163837Z
UID:8350-1784833200-1784840400@mnsa-afg.org
SUMMARY:NYA STEP AFG Open Meeting
DESCRIPTION:Please join this monthly open meeting–all are welcome!  Thanks for understanding that speakers will be present as available.  Meetings will be held even if there isn’t a designated speaker. \nZoom only:827 1811 6071 \ncode: 556907
URL:https://mnsa-afg.org/event/nya-step-afg-open-meeting-7/
LOCATION:Zoom Meeting
CATEGORIES:Friends & Family,Speaker Meeting
END:VEVENT
BEGIN:VEVENT
DTSTART;TZID=America/Chicago:20260730T183000
DTEND;TZID=America/Chicago:20260730T203000
DTSTAMP:20260421T114925
CREATED:20260118T023514Z
LAST-MODIFIED:20260118T023514Z
UID:8474-1785436200-1785443400@mnsa-afg.org
SUMMARY:Al-Anon and Alcoholics Anonymous (AA) Joint Speaker Meeting
DESCRIPTION:Al-Anon and Alcoholics Anonymous (AA) Joint Speaker Meeting\nOccurs on the 5th Thursday of the month\n\nAll are welcome to join this open speaker meeting.\n\nSnacks: 6:30 PM \nMeeting: 7:00 PM  
URL:https://mnsa-afg.org/event/al-anon-and-alcoholics-anonymous-aa-joint-speaker-meeting-4/
LOCATION:Mount Olive Lutheran Church\, 2830 18th Ave NW\, Rochester\, MN\, 55901\, United States
CATEGORIES:Al-Anon,Alateen,Friends & Family,Speaker Meeting
END:VEVENT
BEGIN:VEVENT
DTSTART;TZID=America/Chicago:20260827T190000
DTEND;TZID=America/Chicago:20260827T210000
DTSTAMP:20260421T114925
CREATED:20251124T163020Z
LAST-MODIFIED:20251124T163757Z
UID:8349-1787857200-1787864400@mnsa-afg.org
SUMMARY:NYA STEP AFG Open Meeting
DESCRIPTION:Please join this monthly open meeting–all are welcome!  Thanks for understanding that speakers will be present as available.  Meetings will be held even if there isn’t a designated speaker. \nZoom only:827 1811 6071 \ncode: 556907
URL:https://mnsa-afg.org/event/nya-step-afg-open-meeting-8/
LOCATION:Zoom Meeting
CATEGORIES:Friends & Family,Speaker Meeting
END:VEVENT
BEGIN:VEVENT
DTSTART;TZID=America/Chicago:20260924T190000
DTEND;TZID=America/Chicago:20260924T210000
DTSTAMP:20260421T114925
CREATED:20251124T163058Z
LAST-MODIFIED:20251124T163716Z
UID:8348-1790276400-1790283600@mnsa-afg.org
SUMMARY:NYA STEP AFG Open Meeting
DESCRIPTION:Please join this monthly open meeting–all are welcome!  Thanks for understanding that speakers will be present as available.  Meetings will be held even if there isn’t a designated speaker. \nZoom only:827 1811 6071 \ncode: 556907
URL:https://mnsa-afg.org/event/nya-step-afg-open-meeting-9/
LOCATION:Zoom Meeting
CATEGORIES:Friends & Family,Speaker Meeting
END:VEVENT
BEGIN:VEVENT
DTSTART;TZID=America/Chicago:20261022T190000
DTEND;TZID=America/Chicago:20261022T210000
DTSTAMP:20260421T114925
CREATED:20251124T163143Z
LAST-MODIFIED:20251124T163541Z
UID:8347-1792695600-1792702800@mnsa-afg.org
SUMMARY:NYA STEP AFG Open Meeting
DESCRIPTION:Please join this monthly open meeting–all are welcome!  Thanks for understanding that speakers will be present as available.  Meetings will be held even if there isn’t a designated speaker. \nZoom only:827 1811 6071 \ncode: 556907
URL:https://mnsa-afg.org/event/nya-step-afg-open-meeting-10/
LOCATION:Zoom Meeting
CATEGORIES:Friends & Family,Speaker Meeting
END:VEVENT
BEGIN:VEVENT
DTSTART;TZID=America/Chicago:20261029T183000
DTEND;TZID=America/Chicago:20261029T203000
DTSTAMP:20260421T114925
CREATED:20260118T023548Z
LAST-MODIFIED:20260118T023548Z
UID:8473-1793298600-1793305800@mnsa-afg.org
SUMMARY:Al-Anon and Alcoholics Anonymous (AA) Joint Speaker Meeting
DESCRIPTION:Al-Anon and Alcoholics Anonymous (AA) Joint Speaker Meeting\nOccurs on the 5th Thursday of the month\n\nAll are welcome to join this open speaker meeting.\n\nSnacks: 6:30 PM \nMeeting: 7:00 PM  
URL:https://mnsa-afg.org/event/al-anon-and-alcoholics-anonymous-aa-joint-speaker-meeting-5/
LOCATION:Mount Olive Lutheran Church\, 2830 18th Ave NW\, Rochester\, MN\, 55901\, United States
CATEGORIES:Al-Anon,Alateen,Friends & Family,Speaker Meeting
END:VEVENT
BEGIN:VEVENT
DTSTART;TZID=America/Chicago:20261126T190000
DTEND;TZID=America/Chicago:20261126T210000
DTSTAMP:20260421T114925
CREATED:20251124T163212Z
LAST-MODIFIED:20251124T163403Z
UID:8346-1795719600-1795726800@mnsa-afg.org
SUMMARY:NYA STEP AFG Open Meeting
DESCRIPTION:Please join this monthly open meeting–all are welcome!  Thanks for understanding that speakers will be present as available.  Meetings will be held even if there isn’t a designated speaker. \nZoom only:827 1811 6071 \ncode: 556907
URL:https://mnsa-afg.org/event/nya-step-afg-open-meeting-11/
LOCATION:Zoom Meeting
CATEGORIES:Friends & Family,Speaker Meeting
END:VEVENT
BEGIN:VEVENT
DTSTART;TZID=America/Chicago:20261224T190000
DTEND;TZID=America/Chicago:20261224T210000
DTSTAMP:20260421T114925
CREATED:20251124T163236Z
LAST-MODIFIED:20251124T163336Z
UID:8345-1798138800-1798146000@mnsa-afg.org
SUMMARY:NYA STEP AFG Open Meeting
DESCRIPTION:Please join this monthly open meeting–all are welcome!  Thanks for understanding that speakers will be present as available.  Meetings will be held even if there isn’t a designated speaker. \nZoom only:827 1811 6071 \ncode: 556907
URL:https://mnsa-afg.org/event/nya-step-afg-open-meeting-12/
LOCATION:Zoom Meeting
CATEGORIES:Friends & Family,Speaker Meeting
END:VEVENT
END:VCALENDAR