BEGIN:VCALENDAR
VERSION:2.0
PRODID:-//Minnesota South Area Al-Anon - ECPv6.15.20//NONSGML v1.0//EN
CALSCALE:GREGORIAN
METHOD:PUBLISH
X-ORIGINAL-URL:https://mnsa-afg.org
X-WR-CALDESC:Events for Minnesota South Area Al-Anon
REFRESH-INTERVAL;VALUE=DURATION:PT1H
X-Robots-Tag:noindex
X-PUBLISHED-TTL:PT1H
BEGIN:VTIMEZONE
TZID:America/Chicago
BEGIN:DAYLIGHT
TZOFFSETFROM:-0600
TZOFFSETTO:-0500
TZNAME:CDT
DTSTART:20250309T080000
END:DAYLIGHT
BEGIN:STANDARD
TZOFFSETFROM:-0500
TZOFFSETTO:-0600
TZNAME:CST
DTSTART:20251102T070000
END:STANDARD
BEGIN:DAYLIGHT
TZOFFSETFROM:-0600
TZOFFSETTO:-0500
TZNAME:CDT
DTSTART:20260308T080000
END:DAYLIGHT
BEGIN:STANDARD
TZOFFSETFROM:-0500
TZOFFSETTO:-0600
TZNAME:CST
DTSTART:20261101T070000
END:STANDARD
BEGIN:DAYLIGHT
TZOFFSETFROM:-0600
TZOFFSETTO:-0500
TZNAME:CDT
DTSTART:20270314T080000
END:DAYLIGHT
BEGIN:STANDARD
TZOFFSETFROM:-0500
TZOFFSETTO:-0600
TZNAME:CST
DTSTART:20271107T070000
END:STANDARD
END:VTIMEZONE
BEGIN:VEVENT
DTSTART;TZID=America/Chicago:20260122T190000
DTEND;TZID=America/Chicago:20260122T210000
DTSTAMP:20260421T181418
CREATED:20251124T162443Z
LAST-MODIFIED:20251124T164312Z
UID:8342-1769108400-1769115600@mnsa-afg.org
SUMMARY:NYA STEP AFG Open Meeting
DESCRIPTION:Please join this monthly open meeting–all are welcome!  Thanks for understanding that speakers will be present as available.  Meetings will be held even if there isn’t a designated speaker. \nZoom only:827 1811 6071 \ncode: 556907
URL:https://mnsa-afg.org/event/nya-step-afg-open-meeting/
LOCATION:Zoom Meeting
CATEGORIES:Friends & Family,Speaker Meeting
END:VEVENT
BEGIN:VEVENT
DTSTART;TZID=America/Chicago:20260124T170000
DTEND;TZID=America/Chicago:20260124T203000
DTSTAMP:20260421T181418
CREATED:20250825T134835Z
LAST-MODIFIED:20251103T141234Z
UID:8084-1769274000-1769286600@mnsa-afg.org
SUMMARY:District 10 Speaker and Potluck Meeting
DESCRIPTION:We’ll enjoy Al-Anon\, Alateen & AA Speakers with  fellowship\, fun and food! \n1/24/26 5pm-8:30pm \nPotluck items are encouraged.  Beverages\, plates and utensils are provided \nTheme: Acceptance & Gratitude\, Making it Easy\, Keeping it Simple \n\n\n\n    \n        \n            \n            \n                Potluck-District 10 1.24.26\n                 1 file(s)  77.64 KB\n            \n            \n                Download
URL:https://mnsa-afg.org/event/district-10-speaker-and-potluck-meeting/
LOCATION:Prospect Park United Methodist Church\, 22 Orlin Ave SE\, Minneapolis\, MN\, 55414\, United States
CATEGORIES:Al-Anon,Alateen,Friends & Family,Speaker Meeting,Special Event
END:VEVENT
BEGIN:VEVENT
DTSTART;TZID=America/Chicago:20260129T183000
DTEND;TZID=America/Chicago:20260129T203000
DTSTAMP:20260421T181418
CREATED:20240520T170207Z
LAST-MODIFIED:20260118T023336Z
UID:6916-1769711400-1769718600@mnsa-afg.org
SUMMARY:Al-Anon and Alcoholics Anonymous (AA) Joint Speaker Meeting
DESCRIPTION:Al-Anon and Alcoholics Anonymous (AA) Joint Speaker Meeting\nOccurs on the 5th Thursday of the month\n\nAll are welcome to join this open speaker meeting.\n\nSnacks: 6:30 PM \nMeeting: 7:00 PM  
URL:https://mnsa-afg.org/event/al-anon-and-alcoholics-anonymous-aa-joint-speaker-meeting-district-4/
LOCATION:Mount Olive Lutheran Church\, 2830 18th Ave NW\, Rochester\, MN\, 55901\, United States
CATEGORIES:Al-Anon,Alateen,Friends & Family,Speaker Meeting
END:VEVENT
END:VCALENDAR