BEGIN:VCALENDAR
VERSION:2.0
PRODID:-//Minnesota South Area Al-Anon - ECPv6.15.20//NONSGML v1.0//EN
CALSCALE:GREGORIAN
METHOD:PUBLISH
X-WR-CALNAME:Minnesota South Area Al-Anon
X-ORIGINAL-URL:https://mnsa-afg.org
X-WR-CALDESC:Events for Minnesota South Area Al-Anon
REFRESH-INTERVAL;VALUE=DURATION:PT1H
X-Robots-Tag:noindex
X-PUBLISHED-TTL:PT1H
BEGIN:VTIMEZONE
TZID:America/Chicago
BEGIN:DAYLIGHT
TZOFFSETFROM:-0600
TZOFFSETTO:-0500
TZNAME:CDT
DTSTART:20240310T080000
END:DAYLIGHT
BEGIN:STANDARD
TZOFFSETFROM:-0500
TZOFFSETTO:-0600
TZNAME:CST
DTSTART:20241103T070000
END:STANDARD
BEGIN:DAYLIGHT
TZOFFSETFROM:-0600
TZOFFSETTO:-0500
TZNAME:CDT
DTSTART:20250309T080000
END:DAYLIGHT
BEGIN:STANDARD
TZOFFSETFROM:-0500
TZOFFSETTO:-0600
TZNAME:CST
DTSTART:20251102T070000
END:STANDARD
BEGIN:DAYLIGHT
TZOFFSETFROM:-0600
TZOFFSETTO:-0500
TZNAME:CDT
DTSTART:20260308T080000
END:DAYLIGHT
BEGIN:STANDARD
TZOFFSETFROM:-0500
TZOFFSETTO:-0600
TZNAME:CST
DTSTART:20261101T070000
END:STANDARD
END:VTIMEZONE
BEGIN:VEVENT
DTSTART;TZID=America/Chicago:20251225T193000
DTEND;TZID=America/Chicago:20251225T213000
DTSTAMP:20260421T194507
CREATED:20241111T162324Z
LAST-MODIFIED:20241111T170933Z
UID:7397-1766691000-1766698200@mnsa-afg.org
SUMMARY:Tentative Open Speaker Meeting -NYA STEP AFG (2025)
DESCRIPTION:TENTATIVE.  Will be updated as information is available. \n  \nJoin the NYA STEP AFG\, the hosts of a monthly open speaker meeting\, the 4th Thursday of each month. \nThis event is open to all participants.  The meeting is held exclusively on Zoom. \nSpeaker begins at 8pm and ends at 9pm.  The zoom room will be open 7:30pm-9:30pm to allow for setup prior to the speaker meeting\, and Q&A after the speaker concludes. \nZoom Meeting ID: 827 1811 6071 \nPasscode: 556907
URL:https://mnsa-afg.org/event/open-speaker-meeting-nya-step-afg-2025-8/
LOCATION:Zoom Meeting
CATEGORIES:Speaker Meeting
END:VEVENT
END:VCALENDAR