BEGIN:VCALENDAR
VERSION:2.0
PRODID:-//Minnesota South Area Al-Anon - ECPv6.15.20//NONSGML v1.0//EN
CALSCALE:GREGORIAN
METHOD:PUBLISH
X-ORIGINAL-URL:https://mnsa-afg.org
X-WR-CALDESC:Events for Minnesota South Area Al-Anon
REFRESH-INTERVAL;VALUE=DURATION:PT1H
X-Robots-Tag:noindex
X-PUBLISHED-TTL:PT1H
BEGIN:VTIMEZONE
TZID:America/Chicago
BEGIN:DAYLIGHT
TZOFFSETFROM:-0600
TZOFFSETTO:-0500
TZNAME:CDT
DTSTART:20240310T080000
END:DAYLIGHT
BEGIN:STANDARD
TZOFFSETFROM:-0500
TZOFFSETTO:-0600
TZNAME:CST
DTSTART:20241103T070000
END:STANDARD
BEGIN:DAYLIGHT
TZOFFSETFROM:-0600
TZOFFSETTO:-0500
TZNAME:CDT
DTSTART:20250309T080000
END:DAYLIGHT
BEGIN:STANDARD
TZOFFSETFROM:-0500
TZOFFSETTO:-0600
TZNAME:CST
DTSTART:20251102T070000
END:STANDARD
BEGIN:DAYLIGHT
TZOFFSETFROM:-0600
TZOFFSETTO:-0500
TZNAME:CDT
DTSTART:20260308T080000
END:DAYLIGHT
BEGIN:STANDARD
TZOFFSETFROM:-0500
TZOFFSETTO:-0600
TZNAME:CST
DTSTART:20261101T070000
END:STANDARD
BEGIN:DAYLIGHT
TZOFFSETFROM:-0600
TZOFFSETTO:-0500
TZNAME:CDT
DTSTART:20270314T080000
END:DAYLIGHT
BEGIN:STANDARD
TZOFFSETFROM:-0500
TZOFFSETTO:-0600
TZNAME:CST
DTSTART:20271107T070000
END:STANDARD
END:VTIMEZONE
BEGIN:VEVENT
DTSTART;TZID=America/Chicago:20260219T183000
DTEND;TZID=America/Chicago:20260219T200000
DTSTAMP:20260423T062659
CREATED:20260126T231254Z
LAST-MODIFIED:20260215T014352Z
UID:8504-1771525800-1771531200@mnsa-afg.org
SUMMARY:District 9 Monthly Meeting (2026)-ZOOM ONLY
DESCRIPTION:The District 9 Monthly Meeting is the 3rd Thursday of Every Month.  THIS MONTH (FEB) WILL BE ZOOM ONLY \n  \nZoom Information: \nJoin Zoom Meeting\nhttps://us02web.zoom.us/j/83404679734?pwd=OWRIRGlZSzI0MHZYMVhvUkpsNTF2UT09 \nMeeting ID: 834 0467 9734\nPasscode: 080284
URL:https://mnsa-afg.org/event/district-9-monthly-meeting-2026/
LOCATION:Zoom Meeting
CATEGORIES:District Meeting
ORGANIZER;CN="Al-Anon District 9":MAILTO:mnsad9afg@gmail.com
END:VEVENT
BEGIN:VEVENT
DTSTART;TZID=America/Chicago:20260219T183000
DTEND;TZID=America/Chicago:20260219T200000
DTSTAMP:20260423T062659
CREATED:20260112T175304Z
LAST-MODIFIED:20260112T175304Z
UID:8437-1771525800-1771531200@mnsa-afg.org
SUMMARY:District 8 Monthly Meeting
DESCRIPTION:District 8 Meetings held on the 3rd Thursday of Every Month from 6:30-8pm \n  \nGo to Zoom and put the information below to find our meeting.  For anonymity purposes this is not a link. \nMeeting ID : 843 3320 3473 \nPasscode: 3%8LAv \n 
URL:https://mnsa-afg.org/event/district-8-monthly-meeting-12/
LOCATION:Zoom Meeting
CATEGORIES:District Meeting
END:VEVENT
BEGIN:VEVENT
DTSTART;TZID=America/Chicago:20260128T190000
DTEND;TZID=America/Chicago:20260128T200000
DTSTAMP:20260423T062659
CREATED:20250206T145307Z
LAST-MODIFIED:20250206T145307Z
UID:7645-1769626800-1769630400@mnsa-afg.org
SUMMARY:District 11 Monthly Meeting (2026)
DESCRIPTION:Zoom only \nhttps://us02web.zoom.us/j/87396840190?pwd=cFBuakxQa0J1dk1uVXlYS3Y0aWF3UT09\n\nMeeting ID 873 9684 0190 \nPasscode: 961 287
URL:https://mnsa-afg.org/event/district-11-monthly-meeting-2026/
LOCATION:Zoom Meeting
CATEGORIES:District Meeting
END:VEVENT
BEGIN:VEVENT
DTSTART;TZID=America/Chicago:20260117T120000
DTEND;TZID=America/Chicago:20260117T133000
DTSTAMP:20260423T062659
CREATED:20251108T160354Z
LAST-MODIFIED:20251108T160354Z
UID:8281-1768651200-1768656600@mnsa-afg.org
SUMMARY:District 2 Quarterly Meeting (1Q 2026)
DESCRIPTION:Join us to learn more about upcoming District and Area events\, available and upcoming resources for your groups and members\, and tips from other G.R.’s that have worked well or not.
URL:https://mnsa-afg.org/event/district-2-quarterly-meeting-1q-2026/
LOCATION:Messiah Lutheran Church\, 16725 Highview Avenue\, Lakeville\, MN\, 55044\, United States
CATEGORIES:Al-Anon,District Meeting
END:VEVENT
BEGIN:VEVENT
DTSTART;TZID=America/Chicago:20260117T100000
DTEND;TZID=America/Chicago:20260117T110000
DTSTAMP:20260423T062659
CREATED:20251118T032340Z
LAST-MODIFIED:20251121T024102Z
UID:8298-1768644000-1768647600@mnsa-afg.org
SUMMARY:District 16 Meeting
DESCRIPTION:Held the 3rd Saturday of January\, February\, April\, May\, September\, October\, and November \nIn person option at the Friends Building. \nZoom Information: \nMeeting ID: 93710961060 \nPassword: D16AFG \n 
URL:https://mnsa-afg.org/event/district-16-meeting/
LOCATION:Friends Building\, 201 S. 3rd Street\, St. Peter\, MN\, 56082\, United States
CATEGORIES:District Meeting
END:VEVENT
BEGIN:VEVENT
DTSTART;TZID=America/Chicago:20260115T183000
DTEND;TZID=America/Chicago:20260115T200000
DTSTAMP:20260423T062659
CREATED:20260112T175104Z
LAST-MODIFIED:20260112T175104Z
UID:8424-1768501800-1768507200@mnsa-afg.org
SUMMARY:District 8 Monthly Meeting
DESCRIPTION:District 8 Meetings held on the 3rd Thursday of Every Month from 6:30-8pm \n  \nGo to Zoom and put the information below to find our meeting.  For anonymity purposes this is not a link. \nMeeting ID : 843 3320 3473 \nPasscode: 3%8LAv \n 
URL:https://mnsa-afg.org/event/district-8-monthly-meeting-11/
LOCATION:Zoom Meeting
CATEGORIES:District Meeting
END:VEVENT
BEGIN:VEVENT
DTSTART;TZID=America/Chicago:20260110T093000
DTEND;TZID=America/Chicago:20260110T113000
DTSTAMP:20260423T062659
CREATED:20251124T220557Z
LAST-MODIFIED:20260121T211331Z
UID:8368-1768037400-1768044600@mnsa-afg.org
SUMMARY:District 13 Hybrid Meetings (2026)
DESCRIPTION:All are welcome to this every other month hybrid meeting with locations varying.  If you would like to know the in-person location\, please email mnsadistrict13@gmail.com \n  \nZoom information is \n811 9699 0331 \nPasscode is 070002 \n 
URL:https://mnsa-afg.org/event/district-13-hybrid-meetings-2026/
LOCATION:Zoom Meeting
CATEGORIES:District Meeting
END:VEVENT
BEGIN:VEVENT
DTSTART;TZID=America/Chicago:20251218T183000
DTEND;TZID=America/Chicago:20251218T200000
DTSTAMP:20260423T062659
CREATED:20250205T221022Z
LAST-MODIFIED:20250818T172034Z
UID:7625-1766082600-1766088000@mnsa-afg.org
SUMMARY:District 8 Monthly Meeting
DESCRIPTION:District 8 monthly meeting for all Groups in District 8 (St. Paul.) \nZoom only (ID and password updated 8/18/25)\nMeeting ID: 843 3320 3473 \nPassword:  3%8LAv\nFor anonymity purposes\, this is not a link. \n 
URL:https://mnsa-afg.org/event/district-8-monthly-meeting-10/
LOCATION:Zoom Meeting
CATEGORIES:District Meeting
END:VEVENT
BEGIN:VEVENT
DTSTART;TZID=America/Chicago:20251120T183000
DTEND;TZID=America/Chicago:20251120T200000
DTSTAMP:20260423T062659
CREATED:20250205T220942Z
LAST-MODIFIED:20250818T172001Z
UID:7624-1763663400-1763668800@mnsa-afg.org
SUMMARY:District 8 Monthly Meeting
DESCRIPTION:District 8 monthly meeting for all Groups in District 8 (St. Paul.) \nZoom only (ID and password updated 8/18/25)\nMeeting ID: 843 3320 3473 \nPassword:  3%8LAv\nFor anonymity purposes\, this is not a link. \n 
URL:https://mnsa-afg.org/event/district-8-monthly-meeting-9/
LOCATION:Zoom Meeting
CATEGORIES:District Meeting
END:VEVENT
BEGIN:VEVENT
DTSTART;TZID=America/Chicago:20251108T093000
DTEND;TZID=America/Chicago:20251108T113000
DTSTAMP:20260423T062659
CREATED:20241111T160648Z
LAST-MODIFIED:20241111T160648Z
UID:7378-1762594200-1762601400@mnsa-afg.org
SUMMARY:District 13 Meeting (2025)
DESCRIPTION:All meetings are held by zoom only \nMeeting ID: 811 9699 0331 \nPasscode: 070002 \n 
URL:https://mnsa-afg.org/event/district-13-meeting-2025-8/
LOCATION:Zoom Meeting
CATEGORIES:Al-Anon,District Meeting
END:VEVENT
BEGIN:VEVENT
DTSTART;TZID=America/Chicago:20251108T093000
DTEND;TZID=America/Chicago:20251108T103000
DTSTAMP:20260423T062659
CREATED:20250131T162459Z
LAST-MODIFIED:20250902T183215Z
UID:7563-1762594200-1762597800@mnsa-afg.org
SUMMARY:District 10 Meeting
DESCRIPTION:District 10 meets in person the 2nd Saturday in the six odd months of the year. January\, March\, May\, July\, September\, November from 10:30-11:30. Please come find out what is happening in our area and how we can support each other! \nMeeting is held in the Tulip Room.
URL:https://mnsa-afg.org/event/district-10-meeting-5/
LOCATION:St Joan of Arc Church-Tulip Room\, 4537 3rd Ave S\, Minneapolis\, MN\, 55419\, United States
CATEGORIES:District Meeting
ORGANIZER;CN="Al -Anon District 10":MAILTO:mnsouthdistrict10@gmail.com
END:VEVENT
BEGIN:VEVENT
DTSTART;TZID=America/Chicago:20251022T190000
DTEND;TZID=America/Chicago:20251022T200000
DTSTAMP:20260423T062659
CREATED:20250206T145128Z
LAST-MODIFIED:20250206T145223Z
UID:7644-1761159600-1761163200@mnsa-afg.org
SUMMARY:District 11 Monthly Meeting
DESCRIPTION:Zoom only \nhttps://us02web.zoom.us/j/87396840190?pwd=cFBuakxQa0J1dk1uVXlYS3Y0aWF3UT09\n\nMeeting ID 873 9684 0190 \nPasscode: 961 287\n\n\n*NO MEETING IN NOVEMBER*\n**DECEMBER MEETING WILL BE TBD IN PERSON CHRISTMAS PARTY FROM 6-8pm**
URL:https://mnsa-afg.org/event/district-11-monthly-meeting-9/
LOCATION:Zoom Meeting
CATEGORIES:District Meeting
END:VEVENT
BEGIN:VEVENT
DTSTART;TZID=America/Chicago:20251016T183000
DTEND;TZID=America/Chicago:20251016T200000
DTSTAMP:20260423T062659
CREATED:20250205T220807Z
LAST-MODIFIED:20250818T172233Z
UID:7619-1760639400-1760644800@mnsa-afg.org
SUMMARY:District 8 Monthly Meeting
DESCRIPTION:District 8 monthly meeting for all Groups in District 8 (St. Paul.) \nZoom only (ID and password updated 8/18/25)\nMeeting ID: 843 3320 3473 \nPassword:  3%8LAv\nFor anonymity purposes\, this is not a link. \n  \n  \n 
URL:https://mnsa-afg.org/event/district-8-monthly-meeting-8/
LOCATION:Zoom Meeting
CATEGORIES:District Meeting
END:VEVENT
BEGIN:VEVENT
DTSTART;TZID=America/Chicago:20250924T190000
DTEND;TZID=America/Chicago:20250924T200000
DTSTAMP:20260423T062659
CREATED:20250206T145056Z
LAST-MODIFIED:20250206T145056Z
UID:7635-1758740400-1758744000@mnsa-afg.org
SUMMARY:District 11 Monthly Meeting
DESCRIPTION:Zoom only \nhttps://us02web.zoom.us/j/87396840190?pwd=cFBuakxQa0J1dk1uVXlYS3Y0aWF3UT09\n\nMeeting ID 873 9684 0190 \nPasscode: 961 287
URL:https://mnsa-afg.org/event/district-11-monthly-meeting-8/
LOCATION:Zoom Meeting
CATEGORIES:District Meeting
END:VEVENT
BEGIN:VEVENT
DTSTART;TZID=America/Chicago:20250918T183000
DTEND;TZID=America/Chicago:20250918T200000
DTSTAMP:20260423T062659
CREATED:20250205T220741Z
LAST-MODIFIED:20250818T171853Z
UID:7617-1758220200-1758225600@mnsa-afg.org
SUMMARY:District 8 Monthly Meeting
DESCRIPTION:District 8 monthly meeting for all Groups in District 8 (St. Paul.) \nZoom only (ID and password updated 8/18/25)\nMeeting ID: 843 3320 3473 \nPassword:  3%8LAv\nFor anonymity purposes\, this is not a link. \n  \n 
URL:https://mnsa-afg.org/event/district-8-monthly-meeting-7/
LOCATION:Zoom Meeting
CATEGORIES:District Meeting
END:VEVENT
BEGIN:VEVENT
DTSTART;TZID=America/Chicago:20250913T093000
DTEND;TZID=America/Chicago:20250913T113000
DTSTAMP:20260423T062659
CREATED:20241111T160625Z
LAST-MODIFIED:20241111T160625Z
UID:7374-1757755800-1757763000@mnsa-afg.org
SUMMARY:District 13 Meeting (2025)
DESCRIPTION:All meetings are held by zoom only \nMeeting ID: 811 9699 0331 \nPasscode: 070002 \n 
URL:https://mnsa-afg.org/event/district-13-meeting-2025-7/
LOCATION:Zoom Meeting
CATEGORIES:Al-Anon,District Meeting
END:VEVENT
BEGIN:VEVENT
DTSTART;TZID=America/Chicago:20250913T093000
DTEND;TZID=America/Chicago:20250913T103000
DTSTAMP:20260423T062659
CREATED:20250131T162354Z
LAST-MODIFIED:20250902T181419Z
UID:7567-1757755800-1757759400@mnsa-afg.org
SUMMARY:District 10 Meeting
DESCRIPTION:District 10 meets in person the 2nd Saturday in the six odd months of the year. January\, March\, May\, July\, September\, November from 10:30-11:30. Please come find out what is happening in our area and how we can support each other! \nMeeting is held in the Tulip Room.
URL:https://mnsa-afg.org/event/district-10-meeting-4/
LOCATION:St Joan of Arc Church-Tulip Room\, 4537 3rd Ave S\, Minneapolis\, MN\, 55419\, United States
CATEGORIES:District Meeting
ORGANIZER;CN="Al -Anon District 10":MAILTO:mnsouthdistrict10@gmail.com
END:VEVENT
BEGIN:VEVENT
DTSTART;TZID=America/Chicago:20250827T190000
DTEND;TZID=America/Chicago:20250827T200000
DTSTAMP:20260423T062659
CREATED:20250206T145016Z
LAST-MODIFIED:20250206T145016Z
UID:7643-1756321200-1756324800@mnsa-afg.org
SUMMARY:District 11 Monthly Meeting
DESCRIPTION:Zoom only \nhttps://us02web.zoom.us/j/87396840190?pwd=cFBuakxQa0J1dk1uVXlYS3Y0aWF3UT09\n\nMeeting ID 873 9684 0190 \nPasscode: 961 287
URL:https://mnsa-afg.org/event/district-11-monthly-meeting-7/
LOCATION:Zoom Meeting
CATEGORIES:District Meeting
END:VEVENT
BEGIN:VEVENT
DTSTART;TZID=America/Chicago:20250821T183000
DTEND;TZID=America/Chicago:20250821T200000
DTSTAMP:20260423T062659
CREATED:20250205T220627Z
LAST-MODIFIED:20250818T171819Z
UID:7615-1755801000-1755806400@mnsa-afg.org
SUMMARY:District 8 Monthly Meeting
DESCRIPTION:District 8 monthly meeting for all Groups in District 8 (St. Paul.)\nZoom only (ID and password updated 8/18/25)\nMeeting ID: 843 3320 3473 \nPassword:  3%8LAv\nFor anonymity purposes\, this is not a link. \n 
URL:https://mnsa-afg.org/event/district-8-monthly-meeting-6/
LOCATION:Zoom Meeting
CATEGORIES:District Meeting
END:VEVENT
BEGIN:VEVENT
DTSTART;TZID=America/Chicago:20250723T190000
DTEND;TZID=America/Chicago:20250723T200000
DTSTAMP:20260423T062659
CREATED:20250206T144942Z
LAST-MODIFIED:20250206T144942Z
UID:7642-1753297200-1753300800@mnsa-afg.org
SUMMARY:District 11 Monthly Meeting
DESCRIPTION:Zoom only \nhttps://us02web.zoom.us/j/87396840190?pwd=cFBuakxQa0J1dk1uVXlYS3Y0aWF3UT09\n\nMeeting ID 873 9684 0190 \nPasscode: 961 287
URL:https://mnsa-afg.org/event/district-11-monthly-meeting-6/
LOCATION:Zoom Meeting
CATEGORIES:District Meeting
END:VEVENT
BEGIN:VEVENT
DTSTART;TZID=America/Chicago:20250719T110000
DTEND;TZID=America/Chicago:20250719T123000
DTSTAMP:20260423T062659
CREATED:20241111T130916Z
LAST-MODIFIED:20250615T162209Z
UID:7323-1752922800-1752928200@mnsa-afg.org
SUMMARY:District 2 Quarterly Meeting (Q3 2025)
DESCRIPTION:Join us to learn more about upcoming District and Area events\, available and upcoming resources for your groups and members\, and tips from other G.R.’s that have worked well or not.
URL:https://mnsa-afg.org/event/district-2-quarterly-meeting-q3-2025/
LOCATION:Messiah Lutheran Church\, 16725 Highview Avenue\, Lakeville\, MN\, 55044\, United States
CATEGORIES:Al-Anon,District Meeting
END:VEVENT
BEGIN:VEVENT
DTSTART;TZID=America/Chicago:20250712T103000
DTEND;TZID=America/Chicago:20250712T113000
DTSTAMP:20260423T062659
CREATED:20250131T162312Z
LAST-MODIFIED:20250131T162312Z
UID:7565-1752316200-1752319800@mnsa-afg.org
SUMMARY:District 10 Meeting
DESCRIPTION:District 10 meets in person the 2nd Saturday in the six odd months of the year. January\, March\, May\, July\, September\, November from 10:30-11:30. Please come find out what is happening in our area and how we can support each other! \nMeeting is held in the Tulip Room.
URL:https://mnsa-afg.org/event/district-10-meeting-3/
LOCATION:St Joan of Arc Church-Tulip Room\, 4537 3rd Ave S\, Minneapolis\, MN\, 55419\, United States
CATEGORIES:District Meeting
ORGANIZER;CN="Al -Anon District 10":MAILTO:mnsouthdistrict10@gmail.com
END:VEVENT
BEGIN:VEVENT
DTSTART;TZID=America/Chicago:20250712T093000
DTEND;TZID=America/Chicago:20250712T113000
DTSTAMP:20260423T062659
CREATED:20241111T160552Z
LAST-MODIFIED:20241111T160552Z
UID:7373-1752312600-1752319800@mnsa-afg.org
SUMMARY:District 13 Meeting (2025)
DESCRIPTION:All meetings are held by zoom only \nMeeting ID: 811 9699 0331 \nPasscode: 070002 \n 
URL:https://mnsa-afg.org/event/district-13-meeting-2025-6/
LOCATION:Zoom Meeting
CATEGORIES:Al-Anon,District Meeting
END:VEVENT
BEGIN:VEVENT
DTSTART;TZID=America/Chicago:20250625T190000
DTEND;TZID=America/Chicago:20250625T200000
DTSTAMP:20260423T062659
CREATED:20250206T144913Z
LAST-MODIFIED:20250206T144913Z
UID:7638-1750878000-1750881600@mnsa-afg.org
SUMMARY:District 11 Monthly Meeting
DESCRIPTION:Zoom only \nhttps://us02web.zoom.us/j/87396840190?pwd=cFBuakxQa0J1dk1uVXlYS3Y0aWF3UT09\n\nMeeting ID 873 9684 0190 \nPasscode: 961 287
URL:https://mnsa-afg.org/event/district-11-monthly-meeting-5/
LOCATION:Zoom Meeting
CATEGORIES:District Meeting
END:VEVENT
BEGIN:VEVENT
DTSTART;TZID=America/Chicago:20250619T183000
DTEND;TZID=America/Chicago:20250619T200000
DTSTAMP:20260423T062659
CREATED:20250205T220553Z
LAST-MODIFIED:20250205T220553Z
UID:7613-1750357800-1750363200@mnsa-afg.org
SUMMARY:District 8 Monthly Meeting
DESCRIPTION:District 8 monthly meeting for all Groups in District 8 (St. Paul.)\nZoom only\n-Meeting ID; 875 0790 4082\n– password; 2q%gNM\nFor anonymity purposes\, this is not a link. \n  \nIf questions please email  District 8 Representative\, Sarah HJ at smhoule.johns@icloud.com
URL:https://mnsa-afg.org/event/district-8-monthly-meeting-5/
LOCATION:Zoom Meeting
CATEGORIES:District Meeting
END:VEVENT
BEGIN:VEVENT
DTSTART;TZID=America/Chicago:20250528T190000
DTEND;TZID=America/Chicago:20250528T200000
DTSTAMP:20260423T062659
CREATED:20250206T144844Z
LAST-MODIFIED:20250206T144844Z
UID:7634-1748458800-1748462400@mnsa-afg.org
SUMMARY:District 11 Monthly Meeting
DESCRIPTION:Zoom only \nhttps://us02web.zoom.us/j/87396840190?pwd=cFBuakxQa0J1dk1uVXlYS3Y0aWF3UT09\n\nMeeting ID 873 9684 0190 \nPasscode: 961 287
URL:https://mnsa-afg.org/event/district-11-monthly-meeting-4/
LOCATION:Zoom Meeting
CATEGORIES:District Meeting
END:VEVENT
BEGIN:VEVENT
DTSTART;TZID=America/Chicago:20250515T183000
DTEND;TZID=America/Chicago:20250515T200000
DTSTAMP:20260423T062659
CREATED:20250205T220521Z
LAST-MODIFIED:20250205T220521Z
UID:7611-1747333800-1747339200@mnsa-afg.org
SUMMARY:District 8 Monthly Meeting
DESCRIPTION:District 8 monthly meeting for all Groups in District 8 (St. Paul.)\nZoom only\n-Meeting ID; 875 0790 4082\n– password; 2q%gNM\nFor anonymity purposes\, this is not a link. \n  \nIf questions please email  District 8 Representative\, Sarah HJ at smhoule.johns@icloud.com
URL:https://mnsa-afg.org/event/district-8-monthly-meeting-4/
LOCATION:Zoom Meeting
CATEGORIES:District Meeting
END:VEVENT
BEGIN:VEVENT
DTSTART;TZID=America/Chicago:20250510T103000
DTEND;TZID=America/Chicago:20250510T113000
DTSTAMP:20260423T062659
CREATED:20250131T162713Z
LAST-MODIFIED:20250131T162713Z
UID:7570-1746873000-1746876600@mnsa-afg.org
SUMMARY:District 10 Meeting
DESCRIPTION:District 10 meets in person the 2nd Saturday in the six odd months of the year. January\, March\, May\, July\, September\, November from 10:30-11:30. Please come find out what is happening in our area and how we can support each other! \nMeeting is held in the Tulip Room.
URL:https://mnsa-afg.org/event/district-10-meeting-2/
LOCATION:St Joan of Arc Church-Tulip Room\, 4537 3rd Ave S\, Minneapolis\, MN\, 55419\, United States
CATEGORIES:District Meeting
ORGANIZER;CN="Al -Anon District 10":MAILTO:mnsouthdistrict10@gmail.com
END:VEVENT
BEGIN:VEVENT
DTSTART;TZID=America/Chicago:20250510T093000
DTEND;TZID=America/Chicago:20250510T113000
DTSTAMP:20260423T062659
CREATED:20241111T160434Z
LAST-MODIFIED:20241111T160434Z
UID:7371-1746869400-1746876600@mnsa-afg.org
SUMMARY:District 13 Meeting (2025)
DESCRIPTION:All meetings are held by zoom only \nMeeting ID: 811 9699 0331 \nPasscode: 070002 \n 
URL:https://mnsa-afg.org/event/district-13-meeting-2025-4/
LOCATION:Zoom Meeting
CATEGORIES:Al-Anon,District Meeting
END:VEVENT
BEGIN:VEVENT
DTSTART;TZID=America/Chicago:20250423T190000
DTEND;TZID=America/Chicago:20250423T200000
DTSTAMP:20260423T062659
CREATED:20250206T144742Z
LAST-MODIFIED:20250206T144742Z
UID:7633-1745434800-1745438400@mnsa-afg.org
SUMMARY:District 11 Monthly Meeting
DESCRIPTION:Zoom only \nhttps://us02web.zoom.us/j/87396840190?pwd=cFBuakxQa0J1dk1uVXlYS3Y0aWF3UT09\n\nMeeting ID 873 9684 0190 \nPasscode: 961 287
URL:https://mnsa-afg.org/event/district-11-monthly-meeting-3/
LOCATION:Zoom Meeting
CATEGORIES:District Meeting
END:VEVENT
END:VCALENDAR