BEGIN:VCALENDAR
VERSION:2.0
PRODID:-//Minnesota South Area Al-Anon - ECPv6.15.20//NONSGML v1.0//EN
CALSCALE:GREGORIAN
METHOD:PUBLISH
X-ORIGINAL-URL:https://mnsa-afg.org
X-WR-CALDESC:Events for Minnesota South Area Al-Anon
REFRESH-INTERVAL;VALUE=DURATION:PT1H
X-Robots-Tag:noindex
X-PUBLISHED-TTL:PT1H
BEGIN:VTIMEZONE
TZID:America/Chicago
BEGIN:DAYLIGHT
TZOFFSETFROM:-0600
TZOFFSETTO:-0500
TZNAME:CDT
DTSTART:20250309T080000
END:DAYLIGHT
BEGIN:STANDARD
TZOFFSETFROM:-0500
TZOFFSETTO:-0600
TZNAME:CST
DTSTART:20251102T070000
END:STANDARD
BEGIN:DAYLIGHT
TZOFFSETFROM:-0600
TZOFFSETTO:-0500
TZNAME:CDT
DTSTART:20260308T080000
END:DAYLIGHT
BEGIN:STANDARD
TZOFFSETFROM:-0500
TZOFFSETTO:-0600
TZNAME:CST
DTSTART:20261101T070000
END:STANDARD
BEGIN:DAYLIGHT
TZOFFSETFROM:-0600
TZOFFSETTO:-0500
TZNAME:CDT
DTSTART:20270314T080000
END:DAYLIGHT
BEGIN:STANDARD
TZOFFSETFROM:-0500
TZOFFSETTO:-0600
TZNAME:CST
DTSTART:20271107T070000
END:STANDARD
END:VTIMEZONE
BEGIN:VEVENT
DTSTART;TZID=America/Chicago:20260422T190000
DTEND;TZID=America/Chicago:20260422T200000
DTSTAMP:20260421T113028
CREATED:20250206T145541Z
LAST-MODIFIED:20250206T145541Z
UID:7647-1776884400-1776888000@mnsa-afg.org
SUMMARY:District 11 Monthly Meeting (2026)
DESCRIPTION:Zoom only \nhttps://us02web.zoom.us/j/87396840190?pwd=cFBuakxQa0J1dk1uVXlYS3Y0aWF3UT09\n\nMeeting ID 873 9684 0190 \nPasscode: 961 287
URL:https://mnsa-afg.org/event/district-11-monthly-meeting-2026-3/
LOCATION:Zoom Meeting
CATEGORIES:District Meeting
END:VEVENT
BEGIN:VEVENT
DTSTART;TZID=America/Chicago:20260509T093000
DTEND;TZID=America/Chicago:20260509T103000
DTSTAMP:20260421T113028
CREATED:20260112T174150Z
LAST-MODIFIED:20260112T174150Z
UID:8417-1778319000-1778322600@mnsa-afg.org
SUMMARY:District 10 Meeting
DESCRIPTION:District 10 meets in person the 2nd Saturday in the 6 odd months of the year: January\, March\, May\, July\, September\, November from 9:30-10:30.  Please come find out what is happening in our area and how we can support each other!  Meeting is held in the Tulip Room.
URL:https://mnsa-afg.org/event/district-10-meeting-7/
LOCATION:St Joan of Arc Church-Tulip Room\, 4537 3rd Ave S\, Minneapolis\, MN\, 55419\, United States
CATEGORIES:District Meeting
ORGANIZER;CN="Al -Anon District 10":MAILTO:mnsouthdistrict10@gmail.com
END:VEVENT
BEGIN:VEVENT
DTSTART;TZID=America/Chicago:20260509T093000
DTEND;TZID=America/Chicago:20260509T113000
DTSTAMP:20260421T113028
CREATED:20251124T220821Z
LAST-MODIFIED:20260121T211648Z
UID:8373-1778319000-1778326200@mnsa-afg.org
SUMMARY:District 13 Hybrid Meetings (2026)
DESCRIPTION:All are welcome to this every other month hybrid meeting with locations varying.  If you would like to know the in-person location\, please email msnadistrict13@gmail.com \n  \nZoom information is \n811 9699 0331 \nPasscode is 070002 \n 
URL:https://mnsa-afg.org/event/district-13-hybrid-meetings-2026-3/
LOCATION:Zoom Meeting
CATEGORIES:District Meeting
END:VEVENT
BEGIN:VEVENT
DTSTART;TZID=America/Chicago:20260514T183000
DTEND;TZID=America/Chicago:20260514T200000
DTSTAMP:20260421T113028
CREATED:20260112T175424Z
LAST-MODIFIED:20260112T175433Z
UID:8434-1778783400-1778788800@mnsa-afg.org
SUMMARY:District 8 Monthly Meeting
DESCRIPTION:District 8 Meetings held on the 3rd Thursday of Every Month from 6:30-8pm \n  \nGo to Zoom and put the information below to find our meeting.  For anonymity purposes this is not a link. \nMeeting ID : 843 3320 3473 \nPasscode: 3%8LAv \n 
URL:https://mnsa-afg.org/event/district-8-monthly-meeting-15/
LOCATION:Zoom Meeting
CATEGORIES:District Meeting
END:VEVENT
BEGIN:VEVENT
DTSTART;TZID=America/Chicago:20260516T080000
DTEND;TZID=America/Chicago:20260516T170000
DTSTAMP:20260421T113028
CREATED:20251118T032611Z
LAST-MODIFIED:20251118T032611Z
UID:8303-1778918400-1778950800@mnsa-afg.org
SUMMARY:District 16 Meeting
DESCRIPTION:Held the 3rd Saturday of January\, February\, April\, May\, September\, October\, and November \nIn person option at the Friends Building. \nZoom Information: \nMeeting ID: 93710961060 \nPassword: D16AFG \n 
URL:https://mnsa-afg.org/event/district-16-meeting-4/
LOCATION:Friends Building\, 201 S. 3rd Street\, St. Peter\, MN\, 56082\, United States
CATEGORIES:District Meeting
END:VEVENT
BEGIN:VEVENT
DTSTART;TZID=America/Chicago:20260521T183000
DTEND;TZID=America/Chicago:20260521T200000
DTSTAMP:20260421T113028
CREATED:20260126T231518Z
LAST-MODIFIED:20260126T231518Z
UID:8513-1779388200-1779393600@mnsa-afg.org
SUMMARY:District 9 Monthly Meeting (2026)
DESCRIPTION:The District 9 Monthly Meeting is the 3rd Thursday of Every Month.  It is a hybrid meeting held at Plymouth II Alano or via zoom. \n  \nZoom Information: \nJoin Zoom Meeting\nhttps://us02web.zoom.us/j/83404679734?pwd=OWRIRGlZSzI0MHZYMVhvUkpsNTF2UT09 \nMeeting ID: 834 0467 9734\nPasscode: 080284
URL:https://mnsa-afg.org/event/district-9-monthly-meeting-2026-4/
LOCATION:Plymouth II Alano Knoll Lutheran Church\, 610 Hopkins Crossroad\, Plymouth\, MN\, 55305\, United States
CATEGORIES:District Meeting
ORGANIZER;CN="Al-Anon District 9":MAILTO:mnsad9afg@gmail.com
END:VEVENT
BEGIN:VEVENT
DTSTART;TZID=America/Chicago:20260527T190000
DTEND;TZID=America/Chicago:20260527T200000
DTSTAMP:20260421T113028
CREATED:20250206T145614Z
LAST-MODIFIED:20250206T145621Z
UID:7648-1779908400-1779912000@mnsa-afg.org
SUMMARY:District 11 Monthly Meeting (2026)
DESCRIPTION:Zoom only \nhttps://us02web.zoom.us/j/87396840190?pwd=cFBuakxQa0J1dk1uVXlYS3Y0aWF3UT09\n\nMeeting ID 873 9684 0190 \nPasscode: 961 287
URL:https://mnsa-afg.org/event/district-11-monthly-meeting-11/
LOCATION:Zoom Meeting
CATEGORIES:District Meeting
END:VEVENT
BEGIN:VEVENT
DTSTART;TZID=America/Chicago:20260618T183000
DTEND;TZID=America/Chicago:20260618T200000
DTSTAMP:20260421T113028
CREATED:20260112T175457Z
LAST-MODIFIED:20260112T175457Z
UID:8433-1781807400-1781812800@mnsa-afg.org
SUMMARY:District 8 Monthly Meeting
DESCRIPTION:District 8 Meetings held on the 3rd Thursday of Every Month from 6:30-8pm \n  \nGo to Zoom and put the information below to find our meeting.  For anonymity purposes this is not a link. \nMeeting ID : 843 3320 3473 \nPasscode: 3%8LAv \n 
URL:https://mnsa-afg.org/event/district-8-monthly-meeting-16/
LOCATION:Zoom Meeting
CATEGORIES:District Meeting
END:VEVENT
BEGIN:VEVENT
DTSTART;TZID=America/Chicago:20260618T183000
DTEND;TZID=America/Chicago:20260618T200000
DTSTAMP:20260421T113028
CREATED:20260126T231539Z
LAST-MODIFIED:20260126T231539Z
UID:8512-1781807400-1781812800@mnsa-afg.org
SUMMARY:District 9 Monthly Meeting (2026)
DESCRIPTION:The District 9 Monthly Meeting is the 3rd Thursday of Every Month.  It is a hybrid meeting held at Plymouth II Alano or via zoom. \n  \nZoom Information: \nJoin Zoom Meeting\nhttps://us02web.zoom.us/j/83404679734?pwd=OWRIRGlZSzI0MHZYMVhvUkpsNTF2UT09 \nMeeting ID: 834 0467 9734\nPasscode: 080284
URL:https://mnsa-afg.org/event/district-9-monthly-meeting-2026-5/
LOCATION:Plymouth II Alano Knoll Lutheran Church\, 610 Hopkins Crossroad\, Plymouth\, MN\, 55305\, United States
CATEGORIES:District Meeting
ORGANIZER;CN="Al-Anon District 9":MAILTO:mnsad9afg@gmail.com
END:VEVENT
BEGIN:VEVENT
DTSTART;TZID=America/Chicago:20260624T190000
DTEND;TZID=America/Chicago:20260624T200000
DTSTAMP:20260421T113028
CREATED:20250206T145707Z
LAST-MODIFIED:20250206T145707Z
UID:7666-1782327600-1782331200@mnsa-afg.org
SUMMARY:District 11 Monthly Meeting (2026)
DESCRIPTION:Zoom only \nhttps://us02web.zoom.us/j/87396840190?pwd=cFBuakxQa0J1dk1uVXlYS3Y0aWF3UT09\n\nMeeting ID 873 9684 0190 \nPasscode: 961 287
URL:https://mnsa-afg.org/event/district-11-monthly-meeting-2026-4/
LOCATION:Zoom Meeting
CATEGORIES:District Meeting
END:VEVENT
BEGIN:VEVENT
DTSTART;TZID=America/Chicago:20260711T093000
DTEND;TZID=America/Chicago:20260711T103000
DTSTAMP:20260421T113028
CREATED:20260112T174221Z
LAST-MODIFIED:20260112T174221Z
UID:8416-1783762200-1783765800@mnsa-afg.org
SUMMARY:District 10 Meeting
DESCRIPTION:District 10 meets in person the 2nd Saturday in the 6 odd months of the year: January\, March\, May\, July\, September\, November from 9:30-10:30.  Please come find out what is happening in our area and how we can support each other!  Meeting is held in the Tulip Room.
URL:https://mnsa-afg.org/event/district-10-meeting-8/
LOCATION:St Joan of Arc Church-Tulip Room\, 4537 3rd Ave S\, Minneapolis\, MN\, 55419\, United States
CATEGORIES:District Meeting
ORGANIZER;CN="Al -Anon District 10":MAILTO:mnsouthdistrict10@gmail.com
END:VEVENT
BEGIN:VEVENT
DTSTART;TZID=America/Chicago:20260711T093000
DTEND;TZID=America/Chicago:20260711T113000
DTSTAMP:20260421T113028
CREATED:20251124T220924Z
LAST-MODIFIED:20260121T211605Z
UID:8372-1783762200-1783769400@mnsa-afg.org
SUMMARY:District 13 Hybrid Meetings (2026)
DESCRIPTION:All are welcome to this every other month hybrid meeting with locations varying.  If you would like to know the in-person location\, please email mnsadistrict13@gmail.com \n  \n  \nZoom information is \n811 9699 0331 \nPasscode is 070002 \n 
URL:https://mnsa-afg.org/event/district-13-hybrid-meetings-2026-4/
LOCATION:Zoom Meeting
CATEGORIES:District Meeting
END:VEVENT
BEGIN:VEVENT
DTSTART;TZID=America/Chicago:20260716T183000
DTEND;TZID=America/Chicago:20260716T200000
DTSTAMP:20260421T113028
CREATED:20260112T175523Z
LAST-MODIFIED:20260112T175523Z
UID:8432-1784226600-1784232000@mnsa-afg.org
SUMMARY:District 8 Monthly Meeting
DESCRIPTION:District 8 Meetings held on the 3rd Thursday of Every Month from 6:30-8pm \n  \nGo to Zoom and put the information below to find our meeting.  For anonymity purposes this is not a link. \nMeeting ID : 843 3320 3473 \nPasscode: 3%8LAv \n 
URL:https://mnsa-afg.org/event/district-8-monthly-meeting-17/
LOCATION:Zoom Meeting
CATEGORIES:District Meeting
END:VEVENT
BEGIN:VEVENT
DTSTART;TZID=America/Chicago:20260716T183000
DTEND;TZID=America/Chicago:20260716T200000
DTSTAMP:20260421T113028
CREATED:20260126T231605Z
LAST-MODIFIED:20260126T231605Z
UID:8511-1784226600-1784232000@mnsa-afg.org
SUMMARY:District 9 Monthly Meeting (2026)
DESCRIPTION:The District 9 Monthly Meeting is the 3rd Thursday of Every Month.  It is a hybrid meeting held at Plymouth II Alano or via zoom. \n  \nZoom Information: \nJoin Zoom Meeting\nhttps://us02web.zoom.us/j/83404679734?pwd=OWRIRGlZSzI0MHZYMVhvUkpsNTF2UT09 \nMeeting ID: 834 0467 9734\nPasscode: 080284
URL:https://mnsa-afg.org/event/district-9-monthly-meeting-2026-6/
LOCATION:Plymouth II Alano Knoll Lutheran Church\, 610 Hopkins Crossroad\, Plymouth\, MN\, 55305\, United States
CATEGORIES:District Meeting
ORGANIZER;CN="Al-Anon District 9":MAILTO:mnsad9afg@gmail.com
END:VEVENT
BEGIN:VEVENT
DTSTART;TZID=America/Chicago:20260718T120000
DTEND;TZID=America/Chicago:20260718T133000
DTSTAMP:20260421T113028
CREATED:20251111T020023Z
LAST-MODIFIED:20251111T020023Z
UID:8285-1784376000-1784381400@mnsa-afg.org
SUMMARY:District 2 Quarterly Meeting (3Q 2026)
DESCRIPTION:Join us to learn more about upcoming District and Area events\, available and upcoming resources for your groups and members\, and tips from other G.R.’s that have worked well or not.
URL:https://mnsa-afg.org/event/district-2-quarterly-meeting-3q-2026/
LOCATION:Messiah Lutheran Church\, 16725 Highview Avenue\, Lakeville\, MN\, 55044\, United States
CATEGORIES:Al-Anon,District Meeting
END:VEVENT
BEGIN:VEVENT
DTSTART;TZID=America/Chicago:20260722T190000
DTEND;TZID=America/Chicago:20260722T200000
DTSTAMP:20260421T113028
CREATED:20250206T145728Z
LAST-MODIFIED:20250206T145728Z
UID:7665-1784746800-1784750400@mnsa-afg.org
SUMMARY:District 11 Monthly Meeting (2026)
DESCRIPTION:Zoom only \nhttps://us02web.zoom.us/j/87396840190?pwd=cFBuakxQa0J1dk1uVXlYS3Y0aWF3UT09\n\nMeeting ID 873 9684 0190 \nPasscode: 961 287
URL:https://mnsa-afg.org/event/district-11-monthly-meeting-2026-5/
LOCATION:Zoom Meeting
CATEGORIES:District Meeting
END:VEVENT
BEGIN:VEVENT
DTSTART;TZID=America/Chicago:20260820T183000
DTEND;TZID=America/Chicago:20260820T200000
DTSTAMP:20260421T113028
CREATED:20260112T175546Z
LAST-MODIFIED:20260112T175546Z
UID:8431-1787250600-1787256000@mnsa-afg.org
SUMMARY:District 8 Monthly Meeting
DESCRIPTION:District 8 Meetings held on the 3rd Thursday of Every Month from 6:30-8pm \n  \nGo to Zoom and put the information below to find our meeting.  For anonymity purposes this is not a link. \nMeeting ID : 843 3320 3473 \nPasscode: 3%8LAv \n 
URL:https://mnsa-afg.org/event/district-8-monthly-meeting-18/
LOCATION:Zoom Meeting
CATEGORIES:District Meeting
END:VEVENT
BEGIN:VEVENT
DTSTART;TZID=America/Chicago:20260820T183000
DTEND;TZID=America/Chicago:20260820T200000
DTSTAMP:20260421T113028
CREATED:20260126T231627Z
LAST-MODIFIED:20260126T231627Z
UID:8510-1787250600-1787256000@mnsa-afg.org
SUMMARY:District 9 Monthly Meeting (2026)
DESCRIPTION:The District 9 Monthly Meeting is the 3rd Thursday of Every Month.  It is a hybrid meeting held at Plymouth II Alano or via zoom. \n  \nZoom Information: \nJoin Zoom Meeting\nhttps://us02web.zoom.us/j/83404679734?pwd=OWRIRGlZSzI0MHZYMVhvUkpsNTF2UT09 \nMeeting ID: 834 0467 9734\nPasscode: 080284
URL:https://mnsa-afg.org/event/district-9-monthly-meeting-2026-7/
LOCATION:Plymouth II Alano Knoll Lutheran Church\, 610 Hopkins Crossroad\, Plymouth\, MN\, 55305\, United States
CATEGORIES:District Meeting
ORGANIZER;CN="Al-Anon District 9":MAILTO:mnsad9afg@gmail.com
END:VEVENT
BEGIN:VEVENT
DTSTART;TZID=America/Chicago:20260826T190000
DTEND;TZID=America/Chicago:20260826T200000
DTSTAMP:20260421T113028
CREATED:20250206T145758Z
LAST-MODIFIED:20250206T145758Z
UID:7664-1787770800-1787774400@mnsa-afg.org
SUMMARY:District 11 Monthly Meeting (2026)
DESCRIPTION:Zoom only \nhttps://us02web.zoom.us/j/87396840190?pwd=cFBuakxQa0J1dk1uVXlYS3Y0aWF3UT09\n\nMeeting ID 873 9684 0190 \nPasscode: 961 287
URL:https://mnsa-afg.org/event/district-11-monthly-meeting-2026-6/
LOCATION:Zoom Meeting
CATEGORIES:District Meeting
END:VEVENT
BEGIN:VEVENT
DTSTART;TZID=America/Chicago:20260912T093000
DTEND;TZID=America/Chicago:20260912T103000
DTSTAMP:20260421T113028
CREATED:20260112T174245Z
LAST-MODIFIED:20260112T174245Z
UID:8415-1789205400-1789209000@mnsa-afg.org
SUMMARY:District 10 Meeting
DESCRIPTION:District 10 meets in person the 2nd Saturday in the 6 odd months of the year: January\, March\, May\, July\, September\, November from 9:30-10:30.  Please come find out what is happening in our area and how we can support each other!  Meeting is held in the Tulip Room.
URL:https://mnsa-afg.org/event/district-10-meeting-9/
LOCATION:St Joan of Arc Church-Tulip Room\, 4537 3rd Ave S\, Minneapolis\, MN\, 55419\, United States
CATEGORIES:District Meeting
ORGANIZER;CN="Al -Anon District 10":MAILTO:mnsouthdistrict10@gmail.com
END:VEVENT
BEGIN:VEVENT
DTSTART;TZID=America/Chicago:20260912T093000
DTEND;TZID=America/Chicago:20260912T113000
DTSTAMP:20260421T113028
CREATED:20251124T221135Z
LAST-MODIFIED:20260121T211752Z
UID:8371-1789205400-1789212600@mnsa-afg.org
SUMMARY:District 13 Hybrid Meetings (2026)
DESCRIPTION:All are welcome to this every other month hybrid meeting with locations varying.  If you would like to know the in-person location\, please email mnsadistrict13@gmail.com \n  \nZoom information is \n811 9699 0331 \nPasscode is 070002 \n 
URL:https://mnsa-afg.org/event/district-13-hybrid-meetings-2026-5/
LOCATION:Zoom Meeting
CATEGORIES:District Meeting
END:VEVENT
BEGIN:VEVENT
DTSTART;TZID=America/Chicago:20260917T183000
DTEND;TZID=America/Chicago:20260917T200000
DTSTAMP:20260421T113028
CREATED:20260112T175616Z
LAST-MODIFIED:20260112T175616Z
UID:8430-1789669800-1789675200@mnsa-afg.org
SUMMARY:District 8 Monthly Meeting
DESCRIPTION:District 8 Meetings held on the 3rd Thursday of Every Month from 6:30-8pm \n  \nGo to Zoom and put the information below to find our meeting.  For anonymity purposes this is not a link. \nMeeting ID : 843 3320 3473 \nPasscode: 3%8LAv \n 
URL:https://mnsa-afg.org/event/district-8-monthly-meeting-19/
LOCATION:Zoom Meeting
CATEGORIES:District Meeting
END:VEVENT
BEGIN:VEVENT
DTSTART;TZID=America/Chicago:20260917T183000
DTEND;TZID=America/Chicago:20260917T200000
DTSTAMP:20260421T113028
CREATED:20260126T231650Z
LAST-MODIFIED:20260126T231650Z
UID:8509-1789669800-1789675200@mnsa-afg.org
SUMMARY:District 9 Monthly Meeting (2026)
DESCRIPTION:The District 9 Monthly Meeting is the 3rd Thursday of Every Month.  It is a hybrid meeting held at Plymouth II Alano or via zoom. \n  \nZoom Information: \nJoin Zoom Meeting\nhttps://us02web.zoom.us/j/83404679734?pwd=OWRIRGlZSzI0MHZYMVhvUkpsNTF2UT09 \nMeeting ID: 834 0467 9734\nPasscode: 080284
URL:https://mnsa-afg.org/event/district-9-monthly-meeting-2026-8/
LOCATION:Plymouth II Alano Knoll Lutheran Church\, 610 Hopkins Crossroad\, Plymouth\, MN\, 55305\, United States
CATEGORIES:District Meeting
ORGANIZER;CN="Al-Anon District 9":MAILTO:mnsad9afg@gmail.com
END:VEVENT
BEGIN:VEVENT
DTSTART;TZID=America/Chicago:20260919T100000
DTEND;TZID=America/Chicago:20260919T110000
DTSTAMP:20260421T113028
CREATED:20251118T032650Z
LAST-MODIFIED:20251121T023516Z
UID:8304-1789812000-1789815600@mnsa-afg.org
SUMMARY:District 16 Meeting
DESCRIPTION:Held the 3rd Saturday of January\, February\, April\, May\, September\, October\, and November \nIn person option at the Friends Building. \nZoom Information: \nMeeting ID: 93710961060 \nPassword: D16AFG \n 
URL:https://mnsa-afg.org/event/district-16-meeting-5/
LOCATION:Friends Building\, 201 S. 3rd Street\, St. Peter\, MN\, 56082\, United States
CATEGORIES:District Meeting
END:VEVENT
BEGIN:VEVENT
DTSTART;TZID=America/Chicago:20260923T190000
DTEND;TZID=America/Chicago:20260923T200000
DTSTAMP:20260421T113028
CREATED:20250206T145824Z
LAST-MODIFIED:20250206T145824Z
UID:7663-1790190000-1790193600@mnsa-afg.org
SUMMARY:District 11 Monthly Meeting (2026)
DESCRIPTION:Zoom only \nhttps://us02web.zoom.us/j/87396840190?pwd=cFBuakxQa0J1dk1uVXlYS3Y0aWF3UT09\n\nMeeting ID 873 9684 0190 \nPasscode: 961 287
URL:https://mnsa-afg.org/event/district-11-monthly-meeting-2026-7/
LOCATION:Zoom Meeting
CATEGORIES:District Meeting
END:VEVENT
BEGIN:VEVENT
DTSTART;TZID=America/Chicago:20261015T183000
DTEND;TZID=America/Chicago:20261015T200000
DTSTAMP:20260421T113028
CREATED:20260112T175638Z
LAST-MODIFIED:20260112T175638Z
UID:8429-1792089000-1792094400@mnsa-afg.org
SUMMARY:District 8 Monthly Meeting
DESCRIPTION:District 8 Meetings held on the 3rd Thursday of Every Month from 6:30-8pm \n  \nGo to Zoom and put the information below to find our meeting.  For anonymity purposes this is not a link. \nMeeting ID : 843 3320 3473 \nPasscode: 3%8LAv \n 
URL:https://mnsa-afg.org/event/district-8-monthly-meeting-20/
LOCATION:Zoom Meeting
CATEGORIES:District Meeting
END:VEVENT
BEGIN:VEVENT
DTSTART;TZID=America/Chicago:20261015T183000
DTEND;TZID=America/Chicago:20261015T200000
DTSTAMP:20260421T113028
CREATED:20260126T231721Z
LAST-MODIFIED:20260126T231721Z
UID:8508-1792089000-1792094400@mnsa-afg.org
SUMMARY:District 9 Monthly Meeting (2026)
DESCRIPTION:The District 9 Monthly Meeting is the 3rd Thursday of Every Month.  It is a hybrid meeting held at Plymouth II Alano or via zoom. \n  \nZoom Information: \nJoin Zoom Meeting\nhttps://us02web.zoom.us/j/83404679734?pwd=OWRIRGlZSzI0MHZYMVhvUkpsNTF2UT09 \nMeeting ID: 834 0467 9734\nPasscode: 080284
URL:https://mnsa-afg.org/event/district-9-monthly-meeting-2026-9/
LOCATION:Plymouth II Alano Knoll Lutheran Church\, 610 Hopkins Crossroad\, Plymouth\, MN\, 55305\, United States
CATEGORIES:District Meeting
ORGANIZER;CN="Al-Anon District 9":MAILTO:mnsad9afg@gmail.com
END:VEVENT
BEGIN:VEVENT
DTSTART;TZID=America/Chicago:20261017T100000
DTEND;TZID=America/Chicago:20261017T110000
DTSTAMP:20260421T113028
CREATED:20251118T032712Z
LAST-MODIFIED:20251121T023433Z
UID:8305-1792231200-1792234800@mnsa-afg.org
SUMMARY:District 16 Meeting
DESCRIPTION:Held the 3rd Saturday of January\, February\, April\, May\, September\, October\, and November \nIn person option at the Friends Building. \nZoom Information: \nMeeting ID: 93710961060 \nPassword: D16AFG \n 
URL:https://mnsa-afg.org/event/district-16-meeting-6/
LOCATION:Friends Building\, 201 S. 3rd Street\, St. Peter\, MN\, 56082\, United States
CATEGORIES:District Meeting
END:VEVENT
BEGIN:VEVENT
DTSTART;TZID=America/Chicago:20261017T120000
DTEND;TZID=America/Chicago:20261017T133000
DTSTAMP:20260421T113029
CREATED:20251111T020059Z
LAST-MODIFIED:20251111T020059Z
UID:8284-1792238400-1792243800@mnsa-afg.org
SUMMARY:District 2 Quarterly Meeting (4Q 2026)
DESCRIPTION:Join us to learn more about upcoming District and Area events\, available and upcoming resources for your groups and members\, and tips from other G.R.’s that have worked well or not.
URL:https://mnsa-afg.org/event/district-2-quarterly-meeting-4q-2026/
LOCATION:Messiah Lutheran Church\, 16725 Highview Avenue\, Lakeville\, MN\, 55044\, United States
CATEGORIES:Al-Anon,District Meeting
END:VEVENT
BEGIN:VEVENT
DTSTART;TZID=America/Chicago:20261028T190000
DTEND;TZID=America/Chicago:20261028T200000
DTSTAMP:20260421T113029
CREATED:20250206T145955Z
LAST-MODIFIED:20250206T150012Z
UID:7671-1793214000-1793217600@mnsa-afg.org
SUMMARY:District 11 Monthly Meeting (2026)
DESCRIPTION:Zoom only \nhttps://us02web.zoom.us/j/87396840190?pwd=cFBuakxQa0J1dk1uVXlYS3Y0aWF3UT09\n\nMeeting ID 873 9684 0190 \nPasscode: 961 287\n\n\n*No meeting in November 2026*\n**December 2026 meeting will be TBD in person from 6-8pm (Christmas Party)**
URL:https://mnsa-afg.org/event/district-11-monthly-meeting-2026-8/
LOCATION:Zoom Meeting
CATEGORIES:District Meeting
END:VEVENT
END:VCALENDAR