BEGIN:VCALENDAR
VERSION:2.0
PRODID:-//Minnesota South Area Al-Anon - ECPv6.15.20//NONSGML v1.0//EN
CALSCALE:GREGORIAN
METHOD:PUBLISH
X-ORIGINAL-URL:https://mnsa-afg.org
X-WR-CALDESC:Events for Minnesota South Area Al-Anon
REFRESH-INTERVAL;VALUE=DURATION:PT1H
X-Robots-Tag:noindex
X-PUBLISHED-TTL:PT1H
BEGIN:VTIMEZONE
TZID:America/Chicago
BEGIN:DAYLIGHT
TZOFFSETFROM:-0600
TZOFFSETTO:-0500
TZNAME:CDT
DTSTART:20250309T080000
END:DAYLIGHT
BEGIN:STANDARD
TZOFFSETFROM:-0500
TZOFFSETTO:-0600
TZNAME:CST
DTSTART:20251102T070000
END:STANDARD
BEGIN:DAYLIGHT
TZOFFSETFROM:-0600
TZOFFSETTO:-0500
TZNAME:CDT
DTSTART:20260308T080000
END:DAYLIGHT
BEGIN:STANDARD
TZOFFSETFROM:-0500
TZOFFSETTO:-0600
TZNAME:CST
DTSTART:20261101T070000
END:STANDARD
BEGIN:DAYLIGHT
TZOFFSETFROM:-0600
TZOFFSETTO:-0500
TZNAME:CDT
DTSTART:20270314T080000
END:DAYLIGHT
BEGIN:STANDARD
TZOFFSETFROM:-0500
TZOFFSETTO:-0600
TZNAME:CST
DTSTART:20271107T070000
END:STANDARD
END:VTIMEZONE
BEGIN:VEVENT
DTSTART;TZID=America/Chicago:20260509T093000
DTEND;TZID=America/Chicago:20260509T103000
DTSTAMP:20260423T050359
CREATED:20260112T174150Z
LAST-MODIFIED:20260112T174150Z
UID:8417-1778319000-1778322600@mnsa-afg.org
SUMMARY:District 10 Meeting
DESCRIPTION:District 10 meets in person the 2nd Saturday in the 6 odd months of the year: January\, March\, May\, July\, September\, November from 9:30-10:30.  Please come find out what is happening in our area and how we can support each other!  Meeting is held in the Tulip Room.
URL:https://mnsa-afg.org/event/district-10-meeting-7/
LOCATION:St Joan of Arc Church-Tulip Room\, 4537 3rd Ave S\, Minneapolis\, MN\, 55419\, United States
CATEGORIES:District Meeting
ORGANIZER;CN="Al -Anon District 10":MAILTO:mnsouthdistrict10@gmail.com
END:VEVENT
BEGIN:VEVENT
DTSTART;TZID=America/Chicago:20260509T093000
DTEND;TZID=America/Chicago:20260509T113000
DTSTAMP:20260423T050359
CREATED:20251124T220821Z
LAST-MODIFIED:20260121T211648Z
UID:8373-1778319000-1778326200@mnsa-afg.org
SUMMARY:District 13 Hybrid Meetings (2026)
DESCRIPTION:All are welcome to this every other month hybrid meeting with locations varying.  If you would like to know the in-person location\, please email msnadistrict13@gmail.com \n  \nZoom information is \n811 9699 0331 \nPasscode is 070002 \n 
URL:https://mnsa-afg.org/event/district-13-hybrid-meetings-2026-3/
LOCATION:Zoom Meeting
CATEGORIES:District Meeting
END:VEVENT
BEGIN:VEVENT
DTSTART;TZID=America/Chicago:20260514T183000
DTEND;TZID=America/Chicago:20260514T200000
DTSTAMP:20260423T050359
CREATED:20260112T175424Z
LAST-MODIFIED:20260112T175433Z
UID:8434-1778783400-1778788800@mnsa-afg.org
SUMMARY:District 8 Monthly Meeting
DESCRIPTION:District 8 Meetings held on the 3rd Thursday of Every Month from 6:30-8pm \n  \nGo to Zoom and put the information below to find our meeting.  For anonymity purposes this is not a link. \nMeeting ID : 843 3320 3473 \nPasscode: 3%8LAv \n 
URL:https://mnsa-afg.org/event/district-8-monthly-meeting-15/
LOCATION:Zoom Meeting
CATEGORIES:District Meeting
END:VEVENT
BEGIN:VEVENT
DTSTART;TZID=America/Chicago:20260516T080000
DTEND;TZID=America/Chicago:20260516T170000
DTSTAMP:20260423T050359
CREATED:20251118T032611Z
LAST-MODIFIED:20251118T032611Z
UID:8303-1778918400-1778950800@mnsa-afg.org
SUMMARY:District 16 Meeting
DESCRIPTION:Held the 3rd Saturday of January\, February\, April\, May\, September\, October\, and November \nIn person option at the Friends Building. \nZoom Information: \nMeeting ID: 93710961060 \nPassword: D16AFG \n 
URL:https://mnsa-afg.org/event/district-16-meeting-4/
LOCATION:Friends Building\, 201 S. 3rd Street\, St. Peter\, MN\, 56082\, United States
CATEGORIES:District Meeting
END:VEVENT
BEGIN:VEVENT
DTSTART;TZID=America/Chicago:20260521T183000
DTEND;TZID=America/Chicago:20260521T200000
DTSTAMP:20260423T050359
CREATED:20260126T231518Z
LAST-MODIFIED:20260126T231518Z
UID:8513-1779388200-1779393600@mnsa-afg.org
SUMMARY:District 9 Monthly Meeting (2026)
DESCRIPTION:The District 9 Monthly Meeting is the 3rd Thursday of Every Month.  It is a hybrid meeting held at Plymouth II Alano or via zoom. \n  \nZoom Information: \nJoin Zoom Meeting\nhttps://us02web.zoom.us/j/83404679734?pwd=OWRIRGlZSzI0MHZYMVhvUkpsNTF2UT09 \nMeeting ID: 834 0467 9734\nPasscode: 080284
URL:https://mnsa-afg.org/event/district-9-monthly-meeting-2026-4/
LOCATION:Plymouth II Alano Knoll Lutheran Church\, 610 Hopkins Crossroad\, Plymouth\, MN\, 55305\, United States
CATEGORIES:District Meeting
ORGANIZER;CN="Al-Anon District 9":MAILTO:mnsad9afg@gmail.com
END:VEVENT
BEGIN:VEVENT
DTSTART;TZID=America/Chicago:20260527T190000
DTEND;TZID=America/Chicago:20260527T200000
DTSTAMP:20260423T050359
CREATED:20250206T145614Z
LAST-MODIFIED:20250206T145621Z
UID:7648-1779908400-1779912000@mnsa-afg.org
SUMMARY:District 11 Monthly Meeting (2026)
DESCRIPTION:Zoom only \nhttps://us02web.zoom.us/j/87396840190?pwd=cFBuakxQa0J1dk1uVXlYS3Y0aWF3UT09\n\nMeeting ID 873 9684 0190 \nPasscode: 961 287
URL:https://mnsa-afg.org/event/district-11-monthly-meeting-11/
LOCATION:Zoom Meeting
CATEGORIES:District Meeting
END:VEVENT
END:VCALENDAR