BEGIN:VCALENDAR
VERSION:2.0
PRODID:-//Minnesota South Area Al-Anon - ECPv6.15.20//NONSGML v1.0//EN
CALSCALE:GREGORIAN
METHOD:PUBLISH
X-WR-CALNAME:Minnesota South Area Al-Anon
X-ORIGINAL-URL:https://mnsa-afg.org
X-WR-CALDESC:Events for Minnesota South Area Al-Anon
REFRESH-INTERVAL;VALUE=DURATION:PT1H
X-Robots-Tag:noindex
X-PUBLISHED-TTL:PT1H
BEGIN:VTIMEZONE
TZID:America/Chicago
BEGIN:DAYLIGHT
TZOFFSETFROM:-0600
TZOFFSETTO:-0500
TZNAME:CDT
DTSTART:20250309T080000
END:DAYLIGHT
BEGIN:STANDARD
TZOFFSETFROM:-0500
TZOFFSETTO:-0600
TZNAME:CST
DTSTART:20251102T070000
END:STANDARD
BEGIN:DAYLIGHT
TZOFFSETFROM:-0600
TZOFFSETTO:-0500
TZNAME:CDT
DTSTART:20260308T080000
END:DAYLIGHT
BEGIN:STANDARD
TZOFFSETFROM:-0500
TZOFFSETTO:-0600
TZNAME:CST
DTSTART:20261101T070000
END:STANDARD
BEGIN:DAYLIGHT
TZOFFSETFROM:-0600
TZOFFSETTO:-0500
TZNAME:CDT
DTSTART:20270314T080000
END:DAYLIGHT
BEGIN:STANDARD
TZOFFSETFROM:-0500
TZOFFSETTO:-0600
TZNAME:CST
DTSTART:20271107T070000
END:STANDARD
END:VTIMEZONE
BEGIN:VEVENT
DTSTART;TZID=America/Chicago:20260514T174500
DTEND;TZID=America/Chicago:20260514T200000
DTSTAMP:20260421T162015
CREATED:20260411T144124Z
LAST-MODIFIED:20260411T145109Z
UID:8693-1778780700-1778788800@mnsa-afg.org
SUMMARY:Quiet Moments Al-Anon 46th Anniversary Celebration
DESCRIPTION:Speaker Meeting and Potluck \nOur annual anniversary celebration is open to everyone.  Please feel free to bring your family and friends to find out more about the HOPE available to anyone affected by someone else’s drinking. \n5:45pm-Potluck Dinner Set-Up \n6:15pm-Potluck Dinner \n6:45pm-Speakers: AA-Jeff F.\,  Al-Anon-Mary W.\, Alateen Speakers \nOnline begins at 6:45pm log in to www.myrecovery.org \n  \n\n\n\n    \n        \n            \n            \n                Quiet Moments Anniversary Potluck 2026\n                 1 file(s)  112.14 KB\n            \n            \n                Download
URL:https://mnsa-afg.org/event/quiet-moments-al-anon-46th-anniversary-celebration/
LOCATION:St Luke’s Lutheran Church\, 1701 West Old Shakopee Road\, Bloomington\, 55431\, United States
CATEGORIES:Al-Anon,Alateen,Friends & Family,Speaker Meeting,Special Event
END:VEVENT
BEGIN:VEVENT
DTSTART;TZID=America/Chicago:20260516T093000
DTEND;TZID=America/Chicago:20260516T113000
DTSTAMP:20260421T162015
CREATED:20260315T222014Z
LAST-MODIFIED:20260317T161003Z
UID:8620-1778923800-1778931000@mnsa-afg.org
SUMMARY:2026 Spring Literature & Forum Writing Workshop
DESCRIPTION:This writing workshop will focus on Conference-Approved Literature that will be coming in the near future about sponsorship and finances and provide you with guidelines for submittals.   \nWe will also spend time reviewing guidelines and opportunities for Forum submissions about a variety of Al Anon topics. So\, something for everyone in recovery.  \nThis will be a great opportunity to create sharings as an individual / with a friend/ or as a small group using our experience\, strength and hope. \nPlease join us! Writing is serving others!   \n\nPre registration by email to literature@mnsa-afg.org is required by 5/14/26. \n\n\n\n    \n        \n            \n            \n                2026 Spring Literature and Forum Writing workshop\n                 1 file(s)  342.85 KB\n            \n            \n                Download
URL:https://mnsa-afg.org/event/literature-writing-workshop/
LOCATION:Ridgedale Library-Ladyslipper Room\, 12601 Ridgedale Drive\, Minnetonka\, MN\, United States
CATEGORIES:Al-Anon,Alateen,Special Event
ORGANIZER;CN="Minnesota South Area":MAILTO:mnsa.afg.info@gmail.com
END:VEVENT
BEGIN:VEVENT
DTSTART;VALUE=DATE:20260522
DTEND;VALUE=DATE:20260525
DTSTAMP:20260421T162015
CREATED:20260118T020627Z
LAST-MODIFIED:20260206T195328Z
UID:8465-1779408000-1779667199@mnsa-afg.org
SUMMARY:Gopher State Roundup
DESCRIPTION:An occasion to share the fellowship and to carry the message of AA; with Al-Anon and Alateen participation \n  \nSee the event website at gopherstateroundup.org for details on agenda\, how to register\, and more.
URL:https://mnsa-afg.org/event/gopher-state-roundup/
LOCATION:Bloomington Doubletree Hotel\, 7800 Normandale Bldv\, Minneapolis\, MN\, 55439\, United States
CATEGORIES:Al-Anon,Alateen,AWSC,Special Event
END:VEVENT
END:VCALENDAR