BEGIN:VCALENDAR
VERSION:2.0
PRODID:-//Minnesota South Area Al-Anon - ECPv6.15.20//NONSGML v1.0//EN
CALSCALE:GREGORIAN
METHOD:PUBLISH
X-ORIGINAL-URL:https://mnsa-afg.org
X-WR-CALDESC:Events for Minnesota South Area Al-Anon
REFRESH-INTERVAL;VALUE=DURATION:PT1H
X-Robots-Tag:noindex
X-PUBLISHED-TTL:PT1H
BEGIN:VTIMEZONE
TZID:America/Chicago
BEGIN:DAYLIGHT
TZOFFSETFROM:-0600
TZOFFSETTO:-0500
TZNAME:CDT
DTSTART:20240310T080000
END:DAYLIGHT
BEGIN:STANDARD
TZOFFSETFROM:-0500
TZOFFSETTO:-0600
TZNAME:CST
DTSTART:20241103T070000
END:STANDARD
BEGIN:DAYLIGHT
TZOFFSETFROM:-0600
TZOFFSETTO:-0500
TZNAME:CDT
DTSTART:20250309T080000
END:DAYLIGHT
BEGIN:STANDARD
TZOFFSETFROM:-0500
TZOFFSETTO:-0600
TZNAME:CST
DTSTART:20251102T070000
END:STANDARD
BEGIN:DAYLIGHT
TZOFFSETFROM:-0600
TZOFFSETTO:-0500
TZNAME:CDT
DTSTART:20260308T080000
END:DAYLIGHT
BEGIN:STANDARD
TZOFFSETFROM:-0500
TZOFFSETTO:-0600
TZNAME:CST
DTSTART:20261101T070000
END:STANDARD
BEGIN:DAYLIGHT
TZOFFSETFROM:-0600
TZOFFSETTO:-0500
TZNAME:CDT
DTSTART:20270314T080000
END:DAYLIGHT
BEGIN:STANDARD
TZOFFSETFROM:-0500
TZOFFSETTO:-0600
TZNAME:CST
DTSTART:20271107T070000
END:STANDARD
END:VTIMEZONE
BEGIN:VEVENT
DTSTART;TZID=America/Chicago:20260124T110000
DTEND;TZID=America/Chicago:20260124T120000
DTSTAMP:20260422T063938
CREATED:20250724T122153Z
LAST-MODIFIED:20250724T123714Z
UID:7967-1769252400-1769256000@mnsa-afg.org
SUMMARY:Saturday Morning Al-Anon Book Study (zoom only)
DESCRIPTION:Join us on the 2nd and 4th Saturday of each month for Al-Anon Book Study (open to all) from 11:00 am to 12:00 pm on Zoom. \nWe’re excited to announce that on Saturday\, September 13 we’ll be starting a new book: Discovering Choices: Our Recovery in Relationships. \nPlease contact d11afc@icloud.com for Zoom login info. \nNo need to have read the book before you attend. We just start reading and discussing wherever we’ve last left off\, focusing on a small selection of the book each meeting. \n\n\n\n    \n        \n            \n            \n                Saturday Morning Al-Anon Book Club\n                 1 file(s)  262.02 KB\n            \n            \n                Download\n            \n        \n    \n\n\n\n 
URL:https://mnsa-afg.org/event/saturday-morning-al-anon-book-study-zoom-only-10/
LOCATION:Zoom Meeting
CATEGORIES:Al-Anon,Special Event
END:VEVENT
BEGIN:VEVENT
DTSTART;TZID=America/Chicago:20260117T120000
DTEND;TZID=America/Chicago:20260117T133000
DTSTAMP:20260422T063938
CREATED:20251108T160354Z
LAST-MODIFIED:20251108T160354Z
UID:8281-1768651200-1768656600@mnsa-afg.org
SUMMARY:District 2 Quarterly Meeting (1Q 2026)
DESCRIPTION:Join us to learn more about upcoming District and Area events\, available and upcoming resources for your groups and members\, and tips from other G.R.’s that have worked well or not.
URL:https://mnsa-afg.org/event/district-2-quarterly-meeting-1q-2026/
LOCATION:Messiah Lutheran Church\, 16725 Highview Avenue\, Lakeville\, MN\, 55044\, United States
CATEGORIES:Al-Anon,District Meeting
END:VEVENT
BEGIN:VEVENT
DTSTART;TZID=America/Chicago:20260117T074500
DTEND;TZID=America/Chicago:20260117T084500
DTSTAMP:20260422T063938
CREATED:20251018T133828Z
LAST-MODIFIED:20251018T133828Z
UID:8216-1768635900-1768639500@mnsa-afg.org
SUMMARY:District 4 Meeting (2026)
DESCRIPTION:For Group Reps and District Leaders in District 4. \nZoom Only \n813 4478 6715 \n\n\nPasscode: Grateful1\n\n\nNOTE-NO MEETING IN JUNE\, JULY\, AUGUST\, OR DECEMBER 2026
URL:https://mnsa-afg.org/event/district-4-meeting-2026/
LOCATION:Zoom Meeting
CATEGORIES:Al-Anon
END:VEVENT
BEGIN:VEVENT
DTSTART;TZID=America/Chicago:20260110T110000
DTEND;TZID=America/Chicago:20260110T120000
DTSTAMP:20260422T063938
CREATED:20250724T122117Z
LAST-MODIFIED:20250724T123723Z
UID:7966-1768042800-1768046400@mnsa-afg.org
SUMMARY:Saturday Morning Al-Anon Book Study (zoom only)
DESCRIPTION:Join us on the 2nd and 4th Saturday of each month for Al-Anon Book Study (open to all) from 11:00 am to 12:00 pm on Zoom. \nWe’re excited to announce that on Saturday\, September 13 we’ll be starting a new book: Discovering Choices: Our Recovery in Relationships. \nPlease contact d11afc@icloud.com for Zoom login info. \nNo need to have read the book before you attend. We just start reading and discussing wherever we’ve last left off\, focusing on a small selection of the book each meeting. \n\n\n\n    \n        \n            \n            \n                Saturday Morning Al-Anon Book Club\n                 1 file(s)  262.02 KB\n            \n            \n                Download\n            \n        \n    \n\n\n\n 
URL:https://mnsa-afg.org/event/saturday-morning-al-anon-book-study-zoom-only-9/
LOCATION:Zoom Meeting
CATEGORIES:Al-Anon,Special Event
END:VEVENT
BEGIN:VEVENT
DTSTART;TZID=America/Chicago:20251227T110000
DTEND;TZID=America/Chicago:20251227T120000
DTSTAMP:20260422T063938
CREATED:20250724T122052Z
LAST-MODIFIED:20250724T123732Z
UID:7964-1766833200-1766836800@mnsa-afg.org
SUMMARY:Saturday Morning Al-Anon Book Study (zoom only)
DESCRIPTION:Join us on the 2nd and 4th Saturday of each month for Al-Anon Book Study (open to all) from 11:00 am to 12:00 pm on Zoom. \nWe’re excited to announce that on Saturday\, September 13 we’ll be starting a new book: Discovering Choices: Our Recovery in Relationships. \nPlease contact d11afc@icloud.com for Zoom login info. \nNo need to have read the book before you attend. We just start reading and discussing wherever we’ve last left off\, focusing on a small selection of the book each meeting. \n\n\n\n    \n        \n            \n            \n                Saturday Morning Al-Anon Book Club\n                 1 file(s)  262.02 KB\n            \n            \n                Download\n            \n        \n    \n\n\n\n 
URL:https://mnsa-afg.org/event/saturday-morning-al-anon-book-study-zoom-only-8/
LOCATION:Zoom Meeting
CATEGORIES:Al-Anon,Special Event
END:VEVENT
BEGIN:VEVENT
DTSTART;TZID=America/Chicago:20251218T183000
DTEND;TZID=America/Chicago:20251218T200000
DTSTAMP:20260422T063938
CREATED:20241117T182554Z
LAST-MODIFIED:20241117T182554Z
UID:7452-1766082600-1766088000@mnsa-afg.org
SUMMARY:District 9 Meeting (2025)
DESCRIPTION:District Meetings happen the 3rd Thursday of every month\, same time & location with a zoom option.  Come learn more about your district\, gain support\, get resources and outreach to bring back to your home groups.  Feel connected to our world wide organization.  Topics change monthly. \nFor in person attendance\, enter through the back of Knoll Lutheran Church with its own entrance (effective May 2025) \nZoom Information Below \nJoin Zoom Meeting\nhttps://us02web.zoom.us/j/83404679734?pwd=OWRIRGlZSzI0MHZYMVhvUkpsNTF2UT09 \nMeeting ID: 834 0467 9734\nPasscode: 080284
URL:https://mnsa-afg.org/event/district-9-meeting-2025-8/
LOCATION:Plymouth II Alano Knoll Lutheran Church\, 610 Hopkins Crossroad\, Plymouth\, MN\, 55305\, United States
CATEGORIES:Al-Anon
ORGANIZER;CN="Al-Anon District 9":MAILTO:mnsad9afg@gmail.com
END:VEVENT
BEGIN:VEVENT
DTSTART;TZID=America/Chicago:20251213T110000
DTEND;TZID=America/Chicago:20251213T120000
DTSTAMP:20260422T063938
CREATED:20250724T122020Z
LAST-MODIFIED:20250724T123739Z
UID:7963-1765623600-1765627200@mnsa-afg.org
SUMMARY:Saturday Morning Al-Anon Book Study (zoom only)
DESCRIPTION:Join us on the 2nd and 4th Saturday of each month for Al-Anon Book Study (open to all) from 11:00 am to 12:00 pm on Zoom. \nWe’re excited to announce that on Saturday\, September 13 we’ll be starting a new book: Discovering Choices: Our Recovery in Relationships. \nPlease contact d11afc@icloud.com for Zoom login info. \nNo need to have read the book before you attend. We just start reading and discussing wherever we’ve last left off\, focusing on a small selection of the book each meeting. \n\n\n\n    \n        \n            \n            \n                Saturday Morning Al-Anon Book Club\n                 1 file(s)  262.02 KB\n            \n            \n                Download\n            \n        \n    \n\n\n\n 
URL:https://mnsa-afg.org/event/saturday-morning-al-anon-book-study-zoom-only-7/
LOCATION:Zoom Meeting
CATEGORIES:Al-Anon,Special Event
END:VEVENT
BEGIN:VEVENT
DTSTART;TZID=America/Chicago:20251122T110000
DTEND;TZID=America/Chicago:20251122T120000
DTSTAMP:20260422T063938
CREATED:20250724T121927Z
LAST-MODIFIED:20250724T123744Z
UID:7962-1763809200-1763812800@mnsa-afg.org
SUMMARY:Saturday Morning Al-Anon Book Study (zoom only)
DESCRIPTION:Join us on the 2nd and 4th Saturday of each month for Al-Anon Book Study (open to all) from 11:00 am to 12:00 pm on Zoom. \nWe’re excited to announce that on Saturday\, September 13 we’ll be starting a new book: Discovering Choices: Our Recovery in Relationships. \nPlease contact d11afc@icloud.com for Zoom login info. \nNo need to have read the book before you attend. We just start reading and discussing wherever we’ve last left off\, focusing on a small selection of the book each meeting. \n\n\n\n    \n        \n            \n            \n                Saturday Morning Al-Anon Book Club\n                 1 file(s)  262.02 KB\n            \n            \n                Download\n            \n        \n    \n\n\n\n 
URL:https://mnsa-afg.org/event/saturday-morning-al-anon-book-study-zoom-only-6/
LOCATION:Zoom Meeting
CATEGORIES:Al-Anon,Special Event
END:VEVENT
BEGIN:VEVENT
DTSTART;TZID=America/Chicago:20251120T183000
DTEND;TZID=America/Chicago:20251120T200000
DTSTAMP:20260422T063938
CREATED:20241117T182530Z
LAST-MODIFIED:20241117T182530Z
UID:7451-1763663400-1763668800@mnsa-afg.org
SUMMARY:District 9 Meeting (2025)
DESCRIPTION:District Meetings happen the 3rd Thursday of every month\, same time & location with a zoom option.  Come learn more about your district\, gain support\, get resources and outreach to bring back to your home groups.  Feel connected to our world wide organization.  Topics change monthly. \nFor in person attendance\, enter through the back of Knoll Lutheran Church with its own entrance (effective May 2025) \nZoom Information Below \nJoin Zoom Meeting\nhttps://us02web.zoom.us/j/83404679734?pwd=OWRIRGlZSzI0MHZYMVhvUkpsNTF2UT09 \nMeeting ID: 834 0467 9734\nPasscode: 080284
URL:https://mnsa-afg.org/event/district-9-meeting-2025-7/
LOCATION:Plymouth II Alano Knoll Lutheran Church\, 610 Hopkins Crossroad\, Plymouth\, MN\, 55305\, United States
CATEGORIES:Al-Anon
ORGANIZER;CN="Al-Anon District 9":MAILTO:mnsad9afg@gmail.com
END:VEVENT
BEGIN:VEVENT
DTSTART;TZID=America/Chicago:20251115T074500
DTEND;TZID=America/Chicago:20251115T084500
DTSTAMP:20260422T063938
CREATED:20241117T184244Z
LAST-MODIFIED:20251018T133612Z
UID:7480-1763192700-1763196300@mnsa-afg.org
SUMMARY:District 4 Meeting (2025)
DESCRIPTION:For Group Reps and District Leaders in District 4. \nZoom Only \n813 4478 6715 \n\n\nPasscode: Grateful1\n\n\nNOTE-NO MEETING IN DECEMBER 2025
URL:https://mnsa-afg.org/event/district-4-meeting-2025-11/
LOCATION:Zoom Meeting
CATEGORIES:Al-Anon
END:VEVENT
BEGIN:VEVENT
DTSTART;TZID=America/Chicago:20251108T110000
DTEND;TZID=America/Chicago:20251108T120000
DTSTAMP:20260422T063938
CREATED:20250724T120708Z
LAST-MODIFIED:20250724T123750Z
UID:7956-1762599600-1762603200@mnsa-afg.org
SUMMARY:Saturday Morning Al-Anon Book Study (zoom only)
DESCRIPTION:Join us on the 2nd and 4th Saturday of each month for Al-Anon Book Study (open to all) from 11:00 am to 12:00 pm on Zoom. \nWe’re excited to announce that on Saturday\, September 13 we’ll be starting a new book: Discovering Choices: Our Recovery in Relationships. \nPlease contact d11afc@icloud.com for Zoom login info. \nNo need to have read the book before you attend. We just start reading and discussing wherever we’ve last left off\, focusing on a small selection of the book each meeting. \n\n\n\n    \n        \n            \n            \n                Saturday Morning Al-Anon Book Club\n                 1 file(s)  262.02 KB\n            \n            \n                Download\n            \n        \n    \n\n\n\n 
URL:https://mnsa-afg.org/event/saturday-morning-al-anon-book-study-zoom-only-5/
LOCATION:Zoom Meeting
CATEGORIES:Al-Anon,Special Event
END:VEVENT
BEGIN:VEVENT
DTSTART;TZID=America/Chicago:20251108T093000
DTEND;TZID=America/Chicago:20251108T113000
DTSTAMP:20260422T063938
CREATED:20241111T160648Z
LAST-MODIFIED:20241111T160648Z
UID:7378-1762594200-1762601400@mnsa-afg.org
SUMMARY:District 13 Meeting (2025)
DESCRIPTION:All meetings are held by zoom only \nMeeting ID: 811 9699 0331 \nPasscode: 070002 \n 
URL:https://mnsa-afg.org/event/district-13-meeting-2025-8/
LOCATION:Zoom Meeting
CATEGORIES:Al-Anon,District Meeting
END:VEVENT
BEGIN:VEVENT
DTSTART;TZID=America/Chicago:20251025T110000
DTEND;TZID=America/Chicago:20251025T120000
DTSTAMP:20260422T063938
CREATED:20250721T220356Z
LAST-MODIFIED:20250724T124040Z
UID:7948-1761390000-1761393600@mnsa-afg.org
SUMMARY:Saturday Morning Al-Anon Book Study (zoom only)
DESCRIPTION:Join us on the 2nd and 4th Saturday of each month for Al-Anon Book Study (open to all) from 11:00 am to 12:00 pm on Zoom. \nWe’re excited to announce that on Saturday\, September 13 we’ll be starting a new book: Discovering Choices: Our Recovery in Relationships. \nPlease contact d11afc@icloud.com for Zoom login info. \nNo need to have read the book before you attend. We just start reading and discussing wherever we’ve last left off\, focusing on a small selection of the book each meeting. \n\n\n\n    \n        \n            \n            \n                Saturday Morning Al-Anon Book Club\n                 1 file(s)  262.02 KB\n            \n            \n                Download\n            \n        \n    \n\n\n\n 
URL:https://mnsa-afg.org/event/saturday-morning-al-anon-book-study-zoom-only-4/
LOCATION:Zoom Meeting
CATEGORIES:Al-Anon,Special Event
END:VEVENT
BEGIN:VEVENT
DTSTART;TZID=America/Chicago:20251018T110000
DTEND;TZID=America/Chicago:20251018T123000
DTSTAMP:20260422T063938
CREATED:20241111T130948Z
LAST-MODIFIED:20250615T162128Z
UID:7325-1760785200-1760790600@mnsa-afg.org
SUMMARY:District 2 Quarterly Meeting (Q4 2025)
DESCRIPTION:Join us to learn more about upcoming District and Area events\, available and upcoming resources for your groups and members\, and tips from other G.R.’s that have worked well or not.
URL:https://mnsa-afg.org/event/district-2-quarterly-meeting-q4-2025/
LOCATION:Messiah Lutheran Church\, 16725 Highview Avenue\, Lakeville\, MN\, 55044\, United States
CATEGORIES:Al-Anon
END:VEVENT
BEGIN:VEVENT
DTSTART;TZID=America/Chicago:20251018T074500
DTEND;TZID=America/Chicago:20251018T084500
DTSTAMP:20260422T063938
CREATED:20251018T134726Z
LAST-MODIFIED:20251018T134726Z
UID:8234-1760773500-1760777100@mnsa-afg.org
SUMMARY:District 4 Meeting (2025)
DESCRIPTION:For Group Reps and District Leaders in District 4. \nZoom Only \n813 4478 6715 \n\n\nPasscode: Grateful1\n\n\nNOTE-NO MEETING IN DECEMBER 2025
URL:https://mnsa-afg.org/event/district-4-meeting-2025-7/
LOCATION:Zoom Meeting
CATEGORIES:Al-Anon
END:VEVENT
BEGIN:VEVENT
DTSTART;TZID=America/Chicago:20251016T183000
DTEND;TZID=America/Chicago:20251016T200000
DTSTAMP:20260422T063938
CREATED:20241117T182502Z
LAST-MODIFIED:20241117T182502Z
UID:7450-1760639400-1760644800@mnsa-afg.org
SUMMARY:District 9 Meeting (2025)
DESCRIPTION:District Meetings happen the 3rd Thursday of every month\, same time & location with a zoom option.  Come learn more about your district\, gain support\, get resources and outreach to bring back to your home groups.  Feel connected to our world wide organization.  Topics change monthly. \nFor in person attendance\, enter through the back of Knoll Lutheran Church with its own entrance (effective May 2025) \nZoom Information Below \nJoin Zoom Meeting\nhttps://us02web.zoom.us/j/83404679734?pwd=OWRIRGlZSzI0MHZYMVhvUkpsNTF2UT09 \nMeeting ID: 834 0467 9734\nPasscode: 080284
URL:https://mnsa-afg.org/event/district-9-meeting-2025-6/
LOCATION:Plymouth II Alano Knoll Lutheran Church\, 610 Hopkins Crossroad\, Plymouth\, MN\, 55305\, United States
CATEGORIES:Al-Anon
ORGANIZER;CN="Al-Anon District 9":MAILTO:mnsad9afg@gmail.com
END:VEVENT
BEGIN:VEVENT
DTSTART;TZID=America/Chicago:20251011T110000
DTEND;TZID=America/Chicago:20251011T120000
DTSTAMP:20260422T063938
CREATED:20250721T220316Z
LAST-MODIFIED:20250724T124010Z
UID:7946-1760180400-1760184000@mnsa-afg.org
SUMMARY:Saturday Morning Al-Anon Book Study (zoom only)
DESCRIPTION:Join us on the 2nd and 4th Saturday of each month for Al-Anon Book Study (open to all) from 11:00 am to 12:00 pm on Zoom. \nWe’re excited to announce that on Saturday\, September 13 we’ll be starting a new book: Discovering Choices: Our Recovery in Relationships. \nPlease contact d11afc@icloud.com for Zoom login info. \nNo need to have read the book before you attend. We just start reading and discussing wherever we’ve last left off\, focusing on a small selection of the book each meeting. \n\n\n\n    \n        \n            \n            \n                Saturday Morning Al-Anon Book Club\n                 1 file(s)  262.02 KB\n            \n            \n                Download\n            \n        \n    \n\n\n\n 
URL:https://mnsa-afg.org/event/saturday-morning-al-anon-book-study-zoom-only-3/
LOCATION:Zoom Meeting
CATEGORIES:Al-Anon,Special Event
END:VEVENT
BEGIN:VEVENT
DTSTART;TZID=America/Chicago:20251004T080000
DTEND;TZID=America/Chicago:20251004T160000
DTSTAMP:20260422T063938
CREATED:20241111T132851Z
LAST-MODIFIED:20250913T152910Z
UID:7348-1759564800-1759593600@mnsa-afg.org
SUMMARY:Fall Assembly (2025)
DESCRIPTION:Leaf your Worries Behind and join us at the Fall Assembly in Mankato\, MN. \nDoors open at 8am\, meeting starts promptly at 9am.  Meeting will be held in person with lunch ($10) or via zoom ($5) \nRegister by 9/24/25 (see attachment  for US Mail Registration or use electronic registration options below) \nElectronic registration should be mailed to district16afgmn@gmail.com with the following information \n\nName\nService Position (if applicable)\nDistrict #\nEmail\nMailing address\nPhone #\nZoomie or Roomie\n\nElectronic Payment to Zelle account: MNSA AFG Inc. mnsa.treas@yahoo.com \n  \n\n\n\n    \n        \n            \n            \n                Fall 2025 Assembly\n                 1 file(s)  177.53 KB\n            \n            \n                Download\n            \n        \n    \n\n\n\nDownload all documents and resources for the Fall Assembly from the Area Resources And Downloads page.
URL:https://mnsa-afg.org/event/fall-assembly-2025/
LOCATION:Hosanna Church\, 105 Hosanna Drive\, Mankato\, MN\, 56001\, United States
CATEGORIES:Al-Anon,Alateen,Assembly,Meeting Details
END:VEVENT
BEGIN:VEVENT
DTSTART;TZID=America/Chicago:20250927T110000
DTEND;TZID=America/Chicago:20250927T120000
DTSTAMP:20260422T063938
CREATED:20250721T220213Z
LAST-MODIFIED:20250724T123949Z
UID:7944-1758970800-1758974400@mnsa-afg.org
SUMMARY:Saturday Morning Al-Anon Book Study (zoom only)
DESCRIPTION:Join us on the 2nd and 4th Saturday of each month for Al-Anon Book Study (open to all) from 11:00 am to 12:00 pm on Zoom. \nWe’re excited to announce that on Saturday\, September 13 we’ll be starting a new book: Discovering Choices: Our Recovery in Relationships. \nPlease contact d11afc@icloud.com for Zoom login info. \nNo need to have read the book before you attend. We just start reading and discussing wherever we’ve last left off\, focusing on a small selection of the book each meeting. \n\n\n\n    \n        \n            \n            \n                Saturday Morning Al-Anon Book Club\n                 1 file(s)  262.02 KB\n            \n            \n                Download\n            \n        \n    \n\n\n\n 
URL:https://mnsa-afg.org/event/saturday-morning-al-anon-book-study-zoom-only-2/
LOCATION:Zoom Meeting
CATEGORIES:Al-Anon,Special Event
END:VEVENT
BEGIN:VEVENT
DTSTART;TZID=America/Chicago:20250920T074500
DTEND;TZID=America/Chicago:20250920T084500
DTSTAMP:20260422T063938
CREATED:20241117T184029Z
LAST-MODIFIED:20241117T184704Z
UID:7478-1758354300-1758357900@mnsa-afg.org
SUMMARY:District 4 Meeting (2025)
DESCRIPTION:For Group Reps and District Leaders in District 4. \nZoom Only \n813 4478 6715 \n\n\nPasscode: Grateful1
URL:https://mnsa-afg.org/event/district-4-meeting-2025-9/
LOCATION:Zoom Meeting
CATEGORIES:Al-Anon
END:VEVENT
BEGIN:VEVENT
DTSTART;TZID=America/Chicago:20250918T183000
DTEND;TZID=America/Chicago:20250918T200000
DTSTAMP:20260422T063938
CREATED:20241117T182438Z
LAST-MODIFIED:20241117T182438Z
UID:7449-1758220200-1758225600@mnsa-afg.org
SUMMARY:District 9 Meeting (2025)
DESCRIPTION:District Meetings happen the 3rd Thursday of every month\, same time & location with a zoom option.  Come learn more about your district\, gain support\, get resources and outreach to bring back to your home groups.  Feel connected to our world wide organization.  Topics change monthly. \nFor in person attendance\, enter through the back of Knoll Lutheran Church with its own entrance (effective May 2025) \nZoom Information Below \nJoin Zoom Meeting\nhttps://us02web.zoom.us/j/83404679734?pwd=OWRIRGlZSzI0MHZYMVhvUkpsNTF2UT09 \nMeeting ID: 834 0467 9734\nPasscode: 080284
URL:https://mnsa-afg.org/event/district-9-meeting-2025-5/
LOCATION:Plymouth II Alano Knoll Lutheran Church\, 610 Hopkins Crossroad\, Plymouth\, MN\, 55305\, United States
CATEGORIES:Al-Anon
ORGANIZER;CN="Al-Anon District 9":MAILTO:mnsad9afg@gmail.com
END:VEVENT
BEGIN:VEVENT
DTSTART;TZID=America/Chicago:20250913T110000
DTEND;TZID=America/Chicago:20250913T120000
DTSTAMP:20260422T063938
CREATED:20250721T220116Z
LAST-MODIFIED:20250724T123834Z
UID:7942-1757761200-1757764800@mnsa-afg.org
SUMMARY:Saturday Morning Al-Anon Book Study (zoom only)
DESCRIPTION:Join us on the 2nd and 4th Saturday of each month for Al-Anon Book Study (open to all) from 11:00 am to 12:00 pm on Zoom. \nWe’re excited to announce that on Saturday\, September 13 we’ll be starting a new book: Discovering Choices: Our Recovery in Relationships. \nPlease contact d11afc@icloud.com for Zoom login info. \nNo need to have read the book before you attend. We just start reading and discussing wherever we’ve last left off\, focusing on a small selection of the book each meeting. \n\n\n\n    \n        \n            \n            \n                Saturday Morning Al-Anon Book Club\n                 1 file(s)  262.02 KB\n            \n            \n                Download\n            \n        \n    \n\n\n\n 
URL:https://mnsa-afg.org/event/saturday-morning-al-anon-book-study-zoom-only/
LOCATION:Zoom Meeting
CATEGORIES:Al-Anon,Special Event
END:VEVENT
BEGIN:VEVENT
DTSTART;TZID=America/Chicago:20250913T093000
DTEND;TZID=America/Chicago:20250913T113000
DTSTAMP:20260422T063938
CREATED:20241111T160625Z
LAST-MODIFIED:20241111T160625Z
UID:7374-1757755800-1757763000@mnsa-afg.org
SUMMARY:District 13 Meeting (2025)
DESCRIPTION:All meetings are held by zoom only \nMeeting ID: 811 9699 0331 \nPasscode: 070002 \n 
URL:https://mnsa-afg.org/event/district-13-meeting-2025-7/
LOCATION:Zoom Meeting
CATEGORIES:Al-Anon,District Meeting
END:VEVENT
BEGIN:VEVENT
DTSTART;TZID=America/Chicago:20250906T100000
DTEND;TZID=America/Chicago:20250906T130000
DTSTAMP:20260422T063938
CREATED:20250405T201449Z
LAST-MODIFIED:20250822T144335Z
UID:7788-1757152800-1757163600@mnsa-afg.org
SUMMARY:MNSA Town Hall
DESCRIPTION:MNSA Al-Anon Family Groups Town Hall \nCome and learn what’s new outside of your group!  Questions\, Thoughts\, Ideas\, share them all! \nThis will be a ZOOM ONLY meeting. To register please email: chair@mnsa-afg.org  \n\n\n\n    \n        \n            \n            \n                September 2025 Town Hall\n                 1 file(s)  1.07 MB\n            \n            \n                Download
URL:https://mnsa-afg.org/event/area-leadership-meet-and-greet/
LOCATION:Zoom Meeting
CATEGORIES:Al-Anon,Special Event
END:VEVENT
BEGIN:VEVENT
DTSTART;TZID=America/Chicago:20250821T183000
DTEND;TZID=America/Chicago:20250821T200000
DTSTAMP:20260422T063938
CREATED:20241117T182417Z
LAST-MODIFIED:20241117T182417Z
UID:7448-1755801000-1755806400@mnsa-afg.org
SUMMARY:District 9 Meeting (2025)
DESCRIPTION:District Meetings happen the 3rd Thursday of every month\, same time & location with a zoom option.  Come learn more about your district\, gain support\, get resources and outreach to bring back to your home groups.  Feel connected to our world wide organization.  Topics change monthly. \nFor in person attendance\, enter through the back of Knoll Lutheran Church with its own entrance (effective May 2025) \nZoom Information Below \nJoin Zoom Meeting\nhttps://us02web.zoom.us/j/83404679734?pwd=OWRIRGlZSzI0MHZYMVhvUkpsNTF2UT09 \nMeeting ID: 834 0467 9734\nPasscode: 080284
URL:https://mnsa-afg.org/event/district-9-meeting-2025-4/
LOCATION:Plymouth II Alano Knoll Lutheran Church\, 610 Hopkins Crossroad\, Plymouth\, MN\, 55305\, United States
CATEGORIES:Al-Anon
ORGANIZER;CN="Al-Anon District 9":MAILTO:mnsad9afg@gmail.com
END:VEVENT
BEGIN:VEVENT
DTSTART;TZID=America/Chicago:20250816T074500
DTEND;TZID=America/Chicago:20250816T084500
DTSTAMP:20260422T063938
CREATED:20241117T183938Z
LAST-MODIFIED:20250818T172131Z
UID:7477-1755330300-1755333900@mnsa-afg.org
SUMMARY:CANCELLED District 4 Meeting (2025)
DESCRIPTION:CANCELLED For Group Reps and District Leaders in District 4. \nZoom Only \n813 4478 6715 \n\n\nPasscode: Grateful1
URL:https://mnsa-afg.org/event/district-4-meeting-2025-8/
LOCATION:Zoom Meeting
CATEGORIES:Al-Anon
END:VEVENT
BEGIN:VEVENT
DTSTART;TZID=America/Chicago:20250810T070000
DTEND;TZID=America/Chicago:20250810T220000
DTSTAMP:20260422T063938
CREATED:20241111T131818Z
LAST-MODIFIED:20241111T131818Z
UID:7334-1754809200-1754863200@mnsa-afg.org
SUMMARY:Dakota County Al-Anon/Alateen Fair Booth (2025)
DESCRIPTION:Look for the Al-Anon/Alateen booth(Hosted by District 2) when you visit the Dakota County Fair in Farmington\, MN. The booth is located in one of the buildings and has pamphlets and meeting information. An Al-Anon member or two and and a Alateen is available to answer any questions you may have. Fair food and carnival rides an extra bonus.
URL:https://mnsa-afg.org/event/dakota-county-al-anon-alateen-fair-booth-2025-7/
LOCATION:Dakota County Fair\, 4008 220th Street W\, Farmington\, MN\, United States
CATEGORIES:Al-Anon,Alateen,Special Event
END:VEVENT
BEGIN:VEVENT
DTSTART;TZID=America/Chicago:20250809T070000
DTEND;TZID=America/Chicago:20250809T220000
DTSTAMP:20260422T063938
CREATED:20241111T131754Z
LAST-MODIFIED:20241111T131754Z
UID:7335-1754722800-1754776800@mnsa-afg.org
SUMMARY:Dakota County Al-Anon/Alateen Fair Booth (2025)
DESCRIPTION:Look for the Al-Anon/Alateen booth(Hosted by District 2) when you visit the Dakota County Fair in Farmington\, MN. The booth is located in one of the buildings and has pamphlets and meeting information. An Al-Anon member or two and and a Alateen is available to answer any questions you may have. Fair food and carnival rides an extra bonus.
URL:https://mnsa-afg.org/event/dakota-county-al-anon-alateen-fair-booth-2025-6/
LOCATION:Dakota County Fair\, 4008 220th Street W\, Farmington\, MN\, United States
CATEGORIES:Al-Anon,Alateen,Special Event
END:VEVENT
BEGIN:VEVENT
DTSTART;TZID=America/Chicago:20250808T070000
DTEND;TZID=America/Chicago:20250808T220000
DTSTAMP:20260422T063938
CREATED:20241111T131732Z
LAST-MODIFIED:20241111T131732Z
UID:7331-1754636400-1754690400@mnsa-afg.org
SUMMARY:Dakota County Al-Anon/Alateen Fair Booth (2025)
DESCRIPTION:Look for the Al-Anon/Alateen booth(Hosted by District 2) when you visit the Dakota County Fair in Farmington\, MN. The booth is located in one of the buildings and has pamphlets and meeting information. An Al-Anon member or two and and a Alateen is available to answer any questions you may have. Fair food and carnival rides an extra bonus.
URL:https://mnsa-afg.org/event/dakota-county-al-anon-alateen-fair-booth-2025-5/
LOCATION:Dakota County Fair\, 4008 220th Street W\, Farmington\, MN\, United States
CATEGORIES:Al-Anon,Alateen,Special Event
END:VEVENT
BEGIN:VEVENT
DTSTART;TZID=America/Chicago:20250807T070000
DTEND;TZID=America/Chicago:20250807T220000
DTSTAMP:20260422T063938
CREATED:20241111T131709Z
LAST-MODIFIED:20241111T131709Z
UID:7333-1754550000-1754604000@mnsa-afg.org
SUMMARY:Dakota County Al-Anon/Alateen Fair Booth (2025)
DESCRIPTION:Look for the Al-Anon/Alateen booth(Hosted by District 2) when you visit the Dakota County Fair in Farmington\, MN. The booth is located in one of the buildings and has pamphlets and meeting information. An Al-Anon member or two and and a Alateen is available to answer any questions you may have. Fair food and carnival rides an extra bonus.
URL:https://mnsa-afg.org/event/dakota-county-al-anon-alateen-fair-booth-2025-4/
LOCATION:Dakota County Fair\, 4008 220th Street W\, Farmington\, MN\, United States
CATEGORIES:Al-Anon,Alateen,Special Event
END:VEVENT
END:VCALENDAR