BEGIN:VCALENDAR
VERSION:2.0
PRODID:-//Minnesota South Area Al-Anon - ECPv6.15.20//NONSGML v1.0//EN
CALSCALE:GREGORIAN
METHOD:PUBLISH
X-WR-CALNAME:Minnesota South Area Al-Anon
X-ORIGINAL-URL:https://mnsa-afg.org
X-WR-CALDESC:Events for Minnesota South Area Al-Anon
REFRESH-INTERVAL;VALUE=DURATION:PT1H
X-Robots-Tag:noindex
X-PUBLISHED-TTL:PT1H
BEGIN:VTIMEZONE
TZID:America/Chicago
BEGIN:DAYLIGHT
TZOFFSETFROM:-0600
TZOFFSETTO:-0500
TZNAME:CDT
DTSTART:20250309T080000
END:DAYLIGHT
BEGIN:STANDARD
TZOFFSETFROM:-0500
TZOFFSETTO:-0600
TZNAME:CST
DTSTART:20251102T070000
END:STANDARD
BEGIN:DAYLIGHT
TZOFFSETFROM:-0600
TZOFFSETTO:-0500
TZNAME:CDT
DTSTART:20260308T080000
END:DAYLIGHT
BEGIN:STANDARD
TZOFFSETFROM:-0500
TZOFFSETTO:-0600
TZNAME:CST
DTSTART:20261101T070000
END:STANDARD
BEGIN:DAYLIGHT
TZOFFSETFROM:-0600
TZOFFSETTO:-0500
TZNAME:CDT
DTSTART:20270314T080000
END:DAYLIGHT
BEGIN:STANDARD
TZOFFSETFROM:-0500
TZOFFSETTO:-0600
TZNAME:CST
DTSTART:20271107T070000
END:STANDARD
END:VTIMEZONE
BEGIN:VEVENT
DTSTART;TZID=America/Chicago:20260808T110000
DTEND;TZID=America/Chicago:20260808T120000
DTSTAMP:20260422T105750
CREATED:20250724T123222Z
LAST-MODIFIED:20260206T195140Z
UID:7980-1786186800-1786190400@mnsa-afg.org
SUMMARY:Saturday Morning Al-Anon Book Study (zoom only)
DESCRIPTION:Join us on the 2nd and 4th Saturday of each month for Al-Anon Book Study (open to all) from 11:00 am to 12:00 pm on Zoom. \nWe’re excited to announce that on Saturday\, September 13 we’ll be starting a new book: Discovering Choices: Our Recovery in Relationships. \nPlease contact d11afc@icloud.com for Zoom login info. \nNo need to have read the book before you attend. We just start reading and discussing wherever we’ve last left off\, focusing on a small selection of the book each meeting. \n\n\n\n    \n        \n            \n            \n                Saturday Morning Al-Anon Book Club\n                 1 file(s)  262.02 KB\n            \n            \n                Download\n            \n        \n    \n\n\n\n 
URL:https://mnsa-afg.org/event/saturday-morning-al-anon-book-study-zoom-only-23/
LOCATION:Zoom Meeting
CATEGORIES:Al-Anon
END:VEVENT
BEGIN:VEVENT
DTSTART;TZID=America/Chicago:20260822T110000
DTEND;TZID=America/Chicago:20260822T120000
DTSTAMP:20260422T105750
CREATED:20250724T123248Z
LAST-MODIFIED:20250724T123248Z
UID:7981-1787396400-1787400000@mnsa-afg.org
SUMMARY:Saturday Morning Al-Anon Book Study (zoom only)
DESCRIPTION:Join us on the 2nd and 4th Saturday of each month for Al-Anon Book Study (open to all) from 11:00 am to 12:00 pm on Zoom. \nWe’re excited to announce that on Saturday\, September 13 we’ll be starting a new book: Discovering Choices: Our Recovery in Relationships. \nPlease contact d11afc@icloud.com for Zoom login info. \nNo need to have read the book before you attend. We just start reading and discussing wherever we’ve last left off\, focusing on a small selection of the book each meeting. \n\n\n\n    \n        \n            \n            \n                Saturday Morning Al-Anon Book Club\n                 1 file(s)  262.02 KB\n            \n            \n                Download\n            \n        \n    \n\n\n\n 
URL:https://mnsa-afg.org/event/saturday-morning-al-anon-book-study-zoom-only-24/
LOCATION:Zoom Meeting
CATEGORIES:Al-Anon,Special Event
END:VEVENT
END:VCALENDAR