BEGIN:VCALENDAR
VERSION:2.0
PRODID:-//Minnesota South Area Al-Anon - ECPv6.15.20//NONSGML v1.0//EN
CALSCALE:GREGORIAN
METHOD:PUBLISH
X-WR-CALNAME:Minnesota South Area Al-Anon
X-ORIGINAL-URL:https://mnsa-afg.org
X-WR-CALDESC:Events for Minnesota South Area Al-Anon
REFRESH-INTERVAL;VALUE=DURATION:PT1H
X-Robots-Tag:noindex
X-PUBLISHED-TTL:PT1H
BEGIN:VTIMEZONE
TZID:America/Chicago
BEGIN:DAYLIGHT
TZOFFSETFROM:-0600
TZOFFSETTO:-0500
TZNAME:CDT
DTSTART:20250309T080000
END:DAYLIGHT
BEGIN:STANDARD
TZOFFSETFROM:-0500
TZOFFSETTO:-0600
TZNAME:CST
DTSTART:20251102T070000
END:STANDARD
BEGIN:DAYLIGHT
TZOFFSETFROM:-0600
TZOFFSETTO:-0500
TZNAME:CDT
DTSTART:20260308T080000
END:DAYLIGHT
BEGIN:STANDARD
TZOFFSETFROM:-0500
TZOFFSETTO:-0600
TZNAME:CST
DTSTART:20261101T070000
END:STANDARD
BEGIN:DAYLIGHT
TZOFFSETFROM:-0600
TZOFFSETTO:-0500
TZNAME:CDT
DTSTART:20270314T080000
END:DAYLIGHT
BEGIN:STANDARD
TZOFFSETFROM:-0500
TZOFFSETTO:-0600
TZNAME:CST
DTSTART:20271107T070000
END:STANDARD
END:VTIMEZONE
BEGIN:VEVENT
DTSTART;TZID=America/Chicago:20260613T110000
DTEND;TZID=America/Chicago:20260613T120000
DTSTAMP:20260422T075609
CREATED:20250724T123020Z
LAST-MODIFIED:20260206T195250Z
UID:7976-1781348400-1781352000@mnsa-afg.org
SUMMARY:Saturday Morning Al-Anon Book Study (zoom only)
DESCRIPTION:Join us on the 2nd and 4th Saturday of each month for Al-Anon Book Study (open to all) from 11:00 am to 12:00 pm on Zoom. \nWe’re excited to announce that on Saturday\, September 13 we’ll be starting a new book: Discovering Choices: Our Recovery in Relationships. \nPlease contact d11afc@icloud.com for Zoom login info. \nNo need to have read the book before you attend. We just start reading and discussing wherever we’ve last left off\, focusing on a small selection of the book each meeting. \n\n\n\n    \n        \n            \n            \n                Saturday Morning Al-Anon Book Club\n                 1 file(s)  262.02 KB\n            \n            \n                Download\n            \n        \n    \n\n\n\n 
URL:https://mnsa-afg.org/event/saturday-morning-al-anon-book-study-zoom-only-19/
LOCATION:Zoom Meeting
CATEGORIES:Al-Anon
END:VEVENT
BEGIN:VEVENT
DTSTART;TZID=America/Chicago:20260620T110000
DTEND;TZID=America/Chicago:20260620T160000
DTSTAMP:20260422T075609
CREATED:20260411T164103Z
LAST-MODIFIED:20260411T164141Z
UID:8703-1781953200-1781971200@mnsa-afg.org
SUMMARY:Al-Anon 75th Anniversary Celebration for MNSA
DESCRIPTION:All MN South Area members and families welcome. \nPicnic and Potluck.  Bring your favorite dish to share\, yard game\, lawn chair\, BYOB\, & sunscreen.  Bring your swimsuits to swim. \n7th Tradition encouraged. \n\n\n\n    \n        \n            \n            \n                MNSA Al-Anon 75th Anniversary Celebration\n                 1 file(s)  4.50 MB\n            \n            \n                Download
URL:https://mnsa-afg.org/event/al-anon-75th-anniversary-celebration-for-mnsa/
LOCATION:Legion Park\, 155 South Park Lane\, Le Sueur\, MN\, United States
CATEGORIES:Al-Anon,Alateen,Friends & Family,Special Event
END:VEVENT
BEGIN:VEVENT
DTSTART;TZID=America/Chicago:20260620T174500
DTEND;TZID=America/Chicago:20260620T200000
DTSTAMP:20260422T075609
CREATED:20260414T120809Z
LAST-MODIFIED:20260414T121355Z
UID:8706-1781977500-1781985600@mnsa-afg.org
SUMMARY:Al-Anon/Alateen 75th Birthday Party
DESCRIPTION:Come celebrate the 75th Birthday Party of Al-Anon/Alateen with a Potluck.  Please bring appetizers\, meal\, or desserts.  Beverages will be provided.  Doors open after 5:45pm. \nSpeakers from Al-Anon\, A.A.\, and Alateen from 7-8pm. \nThe Al-Anon Bookstore will be open! \n  \n\n\n\n    \n        \n            \n            \n                Al-Anon/Alateen 75th Birthday Party 2026\n                 1 file(s)  1.07 MB\n            \n            \n                Download
URL:https://mnsa-afg.org/event/al-anon-alateen-75th-birthday-party/
LOCATION:The Recovery Church\, 253 State Street S.\, St. Paul\, MN\, 55107\, United States
CATEGORIES:Al-Anon,Alateen,Speaker Meeting,Special Event
END:VEVENT
BEGIN:VEVENT
DTSTART;TZID=America/Chicago:20260627T110000
DTEND;TZID=America/Chicago:20260627T120000
DTSTAMP:20260422T075609
CREATED:20250724T123049Z
LAST-MODIFIED:20260206T195202Z
UID:7977-1782558000-1782561600@mnsa-afg.org
SUMMARY:Saturday Morning Al-Anon Book Study (zoom only)
DESCRIPTION:Join us on the 2nd and 4th Saturday of each month for Al-Anon Book Study (open to all) from 11:00 am to 12:00 pm on Zoom. \nWe’re excited to announce that on Saturday\, September 13 we’ll be starting a new book: Discovering Choices: Our Recovery in Relationships. \nPlease contact d11afc@icloud.com for Zoom login info. \nNo need to have read the book before you attend. We just start reading and discussing wherever we’ve last left off\, focusing on a small selection of the book each meeting. \n\n\n\n    \n        \n            \n            \n                Saturday Morning Al-Anon Book Club\n                 1 file(s)  262.02 KB\n            \n            \n                Download\n            \n        \n    \n\n\n\n 
URL:https://mnsa-afg.org/event/saturday-morning-al-anon-book-study-zoom-only-20/
LOCATION:Zoom Meeting
CATEGORIES:Al-Anon
END:VEVENT
END:VCALENDAR