BEGIN:VCALENDAR
VERSION:2.0
PRODID:-//Minnesota South Area Al-Anon - ECPv6.15.20//NONSGML v1.0//EN
CALSCALE:GREGORIAN
METHOD:PUBLISH
X-ORIGINAL-URL:https://mnsa-afg.org
X-WR-CALDESC:Events for Minnesota South Area Al-Anon
REFRESH-INTERVAL;VALUE=DURATION:PT1H
X-Robots-Tag:noindex
X-PUBLISHED-TTL:PT1H
BEGIN:VTIMEZONE
TZID:America/Chicago
BEGIN:DAYLIGHT
TZOFFSETFROM:-0600
TZOFFSETTO:-0500
TZNAME:CDT
DTSTART:20250309T080000
END:DAYLIGHT
BEGIN:STANDARD
TZOFFSETFROM:-0500
TZOFFSETTO:-0600
TZNAME:CST
DTSTART:20251102T070000
END:STANDARD
BEGIN:DAYLIGHT
TZOFFSETFROM:-0600
TZOFFSETTO:-0500
TZNAME:CDT
DTSTART:20260308T080000
END:DAYLIGHT
BEGIN:STANDARD
TZOFFSETFROM:-0500
TZOFFSETTO:-0600
TZNAME:CST
DTSTART:20261101T070000
END:STANDARD
BEGIN:DAYLIGHT
TZOFFSETFROM:-0600
TZOFFSETTO:-0500
TZNAME:CDT
DTSTART:20270314T080000
END:DAYLIGHT
BEGIN:STANDARD
TZOFFSETFROM:-0500
TZOFFSETTO:-0600
TZNAME:CST
DTSTART:20271107T070000
END:STANDARD
END:VTIMEZONE
BEGIN:VEVENT
DTSTART;TZID=America/Chicago:20260314T110000
DTEND;TZID=America/Chicago:20260314T120000
DTSTAMP:20260422T063657
CREATED:20250724T122705Z
LAST-MODIFIED:20250724T123655Z
UID:7970-1773486000-1773489600@mnsa-afg.org
SUMMARY:Saturday Morning Al-Anon Book Study (zoom only)
DESCRIPTION:Join us on the 2nd and 4th Saturday of each month for Al-Anon Book Study (open to all) from 11:00 am to 12:00 pm on Zoom. \nWe’re excited to announce that on Saturday\, September 13 we’ll be starting a new book: Discovering Choices: Our Recovery in Relationships. \nPlease contact d11afc@icloud.com for Zoom login info. \nNo need to have read the book before you attend. We just start reading and discussing wherever we’ve last left off\, focusing on a small selection of the book each meeting. \n\n\n\n    \n        \n            \n            \n                Saturday Morning Al-Anon Book Club\n                 1 file(s)  262.02 KB\n            \n            \n                Download\n            \n        \n    \n\n\n\n 
URL:https://mnsa-afg.org/event/saturday-morning-al-anon-book-study-zoom-only-13/
LOCATION:Zoom Meeting
CATEGORIES:Al-Anon,Special Event
END:VEVENT
BEGIN:VEVENT
DTSTART;TZID=America/Chicago:20260321T074500
DTEND;TZID=America/Chicago:20260321T084500
DTSTAMP:20260422T063657
CREATED:20251018T134035Z
LAST-MODIFIED:20251018T134049Z
UID:8218-1774079100-1774082700@mnsa-afg.org
SUMMARY:District 4 Meeting (2026)
DESCRIPTION:For Group Reps and District Leaders in District 4. \nZoom Only \n813 4478 6715 \n\n\nPasscode: Grateful1\n\n\nNOTE-NO MEETING IN JUNE\, JULY\, AUGUST\, OR DECEMBER 2026
URL:https://mnsa-afg.org/event/district-4-meeting-2025-6/
LOCATION:Zoom Meeting
CATEGORIES:Al-Anon
END:VEVENT
BEGIN:VEVENT
DTSTART;TZID=America/Chicago:20260328T110000
DTEND;TZID=America/Chicago:20260328T120000
DTSTAMP:20260422T063657
CREATED:20250724T122741Z
LAST-MODIFIED:20250724T123649Z
UID:7971-1774695600-1774699200@mnsa-afg.org
SUMMARY:Saturday Morning Al-Anon Book Study (zoom only)
DESCRIPTION:Join us on the 2nd and 4th Saturday of each month for Al-Anon Book Study (open to all) from 11:00 am to 12:00 pm on Zoom. \nWe’re excited to announce that on Saturday\, September 13 we’ll be starting a new book: Discovering Choices: Our Recovery in Relationships. \nPlease contact d11afc@icloud.com for Zoom login info. \nNo need to have read the book before you attend. We just start reading and discussing wherever we’ve last left off\, focusing on a small selection of the book each meeting. \n\n\n\n    \n        \n            \n            \n                Saturday Morning Al-Anon Book Club\n                 1 file(s)  262.02 KB\n            \n            \n                Download\n            \n        \n    \n\n\n\n 
URL:https://mnsa-afg.org/event/saturday-morning-al-anon-book-study-zoom-only-14/
LOCATION:Zoom Meeting
CATEGORIES:Al-Anon,Special Event
END:VEVENT
END:VCALENDAR