BEGIN:VCALENDAR
VERSION:2.0
PRODID:-//Minnesota South Area Al-Anon - ECPv6.15.20//NONSGML v1.0//EN
CALSCALE:GREGORIAN
METHOD:PUBLISH
X-WR-CALNAME:Minnesota South Area Al-Anon
X-ORIGINAL-URL:https://mnsa-afg.org
X-WR-CALDESC:Events for Minnesota South Area Al-Anon
REFRESH-INTERVAL;VALUE=DURATION:PT1H
X-Robots-Tag:noindex
X-PUBLISHED-TTL:PT1H
BEGIN:VTIMEZONE
TZID:America/Chicago
BEGIN:DAYLIGHT
TZOFFSETFROM:-0600
TZOFFSETTO:-0500
TZNAME:CDT
DTSTART:20230312T080000
END:DAYLIGHT
BEGIN:STANDARD
TZOFFSETFROM:-0500
TZOFFSETTO:-0600
TZNAME:CST
DTSTART:20231105T070000
END:STANDARD
BEGIN:DAYLIGHT
TZOFFSETFROM:-0600
TZOFFSETTO:-0500
TZNAME:CDT
DTSTART:20240310T080000
END:DAYLIGHT
BEGIN:STANDARD
TZOFFSETFROM:-0500
TZOFFSETTO:-0600
TZNAME:CST
DTSTART:20241103T070000
END:STANDARD
BEGIN:DAYLIGHT
TZOFFSETFROM:-0600
TZOFFSETTO:-0500
TZNAME:CDT
DTSTART:20250309T080000
END:DAYLIGHT
BEGIN:STANDARD
TZOFFSETFROM:-0500
TZOFFSETTO:-0600
TZNAME:CST
DTSTART:20251102T070000
END:STANDARD
END:VTIMEZONE
BEGIN:VEVENT
DTSTART;VALUE=DATE:20240524
DTEND;VALUE=DATE:20240527
DTSTAMP:20260423T044840
CREATED:20231104T232522Z
LAST-MODIFIED:20240304T235547Z
UID:2627-1716508800-1716767999@mnsa-afg.org
SUMMARY:Gopher State Round-up 2024
DESCRIPTION:“Road to Recovery” \nGopher State Roundup is a special A.A. conference with Al-Anon participation. Gopher State Roundup is self-supporting. \nMore information at www.gopherstateroundup.org \n\n\n\n    \n        \n            \n            \n                Gopher State Roundup 2024 Flier\n                 1 file(s)  397.10 KB\n            \n            \n                Download
URL:https://mnsa-afg.org/event/gopher-state-round-up-2024/
LOCATION:Doubletree by Hilton Hotel\, 7800 Normandale Blvd\, Minneapolis\, MN\, 55439\, United States
CATEGORIES:Gopher State
END:VEVENT
END:VCALENDAR