BEGIN:VCALENDAR
VERSION:2.0
PRODID:-//Minnesota South Area Al-Anon - ECPv6.15.20//NONSGML v1.0//EN
CALSCALE:GREGORIAN
METHOD:PUBLISH
X-WR-CALNAME:Minnesota South Area Al-Anon
X-ORIGINAL-URL:https://mnsa-afg.org
X-WR-CALDESC:Events for Minnesota South Area Al-Anon
REFRESH-INTERVAL;VALUE=DURATION:PT1H
X-Robots-Tag:noindex
X-PUBLISHED-TTL:PT1H
BEGIN:VTIMEZONE
TZID:America/Chicago
BEGIN:DAYLIGHT
TZOFFSETFROM:-0600
TZOFFSETTO:-0500
TZNAME:CDT
DTSTART:20220313T080000
END:DAYLIGHT
BEGIN:STANDARD
TZOFFSETFROM:-0500
TZOFFSETTO:-0600
TZNAME:CST
DTSTART:20221106T070000
END:STANDARD
BEGIN:DAYLIGHT
TZOFFSETFROM:-0600
TZOFFSETTO:-0500
TZNAME:CDT
DTSTART:20230312T080000
END:DAYLIGHT
BEGIN:STANDARD
TZOFFSETFROM:-0500
TZOFFSETTO:-0600
TZNAME:CST
DTSTART:20231105T070000
END:STANDARD
BEGIN:DAYLIGHT
TZOFFSETFROM:-0600
TZOFFSETTO:-0500
TZNAME:CDT
DTSTART:20240310T080000
END:DAYLIGHT
BEGIN:STANDARD
TZOFFSETFROM:-0500
TZOFFSETTO:-0600
TZNAME:CST
DTSTART:20241103T070000
END:STANDARD
BEGIN:DAYLIGHT
TZOFFSETFROM:-0600
TZOFFSETTO:-0500
TZNAME:CDT
DTSTART:20250309T080000
END:DAYLIGHT
BEGIN:STANDARD
TZOFFSETFROM:-0500
TZOFFSETTO:-0600
TZNAME:CST
DTSTART:20251102T070000
END:STANDARD
BEGIN:DAYLIGHT
TZOFFSETFROM:-0600
TZOFFSETTO:-0500
TZNAME:CDT
DTSTART:20260308T080000
END:DAYLIGHT
BEGIN:STANDARD
TZOFFSETFROM:-0500
TZOFFSETTO:-0600
TZNAME:CST
DTSTART:20261101T070000
END:STANDARD
BEGIN:DAYLIGHT
TZOFFSETFROM:-0600
TZOFFSETTO:-0500
TZNAME:CDT
DTSTART:20270314T080000
END:DAYLIGHT
BEGIN:STANDARD
TZOFFSETFROM:-0500
TZOFFSETTO:-0600
TZNAME:CST
DTSTART:20271107T070000
END:STANDARD
END:VTIMEZONE
BEGIN:VEVENT
DTSTART;TZID=America/Chicago:20260411T090000
DTEND;TZID=America/Chicago:20260411T160000
DTSTAMP:20260423T093145
CREATED:20251103T141825Z
LAST-MODIFIED:20260315T224049Z
UID:8255-1775898000-1775923200@mnsa-afg.org
SUMMARY:Spring Assembly 2026
DESCRIPTION:Group representatives and area Al-Anon and Alateen members are welcome to attend.  Same day registration is available but snacks and lunch may be limited please RSVP by March 28 to help with preparations.  Registration form can be downloaded below. \nAgenda includes Alateen accounting and funding policy additions\, Folderol 2027 and AFG international conference. \nIn person registration is $15 and includes lunch a.m./p.m. snack snacks and beverage.   Cost for zoom attendees is $10. \n*Date Changed Due to Easter* \n\n\n\n    \n        \n            \n            \n                Spring 2026 assembly\n                 1 file(s)  2.24 MB\n            \n            \n                Download
URL:https://mnsa-afg.org/event/spring-assembly/
LOCATION:House of Hope\, 797 summit Ave\, St. Paul\, MN\, 55104\, United States
CATEGORIES:Assembly
END:VEVENT
BEGIN:VEVENT
DTSTART;TZID=America/Chicago:20251004T080000
DTEND;TZID=America/Chicago:20251004T160000
DTSTAMP:20260423T093145
CREATED:20241111T132851Z
LAST-MODIFIED:20250913T152910Z
UID:7348-1759564800-1759593600@mnsa-afg.org
SUMMARY:Fall Assembly (2025)
DESCRIPTION:Leaf your Worries Behind and join us at the Fall Assembly in Mankato\, MN. \nDoors open at 8am\, meeting starts promptly at 9am.  Meeting will be held in person with lunch ($10) or via zoom ($5) \nRegister by 9/24/25 (see attachment  for US Mail Registration or use electronic registration options below) \nElectronic registration should be mailed to district16afgmn@gmail.com with the following information \n\nName\nService Position (if applicable)\nDistrict #\nEmail\nMailing address\nPhone #\nZoomie or Roomie\n\nElectronic Payment to Zelle account: MNSA AFG Inc. mnsa.treas@yahoo.com \n  \n\n\n\n    \n        \n            \n            \n                Fall 2025 Assembly\n                 1 file(s)  177.53 KB\n            \n            \n                Download\n            \n        \n    \n\n\n\nDownload all documents and resources for the Fall Assembly from the Area Resources And Downloads page.
URL:https://mnsa-afg.org/event/fall-assembly-2025/
LOCATION:Hosanna Church\, 105 Hosanna Drive\, Mankato\, MN\, 56001\, United States
CATEGORIES:Al-Anon,Alateen,Assembly,Meeting Details
END:VEVENT
BEGIN:VEVENT
DTSTART;TZID=America/Chicago:20250405T080000
DTEND;TZID=America/Chicago:20250405T160000
DTSTAMP:20260423T093145
CREATED:20241111T132751Z
LAST-MODIFIED:20250401T141351Z
UID:7344-1743840000-1743868800@mnsa-afg.org
SUMMARY:Spring Assembly (2025)
DESCRIPTION:The Minnesota South Area 2025 Assembly is ZOOM ONLY this time!  It is free to all participants. \nRegister by March 30th using: https://form.jotform.com/250325457095155   Alternate registration methods can be found on the downloadable flyer. \nNew GR Orientation is from 8:15-9am.  The Main agenda will begin at 9am with the following items: Secretary Report\, Treasurer Report\, A Word from our Delegate\, DR reports\, Coordinator Reports and more. \nVisit the Resources and Downloads page to view all related documents for this event. \n\n\n\n    \n        \n            \n            \n                Spring Assembly 2025 Agenda\n                 1 file(s)  126.56 KB\n            \n            \n                Download\n            \n        \n    \n\n\n\n\n\n\n    \n        \n            \n            \n                2025 Spring Assembly\n                 1 file(s)  246.91 KB\n            \n            \n                Download\n            \n        \n    \n\n\n\n  \n 
URL:https://mnsa-afg.org/event/spring-assembly-2025/
LOCATION:Zoom Meeting
CATEGORIES:Assembly
ORGANIZER;CN="Minnesota South Area":MAILTO:mnsa.afg.info@gmail.com
END:VEVENT
BEGIN:VEVENT
DTSTART;TZID=America/Chicago:20241005T090000
DTEND;TZID=America/Chicago:20241005T170000
DTSTAMP:20260423T093146
CREATED:20231104T232612Z
LAST-MODIFIED:20240929T021740Z
UID:2631-1728118800-1728147600@mnsa-afg.org
SUMMARY:Fall Assembly 2024
DESCRIPTION:Doors Open at 8am \nAgenda: \nNew GR Orientation 8:15-8:45am \nMNSA Fall Assembly Starts at 9am \n\nSecretary Report\nTreasurer Report\nA word from our Delegate\nWorkshops including: Service Sponsorship\, Forum Writing\,\nCoordinator Reports\nDR Reports\nFellowship\n\nRSVP by September 25; see flyer for details \n$10 Zoom Registration\, $12 In person Registration (included lunch) \n\n\n\n    \n        \n            \n            \n                Fall 2024 Assembly\n                 1 file(s)  35.91 KB\n            \n            \n                Download\n            \n        \n    \n\n\n\n\n\n\n    \n        \n            \n            \n                2024 Fall Assembly Agenda\n                 1 file(s)  123.93 KB\n            \n            \n                Download\n            \n        \n    \n\n\n\nVisit the Resources and Downloads page to view all related documents for this event.
URL:https://mnsa-afg.org/event/fall-assembly-2024/
LOCATION:Light of Christ Lutheran Church\, 3976 County Line Road SE\, Delano\, MN\, 55328\, United States
CATEGORIES:Assembly
ORGANIZER;CN="Al -Anon District 10":MAILTO:mnsouthdistrict10@gmail.com
END:VEVENT
BEGIN:VEVENT
DTSTART;TZID=America/Chicago:20240406T090000
DTEND;TZID=America/Chicago:20240406T160000
DTSTAMP:20260423T093146
CREATED:20231104T232456Z
LAST-MODIFIED:20240405T171912Z
UID:2625-1712394000-1712419200@mnsa-afg.org
SUMMARY:Spring Assembly 2024
DESCRIPTION:SPRINGing Forward to “Do More in ’24”\nIn-Person & Zoom Pre-Registration Deadline: March 29th\, 2024\nPre-registration is required for those attending on Zoom and preferred for those attending in person.\nZoom login information will be emailed to pre-registered Zoom attendees.\n \nAl-Anon: $10\nAlateen: $0 \nSchedule:\n8 AM: Registration Opens\n8:15 AM: New GR Orientation\n9 AM – 4 PM Meeting \n(Event is offered on Zoom and in person)\nIn person members: bring bag lunch and water bottle. Coffee\, water\, and snacks are donated by District 11 for the in-person event. \nVisit the Resources and Downloads page for the latest documents and agenda. \nRegistration:\nPay With Zelle: Send payment to Minnesota South Area Afg Inc\nLearn more about Zelle and how to use it: https://www.zellepay.com/how-it-works \nPay With Check: Include check with printed registration form and mail to:\nMNSA District 11\n7701 Golden Valley Road #270631\nGolden Valley\, MN 55427.\nMake Checks Out To: “District 11 -Spring Assembly” \nQuestions\, email: mtkaserenes@gmail.com \n﻿  \n\n\n\n    \n        \n            \n            \n                Spring Assembly 2024 Printed Registration Form\n                 1 file(s)  94.50 KB\n            \n            \n                Download\n            \n        \n    \n\n\n\n\n\n\n    \n        \n            \n            \n                Spring Assembly 2024 Flyer\n                 1 file(s)  280.14 KB\n            \n            \n                Download
URL:https://mnsa-afg.org/event/spring-assembly-2024/
LOCATION:Shorewood Community Center\, 5735 Country Club Road\, Shorewood\, MN\, 55331\, United States
CATEGORIES:Assembly
END:VEVENT
BEGIN:VEVENT
DTSTART;TZID=America/Chicago:20231001T090000
DTEND;TZID=America/Chicago:20231001T160000
DTSTAMP:20260423T093146
CREATED:20230428T134612Z
LAST-MODIFIED:20240413T013328Z
UID:825-1696150800-1696176000@mnsa-afg.org
SUMMARY:Minnesota South Area Fall Assembly
DESCRIPTION:The Minnesota South Area Fall Assembly is scheduled for October 1\, 2022. This event brings together members of the Al-Anon community from across the Minnesota South Area to discuss the business and affairs of the organization. Attendees will have the opportunity to participate in group discussions\, hear reports from various service committees\, and make decisions about the future of the area. The Fall Assembly is an important event for members who are interested in getting involved in service work and shaping the direction of the Al-Anon program in the Minnesota South Area. \nPlease RSVP NOW! Or\, by September 29th. – Details\, information\, and downloads\nwill be available on the Area Website by September 30th! \n  \nFlyer and Registration Details\n\n\n\n    \n        \n            \n            \n                Fall Assembly Meeting Flyer\n                 1 file(s)  232.61 KB\n            \n            \n                Download\n            \n        \n    \n\n\n\n  \nGeneral Documents\n\n\n\n    \n        \n            \n            \n                Fall Assembly Agenda\n                 1 file(s)  189.13 KB\n            \n            \n                Download\n            \n        \n    \n\n\n\n\n\n\n    \n        \n            \n            \n                Spring Assembly Agenda\n                 1 file(s)  166.30 KB\n            \n            \n                Download\n            \n        \n    \n\n\n\n\n\n\n    \n        \n            \n            \n                MNSA Financials as of August 31\, 2022\n                 1 file(s)  2.57 MB\n            \n            \n                Download\n            \n        \n    \n\n\n\n\n\n\n    \n        \n            \n            \n                Website Redesign Overview October 1\, 2022\n                 1 file(s)  84.50 KB\n            \n            \n                Download\n            \n        \n    \n\n\n\n  \nGRs\n\n\n\n    \n        \n            \n            \n                GR Training PPT\n                 1 file(s)  2.25 MB\n            \n            \n                Download\n            \n        \n    \n\n\n\n\n\n\n    \n        \n            \n            \n                GR Orientation\n                 1 file(s)  6.58 MB\n            \n            \n                Download\n            \n        \n    \n\n\n\n\n\n\n    \n        \n            \n            \n                MNSA Policy and Procedure Manual\n                 1 file(s)  151.00 KB\n            \n            \n                Download
URL:https://mnsa-afg.org/event/minnesota-south-area-fall-assembly/
LOCATION:Zoom Meeting
CATEGORIES:Al-Anon,Assembly
ORGANIZER;CN="Minnesota South Area":MAILTO:mnsa.afg.info@gmail.com
END:VEVENT
END:VCALENDAR